Redis-Fast v0.28 Perl 5 v5.30.2 armv7l-linux-thread-multi

Status
Pass
From
Nigel Horne
Dist
Redis-Fast v0.28
Platform
Perl 5 v5.30.2 armv7l-linux-thread-multi
Date
2020-11-01 23:52:22
ID
49385bcc-1c9d-11eb-b9db-b6c7a8faccfa
This distribution has been tested as part of the CPAN Testers
project, supporting the Perl programming language.  See
http://wiki.cpantesters.org/ for more information or email
questions to cpan-testers-discuss@perl.org


--
Dear Shogo Ichinose,

This is a computer-generated report for Redis-Fast-0.28
on perl 5.30.2, created by CPAN-Reporter-1.2018.

Thank you for uploading your work to CPAN.  Congratulations!
All tests were successful.

Sections of this report:

    * Tester comments
    * Program output
    * Prerequisites
    * Environment and other context

------------------------------
TESTER COMMENTS
------------------------------

Additional comments from tester:

this report is from an automated smoke testing program
and was not reviewed by a human for accuracy

------------------------------
PROGRAM OUTPUT
------------------------------

Output from './Build test':

t/01-basic.t ............... skipped: Could not find binary redis-server
t/03-pubsub.t .............. skipped: Could not find binary redis-server
t/05-nonblock.t ............ skipped: not needed, tested by hiredis
t/04-pipeline.t ............ skipped: Could not find binary redis-server
t/02-responses.t ........... ok
t/06-on-connect.t .......... skipped: Could not find binary redis-server
t/07-reconnect-on-error.t .. skipped: Could not find binary redis-server
t/07-reconnect.t ........... skipped: Could not find binary redis-server
t/08-unix-socket.t ......... skipped: Define ENV TEST_REDIS_SERVER_SOCK_PATH to test UNIX socket support
t/10-tie-list.t ............ skipped: Could not find binary redis-server
t/09-env-redis-server.t .... skipped: Could not find binary redis-server
t/20-tie-hash.t ............ skipped: Could not find binary redis-server
t/30-scripts.t ............. skipped: Could not find binary redis-server
t/11-timeout.t ............. ok
t/42-client_cmds.t ......... skipped: Could not find binary redis-server
t/44-no-unicode-bug.t ...... skipped: Could not find binary redis-server
t/50-fork_safe.t ........... skipped: Could not find binary redis-server
t/51-leak.t ................ skipped: Could not find binary redis-server
t/53-blpop_and_timeout.t ... skipped: Could not find binary redis-server
t/53-blpop.t ............... skipped: Could not find binary redis-server
t/53-fail-to-connect.t ..... ok
t/53-deep-recursion.t ...... skipped: Could not find binary redis-server
t/53-password.t ............ skipped: Could not find binary redis-server
t/53-signal.t .............. skipped: Could not find binary redis-server
# shutting down sentinel2
# shutting down sentinel
# shutting down redis
t/60-sentinel.t ............ skipped: Could not find binary redis-server
t/53-timeout-length.t ...... skipped: Could not find binary redis-server
All tests successful.
Files=26, Tests=26,  7 wallclock secs ( 0.18 usr  0.14 sys + 13.41 cusr  6.70 csys = 20.43 CPU)
Result: PASS

------------------------------
PREREQUISITES
------------------------------

Prerequisite modules loaded:

requires:

    Module                Need     Have    
    --------------------- -------- --------
    perl                  5.008001 5.030002
    Time::HiRes           0        1.9760  
    Try::Tiny             0        0.30    

build_requires:

    Module                Need     Have    
    --------------------- -------- --------
    Digest::SHA           0        6.02    
    ExtUtils::CBuilder    0        0.280231
    File::Temp            0        0.2309  
    Parallel::ForkManager 0        2.02    
    Test::Deep            0        1.130   
    Test::Fatal           0        0.014   
    Test::LeakTrace       0        0.16    
    Test::More            0.98     1.302162
    Test::SharedFork      0        0.35    
    Test::TCP             0        2.22    
    Test::UNIXSock        0        0.4     

configure_requires:

    Module                Need     Have    
    --------------------- -------- --------
    File::Which           0        1.23    
    Module::Build         0.4005   0.4231  
    Module::Build::XSUtil 0.02     0.19    


------------------------------
ENVIRONMENT AND OTHER CONTEXT
------------------------------

Environment variables:

    AUTOMATED_TESTING = 1
    HARNESS_OPTIONS = j4
    NONINTERACTIVE_TESTING = 1
    PATH = /home/smoker/perl5/perlbrew/bin:/home/smoker/perl5/perlbrew/perls/perl-5.30.2-thread/bin:/usr/local/sbin:/usr/local/bin:/usr/sbin:/usr/bin:/sbin:/bin
    PERL5LIB = /tmp/build/Test-UNIXSock-0.4-0/blib/arch:/tmp/build/Test-UNIXSock-0.4-0/blib/lib:/tmp/build/Test-TCP-2.22-0/blib/arch:/tmp/build/Test-TCP-2.22-0/blib/lib:/tmp/build/Test-SharedFork-0.35-0/blib/arch:/tmp/build/Test-SharedFork-0.35-0/blib/lib:/tmp/build/Test-LeakTrace-0.16-0/blib/arch:/tmp/build/Test-LeakTrace-0.16-0/blib/lib:/tmp/build/Parallel-ForkManager-2.02-0/blib/arch:/tmp/build/Parallel-ForkManager-2.02-0/blib/lib:/tmp/build/Test-Warn-0.36-0/blib/arch:/tmp/build/Test-Warn-0.36-0/blib/lib:/tmp/build/Moo-2.004000-0/blib/arch:/tmp/build/Moo-2.004000-0/blib/lib:/tmp/build/Sub-Quote-2.006006-0/blib/arch:/tmp/build/Sub-Quote-2.006006-0/blib/lib:/tmp/build/Role-Tiny-2.001004-0/blib/arch:/tmp/build/Role-Tiny-2.001004-0/blib/lib:/tmp/build/Class-Method-Modifiers-2.13-0/blib/arch:/tmp/build/Class-Method-Modifiers-2.13-0/blib/lib:/tmp/build/Module-Build-XSUtil-0.19-0/blib/arch:/tmp/build/Module-Build-XSUtil-0.19-0/blib/lib:/tmp/build/File-Copy-Recursive-Reduced-0.006-0/blib/arch:/tmp/build/File-Copy-Recursive-Reduced-0.006-0/blib/lib:/tmp/build/Devel-CheckCompiler-0.07-0/blib/arch:/tmp/build/Devel-CheckCompiler-0.07-0/blib/lib:/tmp/build/Cwd-Guard-0.05-0/blib/arch:/tmp/build/Cwd-Guard-0.05-0/blib/lib
    PERL5OPT = 
    PERL5_CPANPLUS_IS_RUNNING = 10474
    PERL5_CPAN_IS_RUNNING = 10474
    PERLBREW_HOME = /home/smoker/.perlbrew
    PERLBREW_MANPATH = /home/smoker/perl5/perlbrew/perls/perl-5.30.2-thread/man
    PERLBREW_PATH = /home/smoker/perl5/perlbrew/bin:/home/smoker/perl5/perlbrew/perls/perl-5.30.2-thread/bin
    PERLBREW_PERL = perl-5.30.2-thread
    PERLBREW_ROOT = /home/smoker/perl5/perlbrew
    PERLBREW_SHELLRC_VERSION = 0.88
    PERLBREW_VERSION = 0.88
    PERL_MM_USE_DEFAULT = 1
    PERL_USE_UNSAFE_INC = 1
    SHELL = /bin/bash
    TERM = xterm
    TMPDIR = /tmp/testwrapper.10463

Perl special variables (and OS-specific diagnostics, for MSWin32):

    $^X = /home/smoker/perl5/perlbrew/perls/perl-5.30.2-thread/bin/perl5.30.2
    $UID/$EUID = 1000 / 1000
    $GID = 1000
    $EGID = 1000

Perl module toolchain versions installed:

    Module              Have    
    ------------------- --------
    CPAN                2.27    
    CPAN::Meta          2.150010
    Cwd                 3.78    
    ExtUtils::CBuilder  0.280231
    ExtUtils::Command   7.44    
    ExtUtils::Install   2.14    
    ExtUtils::MakeMaker 7.44    
    ExtUtils::Manifest  1.72    
    ExtUtils::ParseXS   3.40    
    File::Spec          3.78    
    JSON                4.02    
    JSON::PP            4.02    
    Module::Build       0.4231  
    Module::Signature   n/a     
    Parse::CPAN::Meta   2.150010
    Test::Harness       3.42    
    Test::More          1.302162
    YAML                1.30    
    YAML::Syck          1.32    
    version             0.9924  


--

Summary of my perl5 (revision 5 version 30 subversion 2) configuration:
   
  Platform:
    osname=linux
    osvers=4.19.97-v7l+
    archname=armv7l-linux-thread-multi
    uname='linux b9a8560151d5 4.19.97-v7l+ #1294 smp thu jan 30 13:21:14 gmt 2020 armv7l gnulinux '
    config_args='-de -Dprefix=/home/smoker/perl5/perlbrew/perls/perl-5.30.2-thread -Dusedevel -Dusethreads -Accflags=-O2 -pipe -Wall -Wextra -mtune=native -march=native -Aeval:scriptdir=/home/smoker/perl5/perlbrew/perls/perl-5.30.2-thread/bin'
    hint=recommended
    useposix=true
    d_sigaction=define
    useithreads=define
    usemultiplicity=define
    use64bitint=undef
    use64bitall=undef
    uselongdouble=undef
    usemymalloc=n
    default_inc_excludes_dot=define
    bincompat5005=undef
  Compiler:
    cc='cc'
    ccflags ='-D_REENTRANT -D_GNU_SOURCE -O2 -pipe -Wall -Wextra -mtune=native -march=native -fwrapv -fno-strict-aliasing -fstack-protector-strong -I/usr/local/include -D_LARGEFILE_SOURCE -D_FILE_OFFSET_BITS=64 -D_FORTIFY_SOURCE=2'
    optimize='-O2'
    cppflags='-D_REENTRANT -D_GNU_SOURCE -O2 -pipe -Wall -Wextra -mtune=native -march=native -fwrapv -fno-strict-aliasing -fstack-protector-strong -I/usr/local/include'
    ccversion=''
    gccversion='8.3.0'
    gccosandvers=''
    intsize=4
    longsize=4
    ptrsize=4
    doublesize=8
    byteorder=1234
    doublekind=3
    d_longlong=define
    longlongsize=8
    d_longdbl=define
    longdblsize=8
    longdblkind=0
    ivtype='long'
    ivsize=4
    nvtype='double'
    nvsize=8
    Off_t='off_t'
    lseeksize=8
    alignbytes=8
    prototype=define
  Linker and Libraries:
    ld='cc'
    ldflags =' -fstack-protector-strong -L/usr/local/lib'
    libpth=/usr/local/lib /usr/lib/gcc/arm-linux-gnueabihf/8/include-fixed /usr/include/arm-linux-gnueabihf /usr/lib /lib/arm-linux-gnueabihf /lib /usr/lib/arm-linux-gnueabihf
    libs=-lpthread -lnsl -ldl -lm -lcrypt -lutil -lc
    perllibs=-lpthread -lnsl -ldl -lm -lcrypt -lutil -lc
    libc=libc-2.28.so
    so=so
    useshrplib=false
    libperl=libperl.a
    gnulibc_version='2.28'
  Dynamic Linking:
    dlsrc=dl_dlopen.xs
    dlext=so
    d_dlsymun=undef
    ccdlflags='-Wl,-E'
    cccdlflags='-fPIC'
    lddlflags='-shared -O2 -L/usr/local/lib -fstack-protector-strong'


Characteristics of this binary (from libperl): 
  Compile-time options:
    HAS_TIMES
    MULTIPLICITY
    PERLIO_LAYERS
    PERL_COPY_ON_WRITE
    PERL_DONT_CREATE_GVSV
    PERL_IMPLICIT_CONTEXT
    PERL_MALLOC_WRAP
    PERL_OP_PARENT
    PERL_PRESERVE_IVUV
    PERL_USE_DEVEL
    USE_ITHREADS
    USE_LARGE_FILES
    USE_LOCALE
    USE_LOCALE_COLLATE
    USE_LOCALE_CTYPE
    USE_LOCALE_NUMERIC
    USE_LOCALE_TIME
    USE_PERLIO
    USE_PERL_ATOF
    USE_REENTRANT_API
    USE_THREAD_SAFE_LOCALE
  Locally applied patches:
    Devel::PatchPerl 1.90
  Built under linux
  Compiled at Apr 16 2020 02:34:30
  %ENV:
    PERL5LIB="/tmp/build/Test-UNIXSock-0.4-0/blib/arch:/tmp/build/Test-UNIXSock-0.4-0/blib/lib:/tmp/build/Test-TCP-2.22-0/blib/arch:/tmp/build/Test-TCP-2.22-0/blib/lib:/tmp/build/Test-SharedFork-0.35-0/blib/arch:/tmp/build/Test-SharedFork-0.35-0/blib/lib:/tmp/build/Test-LeakTrace-0.16-0/blib/arch:/tmp/build/Test-LeakTrace-0.16-0/blib/lib:/tmp/build/Parallel-ForkManager-2.02-0/blib/arch:/tmp/build/Parallel-ForkManager-2.02-0/blib/lib:/tmp/build/Test-Warn-0.36-0/blib/arch:/tmp/build/Test-Warn-0.36-0/blib/lib:/tmp/build/Moo-2.004000-0/blib/arch:/tmp/build/Moo-2.004000-0/blib/lib:/tmp/build/Sub-Quote-2.006006-0/blib/arch:/tmp/build/Sub-Quote-2.006006-0/blib/lib:/tmp/build/Role-Tiny-2.001004-0/blib/arch:/tmp/build/Role-Tiny-2.001004-0/blib/lib:/tmp/build/Class-Method-Modifiers-2.13-0/blib/arch:/tmp/build/Class-Method-Modifiers-2.13-0/blib/lib:/tmp/build/Module-Build-XSUtil-0.19-0/blib/arch:/tmp/build/Module-Build-XSUtil-0.19-0/blib/lib:/tmp/build/File-Copy-Recursive-Reduced-0.006-0/blib/arch:/tmp/build/File-Copy-Recursive-Reduced-0.006-0/blib/lib:/tmp/build/Devel-CheckCompiler-0.07-0/blib/arch:/tmp/build/Devel-CheckCompiler-0.07-0/blib/lib:/tmp/build/Cwd-Guard-0.05-0/blib/arch:/tmp/build/Cwd-Guard-0.05-0/blib/lib"
    PERL5OPT=""
    PERL5_CPANPLUS_IS_RUNNING="10474"
    PERL5_CPAN_IS_RUNNING="10474"
    PERLBREW_HOME="/home/smoker/.perlbrew"
    PERLBREW_MANPATH="/home/smoker/perl5/perlbrew/perls/perl-5.30.2-thread/man"
    PERLBREW_PATH="/home/smoker/perl5/perlbrew/bin:/home/smoker/perl5/perlbrew/perls/perl-5.30.2-thread/bin"
    PERLBREW_PERL="perl-5.30.2-thread"
    PERLBREW_ROOT="/home/smoker/perl5/perlbrew"
    PERLBREW_SHELLRC_VERSION="0.88"
    PERLBREW_VERSION="0.88"
    PERL_MM_USE_DEFAULT="1"
    PERL_USE_UNSAFE_INC="1"
  @INC:
    /tmp/build/Test-UNIXSock-0.4-0/blib/arch
    /tmp/build/Test-UNIXSock-0.4-0/blib/lib
    /tmp/build/Test-TCP-2.22-0/blib/arch
    /tmp/build/Test-TCP-2.22-0/blib/lib
    /tmp/build/Test-SharedFork-0.35-0/blib/arch
    /tmp/build/Test-SharedFork-0.35-0/blib/lib
    /tmp/build/Test-LeakTrace-0.16-0/blib/arch
    /tmp/build/Test-LeakTrace-0.16-0/blib/lib
    /tmp/build/Parallel-ForkManager-2.02-0/blib/arch
    /tmp/build/Parallel-ForkManager-2.02-0/blib/lib
    /tmp/build/Test-Warn-0.36-0/blib/arch
    /tmp/build/Test-Warn-0.36-0/blib/lib
    /tmp/build/Moo-2.004000-0/blib/arch
    /tmp/build/Moo-2.004000-0/blib/lib
    /tmp/build/Sub-Quote-2.006006-0/blib/arch
    /tmp/build/Sub-Quote-2.006006-0/blib/lib
    /tmp/build/Role-Tiny-2.001004-0/blib/arch
    /tmp/build/Role-Tiny-2.001004-0/blib/lib
    /tmp/build/Class-Method-Modifiers-2.13-0/blib/arch
    /tmp/build/Class-Method-Modifiers-2.13-0/blib/lib
    /tmp/build/Module-Build-XSUtil-0.19-0/blib/arch
    /tmp/build/Module-Build-XSUtil-0.19-0/blib/lib
    /tmp/build/File-Copy-Recursive-Reduced-0.006-0/blib/arch
    /tmp/build/File-Copy-Recursive-Reduced-0.006-0/blib/lib
    /tmp/build/Devel-CheckCompiler-0.07-0/blib/arch
    /tmp/build/Devel-CheckCompiler-0.07-0/blib/lib
    /tmp/build/Cwd-Guard-0.05-0/blib/arch
    /tmp/build/Cwd-Guard-0.05-0/blib/lib
    /home/smoker/perl5/perlbrew/perls/perl-5.30.2-thread/lib/site_perl/5.30.2/armv7l-linux-thread-multi
    /home/smoker/perl5/perlbrew/perls/perl-5.30.2-thread/lib/site_perl/5.30.2
    /home/smoker/perl5/perlbrew/perls/perl-5.30.2-thread/lib/5.30.2/armv7l-linux-thread-multi
    /home/smoker/perl5/perlbrew/perls/perl-5.30.2-thread/lib/5.30.2
    .