Report for Dist-Zilla-Plugin-CheckIssues-0.009

Back
From: metabase:user:314402c4-2aae-11df-837a-5e0a49663a4f
Subject: PASS Dist-Zilla-Plugin-CheckIssues-0.009 v5.22.1 RC4 FreeBSD
Date: 2015-12-09T04:14:06Z

This distribution has been tested as part of the CPAN Testers
project, supporting the Perl programming language.  See
http://wiki.cpantesters.org/ for more information or email
questions to cpan-testers-discuss@perl.org


--
Dear Karen Etheridge,

This is a computer-generated report for Dist-Zilla-Plugin-CheckIssues-0.009
on perl 5.22.1, created by CPAN-Reporter-1.2015.

Thank you for uploading your work to CPAN.  Congratulations!
All tests were successful.

Sections of this report:

    * Tester comments
    * Program output
    * Prerequisites
    * Environment and other context

------------------------------
TESTER COMMENTS
------------------------------

Additional comments from tester:

none provided

------------------------------
PROGRAM OUTPUT
------------------------------

Output from '/usr/bin/make test':

PERL_DL_NONLAZY=1 "/usr/perl5.22.1-RC4p/bin/perl" "-MExtUtils::Command::MM" "-MTest::Harness" "-e" "undef *Test::Harness::Switches; test_harness(0, 'blib/lib', 'blib/arch')" t/*.t
# 
# Versions for all modules listed in MYMETA.json (including optional ones):
# 
# === Configure Requires ===
# 
#     Module                       Want     Have
#     ------------------------ -------- --------
#     CPAN::Meta::Requirements 2.120620    2.132
#     ExtUtils::MakeMaker           any  7.04_01
#     Module::Metadata              any 1.000026
# 
# === Build Requires ===
# 
#     Module              Want    Have
#     ------------------- ---- -------
#     ExtUtils::MakeMaker  any 7.04_01
# 
# === Test Requires ===
# 
#     Module                          Want     Have
#     ------------------------------- ---- --------
#     Dist::Zilla::App::Tester         any    5.042
#     Dist::Zilla::Role::MetaProvider  any    5.042
#     ExtUtils::MakeMaker              any  7.04_01
#     File::Spec                       any     3.56
#     File::pushd                      any    1.009
#     Moose::Util                      any   2.1604
#     Path::Tiny                       any    0.076
#     Test::DZil                       any    5.042
#     Test::Deep                       any    1.120
#     Test::Fatal                      any    0.014
#     Test::More                      0.88 1.001014
#     if                               any   0.0604
#     lib                              any     0.63
# 
# === Test Recommends ===
# 
#     Module         Want     Have
#     ---------- -------- --------
#     CPAN::Meta 2.120900 2.150001
# 
# === Runtime Requires ===
# 
#     Module                               Want     Have
#     -------------------------------- -------- --------
#     Dist::Zilla::App                      any    5.042
#     Dist::Zilla::Role::BeforeRelease      any    5.042
#     Encode                                any     2.72
#     HTTP::Headers                         any     6.11
#     HTTP::Tiny                            any    0.054
#     JSON::MaybeXS                    1.001000 1.003005
#     List::Util                           1.33     1.41
#     Moose                                 any   2.1604
#     Term::ANSIColor                      3.00     4.03
#     namespace::autoclean                  any     0.28
#     strict                                any     1.09
#     warnings                              any     1.34
# 
# === Other Modules ===
# 
#     Module           Have
#     ------------- -------
#     App::Cmd        0.330
#     Log::Dispatch    2.51
#     Pod::Coverage missing
# 
t/00-report-prereqs.t .. ok
t/01-basic.t ........... ok
t/02-no-rt.t ........... ok
t/03-no-repo.t ......... ok
t/04-command.t ......... ok
t/zzz-check-breaks.t ... ok
All tests successful.
Files=6, Tests=19, 16 wallclock secs ( 0.07 usr  0.02 sys + 14.74 cusr  0.94 csys = 15.77 CPU)
Result: PASS

------------------------------
PREREQUISITES
------------------------------

Prerequisite modules loaded:

requires:

    Module                           Need     Have    
    -------------------------------- -------- --------
    Dist::Zilla::App                 0        5.042   
    Dist::Zilla::Role::BeforeRelease 0        5.042   
    Encode                           0        2.72    
    HTTP::Headers                    0        6.11    
    HTTP::Tiny                       0        0.054   
    JSON::MaybeXS                    1.001000 1.003005
    List::Util                       1.33     1.41    
    Moose                            0        2.1604  
    namespace::autoclean             0        0.28    
    perl                             5.006    5.022001
    strict                           0        1.09    
    Term::ANSIColor                  3.00     4.03    
    warnings                         0        1.34    

build_requires:

    Module                           Need     Have    
    -------------------------------- -------- --------
    Dist::Zilla::App::Tester         0        5.042   
    Dist::Zilla::Role::MetaProvider  0        5.042   
    ExtUtils::MakeMaker              0        7.04_01 
    File::pushd                      0        1.009   
    File::Spec                       0        3.56    
    if                               0        0.0604  
    lib                              0        0.63    
    Moose::Util                      0        2.1604  
    Path::Tiny                       0        0.076   
    Test::Deep                       0        1.120   
    Test::DZil                       0        5.042   
    Test::Fatal                      0        0.014   
    Test::More                       0.88     1.001014

configure_requires:

    Module                           Need     Have    
    -------------------------------- -------- --------
    CPAN::Meta::Requirements         2.120620 2.132   
    ExtUtils::MakeMaker              0        7.04_01 
    Module::Metadata                 0        1.000026
    perl                             5.006    5.022001


------------------------------
ENVIRONMENT AND OTHER CONTEXT
------------------------------

Environment variables:

    LC_ALL = de_DE.ISO8859-1
    PATH = /usr/local/bin:/usr/bin:/bin:/usr/local/sbin:/usr/sbin:/sbin:/home/cpansand/bin/freebsd10.1:/home/cpansand/bin/sh:/home/cpansand/bin:/usr/games:/home/cpansand/devel:/home/eserte/src/srezic-misc/scripts
    PERL = /usr/perl5.22.1-RC4p/bin/perl
    PERL5LIB = 
    PERL5OPT = 
    PERL5_CPANPLUS_IS_RUNNING = 6359
    PERL5_CPAN_IS_RUNNING = 6359
    PERL5_CPAN_IS_RUNNING_IN_RECURSION = 6344,6359
    PERLDOC = -MPod::Perldoc::ToTextOverstrike
    PERL_BATCH = yes
    PERL_CANARY_STABILITY_NOPROMPT = 1
    PERL_CPAN_REPORTER_CONFIG = /var/tmp/cpansmoker-1023/2015120900/cpanreporter_000_config.ini
    PERL_EXTUTILS_AUTOINSTALL = --defaultdeps
    SHELL = /usr/local/bin/zsh
    TERM = screen
    TMPDIR = /var/tmp/cpansmoker-1023/2015120900

Perl special variables (and OS-specific diagnostics, for MSWin32):

    $^X = /usr/perl5.22.1-RC4p/bin/perl
    $UID/$EUID = 1023 / 1023
    $GID = 1023 1023
    $EGID = 1023 1023

Perl module toolchain versions installed:

    Module              Have    
    ------------------- --------
    CPAN                2.11    
    CPAN::Meta          2.150001
    Cwd                 3.56    
    ExtUtils::CBuilder  0.280221
    ExtUtils::Command   1.20    
    ExtUtils::Install   2.04    
    ExtUtils::MakeMaker 7.04_01 
    ExtUtils::Manifest  1.70    
    ExtUtils::ParseXS   3.28    
    File::Spec          3.56    
    JSON                2.90    
    JSON::PP            2.27300 
    Module::Build       0.4214  
    Module::Signature   n/a     
    Parse::CPAN::Meta   1.4414  
    Test::Harness       3.35    
    Test::More          1.001014
    YAML                1.15    
    YAML::Syck          1.29    
    version             0.9909  


--

Summary of my perl5 (revision 5 version 22 subversion 1) configuration:
   
  Platform:
    osname=freebsd, osvers=10.1-release, archname=amd64-freebsd
    uname='freebsd cvrsnica-freebsd-101.herceg.de 10.1-release freebsd 10.1-release #0 r274401: tue nov 11 21:02:49 utc 2014 root@releng1.nyi.freebsd.org:usrobjusrsrcsysgeneric amd64 '
    config_args='-ds -e -Dprefix=/usr/perl5.22.1-RC4p -Dcf_email=srezic@cpan.org'
    hint=recommended, useposix=true, d_sigaction=define
    useithreads=undef, usemultiplicity=undef
    use64bitint=define, use64bitall=define, uselongdouble=undef
    usemymalloc=n, bincompat5005=undef
  Compiler:
    cc='cc', ccflags ='-DHAS_FPSETMASK -DHAS_FLOATINGPOINT_H -fno-strict-aliasing -pipe -fstack-protector -I/usr/local/include -D_FORTIFY_SOURCE=2',
    optimize='-O',
    cppflags='-DHAS_FPSETMASK -DHAS_FLOATINGPOINT_H -fno-strict-aliasing -pipe -fstack-protector -I/usr/local/include'
    ccversion='', gccversion='4.2.1 Compatible FreeBSD Clang 3.4.1 (tags/RELEASE_34/dot1-final 208032)', gccosandvers=''
    intsize=4, longsize=8, ptrsize=8, doublesize=8, byteorder=12345678, doublekind=3
    d_longlong=define, longlongsize=8, d_longdbl=define, longdblsize=16, longdblkind=3
    ivtype='long', ivsize=8, nvtype='double', nvsize=8, Off_t='off_t', lseeksize=8
    alignbytes=8, prototype=define
  Linker and Libraries:
    ld='cc', ldflags ='-pthread -Wl,-E  -fstack-protector -L/usr/local/lib'
    libpth=/usr/lib /usr/local/lib /usr/include/clang/3.4.1 /usr/lib
    libs=-lpthread -lgdbm -lm -lcrypt -lutil -lc
    perllibs=-lpthread -lm -lcrypt -lutil -lc
    libc=, so=so, useshrplib=false, libperl=libperl.a
    gnulibc_version=''
  Dynamic Linking:
    dlsrc=dl_dlopen.xs, dlext=so, d_dlsymun=undef, ccdlflags=' '
    cccdlflags='-DPIC -fPIC', lddlflags='-shared  -L/usr/local/lib -fstack-protector'


Characteristics of this binary (from libperl): 
  Compile-time options: HAS_TIMES PERLIO_LAYERS PERL_DONT_CREATE_GVSV
                        PERL_HASH_FUNC_ONE_AT_A_TIME_HARD PERL_MALLOC_WRAP
                        PERL_NEW_COPY_ON_WRITE PERL_PRESERVE_IVUV
                        USE_64_BIT_ALL USE_64_BIT_INT USE_LARGE_FILES
                        USE_LOCALE USE_LOCALE_COLLATE USE_LOCALE_CTYPE
                        USE_LOCALE_NUMERIC USE_LOCALE_TIME USE_PERLIO
                        USE_PERL_ATOF
  Locally applied patches:
	RC4
  Built under freebsd
  Compiled at Dec  8 2015 23:00:17
  %ENV:
    PERL="/usr/perl5.22.1-RC4p/bin/perl"
    PERL5LIB=""
    PERL5OPT=""
    PERL5_CPANPLUS_IS_RUNNING="6359"
    PERL5_CPAN_IS_RUNNING="6359"
    PERL5_CPAN_IS_RUNNING_IN_RECURSION="6344,6359"
    PERLDOC="-MPod::Perldoc::ToTextOverstrike"
    PERL_BATCH="yes"
    PERL_CANARY_STABILITY_NOPROMPT="1"
    PERL_CPAN_REPORTER_CONFIG="/var/tmp/cpansmoker-1023/2015120900/cpanreporter_000_config.ini"
    PERL_EXTUTILS_AUTOINSTALL="--defaultdeps"
  @INC:
    /usr/perl5.22.1-RC4p/lib/site_perl/5.22.1/amd64-freebsd
    /usr/perl5.22.1-RC4p/lib/site_perl/5.22.1
    /usr/perl5.22.1-RC4p/lib/5.22.1/amd64-freebsd
    /usr/perl5.22.1-RC4p/lib/5.22.1
    .