Report for Sub-Chain-Group-0.014

Back
From: metabase:user:3c0d75b6-029c-11e5-90b1-5b610b895903
Subject: PASS Sub-Chain-Group-0.014 v5.22.1 GNU/Linux
Date: 2016-01-07T15:21:13Z

This distribution has been tested as part of the CPAN Testers
project, supporting the Perl programming language.  See
http://wiki.cpantesters.org/ for more information or email
questions to cpan-testers-discuss@perl.org


--
Dear Randy Stauner,

This is a computer-generated report for Sub-Chain-Group-0.014
on perl 5.22.1, created by CPAN-Reporter-1.2015.

Thank you for uploading your work to CPAN.  Congratulations!
All tests were successful.

Sections of this report:

    * Tester comments
    * Program output
    * Prerequisites
    * Environment and other context

------------------------------
TESTER COMMENTS
------------------------------

Additional comments from tester:

this report is from an automated smoke testing program
and was not reviewed by a human for accuracy

------------------------------
PROGRAM OUTPUT
------------------------------

Output from '/usr/bin/make test':

PERL_DL_NONLAZY=1 "/home/fperrad/perl5/perlbrew/perls/perl-5.22.1/bin/perl" "-MExtUtils::Command::MM" "-MTest::Harness" "-e" "undef *Test::Harness::Switches; test_harness(0, 'blib/lib', 'blib/arch')" t/*.t
t/00-compile.t ......... ok
# 
# Versions for all modules listed in MYMETA.json (including optional ones):
# 
# === Configure Requires ===
# 
#     Module              Want    Have
#     ------------------- ---- -------
#     ExtUtils::MakeMaker  any 7.04_01
# 
# === Build Requires ===
# 
#     Module              Want    Have
#     ------------------- ---- -------
#     ExtUtils::MakeMaker  any 7.04_01
# 
# === Test Requires ===
# 
#     Module              Want     Have
#     ------------------- ---- --------
#     ExtUtils::MakeMaker  any  7.04_01
#     File::Spec           any     3.56
#     File::Temp           any   0.2304
#     IO::Handle           any     1.35
#     IPC::Open3           any     1.18
#     Test::More          0.88 1.001014
#     blib                1.01     1.06
# 
# === Test Recommends ===
# 
#     Module         Want     Have
#     ---------- -------- --------
#     CPAN::Meta 2.120900 2.150001
#     Test::Warn     0.21     0.30
# 
# === Runtime Requires ===
# 
#     Module             Want  Have
#     ------------------ ---- -----
#     Carp                any  1.36
#     Module::Load        any  0.32
#     Set::DynamicGroups  any 0.014
#     Sub::Chain          any 0.012
#     strict              any  1.09
#     warnings            any  1.34
# 
t/00-report-prereqs.t .. ok
t/group.t .............. ok
t/hooks.t .............. ok
t/synopsis.t ........... ok
t/transform.t .......... ok
All tests successful.
Files=6, Tests=78,  4 wallclock secs ( 0.31 usr  0.05 sys +  3.54 cusr  0.40 csys =  4.30 CPU)
Result: PASS

------------------------------
PREREQUISITES
------------------------------

Prerequisite modules loaded:

requires:

    Module              Need     Have    
    ------------------- -------- --------
    Carp                0        1.36    
    Module::Load        0        0.32    
    perl                5.006    5.022001
    Set::DynamicGroups  0        0.014   
    strict              0        1.09    
    Sub::Chain          0        0.012   
    warnings            0        1.34    

build_requires:

    Module              Need     Have    
    ------------------- -------- --------
    blib                1.01     1.06    
    ExtUtils::MakeMaker 0        7.04_01 
    File::Spec          0        3.56    
    File::Temp          0        0.2304  
    IO::Handle          0        1.35    
    IPC::Open3          0        1.18    
    Test::More          0.88     1.001014

configure_requires:

    Module              Need     Have    
    ------------------- -------- --------
    ExtUtils::MakeMaker 0        7.04_01 
    perl                5.006    5.022001

opt_build_requires:

    Module              Need     Have    
    ------------------- -------- --------
    CPAN::Meta          2.120900 2.150001
    Test::Warn          0.21     0.30    


------------------------------
ENVIRONMENT AND OTHER CONTEXT
------------------------------

Environment variables:

    AUTOMATED_TESTING = 1
    LANG = C.UTF-8
    LANGUAGE = en_US.UTF-8
    LC_ADDRESS = fr_FR.UTF-8
    LC_IDENTIFICATION = fr_FR.UTF-8
    LC_MEASUREMENT = fr_FR.UTF-8
    LC_MESSAGES = POSIX
    LC_MONETARY = fr_FR.UTF-8
    LC_NAME = fr_FR.UTF-8
    LC_NUMERIC = fr_FR.UTF-8
    LC_PAPER = fr_FR.UTF-8
    LC_TELEPHONE = fr_FR.UTF-8
    LC_TIME = fr_FR.UTF-8
    PATH = /home/fperrad/perl5/perlbrew/bin:/home/fperrad/perl5/perlbrew/perls/perl-5.22.1/bin:/usr/local/bin:/usr/bin:/bin:/usr/local/games:/usr/games
    PERL5LIB = /home/fperrad/.local/share/.cpan/build/Set-DynamicGroups-0.014-hK5CY2/blib/arch:/home/fperrad/.local/share/.cpan/build/Set-DynamicGroups-0.014-hK5CY2/blib/lib:/home/fperrad/.local/share/.cpan/build/Sub-Chain-0.012-o1clJi/blib/arch:/home/fperrad/.local/share/.cpan/build/Sub-Chain-0.012-o1clJi/blib/lib:/home/fperrad/.local/share/.cpan/build/Object-Enum-0.074-86mIyo/blib/arch:/home/fperrad/.local/share/.cpan/build/Object-Enum-0.074-86mIyo/blib/lib:/home/fperrad/.local/share/.cpan/build/Class-Accessor-0.34-6qaIiA/blib/arch:/home/fperrad/.local/share/.cpan/build/Class-Accessor-0.34-6qaIiA/blib/lib
    PERL5OPT = 
    PERL5_CPANPLUS_IS_RUNNING = 26597
    PERL5_CPAN_IS_RUNNING = 26597
    PERL5_CPAN_IS_RUNNING_IN_RECURSION = 750,26597
    PERLBREW_BASHRC_VERSION = 0.74
    PERLBREW_HOME = /home/fperrad/.perlbrew
    PERLBREW_MANPATH = /home/fperrad/perl5/perlbrew/perls/perl-5.22.1/man
    PERLBREW_PATH = /home/fperrad/perl5/perlbrew/bin:/home/fperrad/perl5/perlbrew/perls/perl-5.22.1/bin
    PERLBREW_PERL = perl-5.22.1
    PERLBREW_ROOT = /home/fperrad/perl5/perlbrew
    PERLBREW_VERSION = 0.74
    PERL_CR_SMOKER_CURRENT = Sub-Chain-Group-0.014
    PERL_EXTUTILS_AUTOINSTALL = --defaultdeps
    PERL_MM_USE_DEFAULT = 1
    SHELL = /bin/bash
    TERM = linux

Perl special variables (and OS-specific diagnostics, for MSWin32):

    $^X = /home/fperrad/perl5/perlbrew/perls/perl-5.22.1/bin/perl
    $UID/$EUID = 1000 / 1000
    $GID = 1000 1000
    $EGID = 1000 1000

Perl module toolchain versions installed:

    Module              Have    
    ------------------- --------
    CPAN                2.11    
    CPAN::Meta          2.150001
    Cwd                 3.56    
    ExtUtils::CBuilder  0.280221
    ExtUtils::Command   1.20    
    ExtUtils::Install   2.04    
    ExtUtils::MakeMaker 7.04_01 
    ExtUtils::Manifest  1.70    
    ExtUtils::ParseXS   3.28    
    File::Spec          3.56    
    JSON                2.90    
    JSON::PP            2.27300 
    Module::Build       0.4214  
    Module::Signature   n/a     
    Parse::CPAN::Meta   1.4414  
    Test::Harness       3.35    
    Test::More          1.001014
    YAML                n/a     
    YAML::Syck          n/a     
    version             0.9912  


--

Summary of my perl5 (revision 5 version 22 subversion 1) configuration:
   
  Platform:
    osname=linux, osvers=3.4.107-lime, archname=armv7l-linux
    uname='linux lime 3.4.107-lime #15 smp preempt fri may 22 11:36:49 cest 2015 armv7l gnulinux '
    config_args='-de -Dprefix=/home/fperrad/perl5/perlbrew/perls/perl-5.22.1 -Aeval:scriptdir=/home/fperrad/perl5/perlbrew/perls/perl-5.22.1/bin'
    hint=recommended, useposix=true, d_sigaction=define
    useithreads=undef, usemultiplicity=undef
    use64bitint=undef, use64bitall=undef, uselongdouble=undef
    usemymalloc=n, bincompat5005=undef
  Compiler:
    cc='cc', ccflags ='-fwrapv -fno-strict-aliasing -pipe -fstack-protector-strong -I/usr/local/include -D_LARGEFILE_SOURCE -D_FILE_OFFSET_BITS=64 -D_FORTIFY_SOURCE=2',
    optimize='-O2',
    cppflags='-fwrapv -fno-strict-aliasing -pipe -fstack-protector-strong -I/usr/local/include'
    ccversion='', gccversion='4.9.2', gccosandvers=''
    intsize=4, longsize=4, ptrsize=4, doublesize=8, byteorder=1234, doublekind=3
    d_longlong=define, longlongsize=8, d_longdbl=define, longdblsize=8, longdblkind=0
    ivtype='long', ivsize=4, nvtype='double', nvsize=8, Off_t='off_t', lseeksize=8
    alignbytes=8, prototype=define
  Linker and Libraries:
    ld='cc', ldflags =' -fstack-protector-strong -L/usr/local/lib'
    libpth=/usr/local/lib /usr/lib/gcc/arm-linux-gnueabihf/4.9/include-fixed /usr/include/arm-linux-gnueabihf /usr/lib /lib/arm-linux-gnueabihf /lib /usr/lib/arm-linux-gnueabihf
    libs=-lpthread -lnsl -ldl -lm -lcrypt -lutil -lc
    perllibs=-lpthread -lnsl -ldl -lm -lcrypt -lutil -lc
    libc=libc-2.19.so, so=so, useshrplib=false, libperl=libperl.a
    gnulibc_version='2.19'
  Dynamic Linking:
    dlsrc=dl_dlopen.xs, dlext=so, d_dlsymun=undef, ccdlflags='-Wl,-E'
    cccdlflags='-fPIC', lddlflags='-shared -O2 -L/usr/local/lib -fstack-protector-strong'


Characteristics of this binary (from libperl): 
  Compile-time options: HAS_TIMES PERLIO_LAYERS PERL_DONT_CREATE_GVSV
                        PERL_HASH_FUNC_ONE_AT_A_TIME_HARD PERL_MALLOC_WRAP
                        PERL_NEW_COPY_ON_WRITE PERL_PRESERVE_IVUV
                        USE_LARGE_FILES USE_LOCALE USE_LOCALE_COLLATE
                        USE_LOCALE_CTYPE USE_LOCALE_NUMERIC USE_LOCALE_TIME
                        USE_PERLIO USE_PERL_ATOF
  Locally applied patches:
	Devel::PatchPerl 1.38
  Built under linux
  Compiled at Dec 24 2015 16:00:54
  %ENV:
    PERL5LIB="/home/fperrad/.local/share/.cpan/build/Set-DynamicGroups-0.014-hK5CY2/blib/arch:/home/fperrad/.local/share/.cpan/build/Set-DynamicGroups-0.014-hK5CY2/blib/lib:/home/fperrad/.local/share/.cpan/build/Sub-Chain-0.012-o1clJi/blib/arch:/home/fperrad/.local/share/.cpan/build/Sub-Chain-0.012-o1clJi/blib/lib:/home/fperrad/.local/share/.cpan/build/Object-Enum-0.074-86mIyo/blib/arch:/home/fperrad/.local/share/.cpan/build/Object-Enum-0.074-86mIyo/blib/lib:/home/fperrad/.local/share/.cpan/build/Class-Accessor-0.34-6qaIiA/blib/arch:/home/fperrad/.local/share/.cpan/build/Class-Accessor-0.34-6qaIiA/blib/lib"
    PERL5OPT=""
    PERL5_CPANPLUS_IS_RUNNING="26597"
    PERL5_CPAN_IS_RUNNING="26597"
    PERL5_CPAN_IS_RUNNING_IN_RECURSION="750,26597"
    PERLBREW_BASHRC_VERSION="0.74"
    PERLBREW_HOME="/home/fperrad/.perlbrew"
    PERLBREW_MANPATH="/home/fperrad/perl5/perlbrew/perls/perl-5.22.1/man"
    PERLBREW_PATH="/home/fperrad/perl5/perlbrew/bin:/home/fperrad/perl5/perlbrew/perls/perl-5.22.1/bin"
    PERLBREW_PERL="perl-5.22.1"
    PERLBREW_ROOT="/home/fperrad/perl5/perlbrew"
    PERLBREW_VERSION="0.74"
    PERL_CR_SMOKER_CURRENT="Sub-Chain-Group-0.014"
    PERL_EXTUTILS_AUTOINSTALL="--defaultdeps"
    PERL_MM_USE_DEFAULT="1"
  @INC:
    /home/fperrad/.local/share/.cpan/build/Set-DynamicGroups-0.014-hK5CY2/blib/arch
    /home/fperrad/.local/share/.cpan/build/Set-DynamicGroups-0.014-hK5CY2/blib/lib
    /home/fperrad/.local/share/.cpan/build/Sub-Chain-0.012-o1clJi/blib/arch
    /home/fperrad/.local/share/.cpan/build/Sub-Chain-0.012-o1clJi/blib/lib
    /home/fperrad/.local/share/.cpan/build/Object-Enum-0.074-86mIyo/blib/arch
    /home/fperrad/.local/share/.cpan/build/Object-Enum-0.074-86mIyo/blib/lib
    /home/fperrad/.local/share/.cpan/build/Class-Accessor-0.34-6qaIiA/blib/arch
    /home/fperrad/.local/share/.cpan/build/Class-Accessor-0.34-6qaIiA/blib/lib
    /home/fperrad/perl5/perlbrew/perls/perl-5.22.1/lib/site_perl/5.22.1/armv7l-linux
    /home/fperrad/perl5/perlbrew/perls/perl-5.22.1/lib/site_perl/5.22.1
    /home/fperrad/perl5/perlbrew/perls/perl-5.22.1/lib/5.22.1/armv7l-linux
    /home/fperrad/perl5/perlbrew/perls/perl-5.22.1/lib/5.22.1
    .