Inline-CPP v0.80 Perl 5 v5.18.2 darwin-thread-multi-2level

Status
Pass
From
Gintautas Grigelionis
Dist
Inline-CPP v0.80
Platform
Perl 5 v5.18.2 darwin-thread-multi-2level
Date
2019-04-25 21:22:54
ID
49b0926c-67a0-11e9-bdc1-03223cab6ddc
This distribution has been tested as part of the CPAN Testers
project, supporting the Perl programming language.  See
http://wiki.cpantesters.org/ for more information or email
questions to cpan-testers-discuss@perl.org


--
Dear David J. Oswald,

This is a computer-generated report for Inline-CPP-0.80
on perl 5.18.2, created by CPAN-Reporter-1.2018.

Thank you for uploading your work to CPAN.  Congratulations!
All tests were successful.

Sections of this report:

    * Tester comments
    * Program output
    * Prerequisites
    * Environment and other context

------------------------------
TESTER COMMENTS
------------------------------

Additional comments from tester:

none provided

------------------------------
PROGRAM OUTPUT
------------------------------

Output from '/usr/bin/make test':

PERL_DL_NONLAZY=1 "/usr/bin/perl" "-MExtUtils::Command::MM" "-MTest::Harness" "-e" "undef *Test::Harness::Switches; test_harness(0, 'blib/lib', 'blib/arch')" t/*.t t/*/*.t
# $Config{osname}:     darwin
# $Config{cc}:         cc
# $Config{gccversion}: 4.2.1 Compatible Apple LLVM 10.0.1 (clang-1001.0.37.14)
t/00load_prereqs.t .................... ok
t/01fn_cans.t ......................... ok
t/02basic.t ........................... ok
t/03prefix.t .......................... ok
t/04charptr.t ......................... ok
t/06fn_regress.t ...................... ok
find: /usr/lib/gcc: No such file or directory
# 
# Compiler guesses:
# 	EU::CppGuess:    [g++ -g -pipe -fno-common -DPERL_DARWIN -fno-strict-aliasing -fstack-protector -xc++],
# 	Old Makefile.PL: [g++].
# Linker guesses:
# 	EU::CppGuess:    [-lstdc++],
# 	Old Makefile.PL: [-L -lstdc++].
t/08cppguess.t ........................ ok
t/12custom_libs.t ..................... ok
t/15config_case.t ..................... ok
<-----------------------Information Section----------------------------------->

Information about the processing of your Inline CPP code:

Your source code needs to be compiled. I'll use this build directory:
/Users/giegri/.cpan/build/Inline-CPP-0.80-XSb2pT/_Inline/build/_16info_t_2ec0

and I'll install the executable as:
/Users/giegri/.cpan/build/Inline-CPP-0.80-XSb2pT/_Inline/lib/auto/_16info_t_2ec0/_16info_t_2ec0.bundle

The following Inline CPP function(s) have been successfully bound to Perl:
	int add(int x, int y)
The following functions have been bound to Perl:
	int add(int x, int y);


<-----------------------End of Information Section---------------------------->
t/16info.t ............................ ok
t/classes/01empty_ns_is_main.t ........ ok
t/classes/02main_ns_is_main.t ......... ok
t/classes/03baz_ns_is_baz.t ........... ok
t/classes/04invoke_from_non_main.t .... ok
t/classes/05invalid_classes.t ......... ok
t/classes/06inherit.t ................. ok
t/classes/07conflict_avoid.t .......... skipped: Inline::Filters required for conflict avoidance testing.
t/classes/08auto.t .................... ok
t/classes/09auto_mixed.t .............. ok
t/classes/10auto_inherit.t ............ ok
t/grammar/01nherit.t .................. ok
t/grammar/02scope.t ................... ok
t/grammar/03inline.t .................. ok
t/grammar/04const.t ................... ok
t/grammar/05virt.t .................... ok
t/grammar/06deflt.t ................... ok
t/grammar/07static.t .................. ok
t/grammar/08anon.t .................... ok
t/grammar/09purevt.t .................. ok
t/grammar/10struct.t .................. ok
t/grammar/11minhrt.t .................. ok
t/grammar/12retlst.t .................. ok
t/grammar/13vararg.t .................. ok
t/grammar/14const.t ................... ok
t/grammar/15stvar.t ................... ok
t/grammar/16varlst.t .................. ok
t/grammar/17memberarray.t ............. ok
t/grammar/18namespace.t ............... ok
t/grammar/19multidimarray.t ........... ok
t/namespace/01empty_ns_is_main.t ...... ok
t/namespace/02main_ns_is_main.t ....... ok
t/namespace/03baz_ns_is_baz.t ......... ok
t/namespace/04invoke_from_non_main.t .. ok
t/namespace/05invalid_ns.t ............ ok
t/namespace/06inherit.t ............... ok
All tests successful.

Test Summary Report
-------------------
t/grammar/11minhrt.t                (Wstat: 0 Tests: 38 Failed: 0)
  TODO passed:   23-24, 28-30, 32
Files=45, Tests=265, 74 wallclock secs ( 0.16 usr  0.10 sys + 55.21 cusr 14.41 csys = 69.88 CPU)
Result: PASS

------------------------------
PREREQUISITES
------------------------------

Prerequisite modules loaded:

requires:

    Module              Need     Have    
    ------------------- -------- --------
    Carp                0        1.50    
    Config              0        5.018002
    Inline              0.82     0.82    
    Inline::C           0.80     0.80    
    Parse::RecDescent   0        1.967015
    perl                5.008001 5.018002

build_requires:

    Module              Need     Have    
    ------------------- -------- --------
    ExtUtils::MakeMaker 0        7.34    
    File::Temp          0        0.2309  
    FindBin             0        1.51    
    Test::More          1.001009 1.302162

configure_requires:

    Module              Need     Have    
    ------------------- -------- --------
    ExtUtils::CppGuess  0.15     0.19    
    ExtUtils::MakeMaker 7.04     7.34    


------------------------------
ENVIRONMENT AND OTHER CONTEXT
------------------------------

Environment variables:

    LC_CTYPE = UTF-8
    PATH = /usr/local/bin:/usr/bin:/bin:/usr/sbin:/sbin:/usr/local/MacGPG2/bin:/opt/X11/bin
    PERL5LIB = 
    PERL5OPT = 
    PERL5_CPANPLUS_IS_RUNNING = 45424
    PERL5_CPAN_IS_RUNNING = 45424
    SHELL = /bin/bash
    TERM = xterm-256color
    TMPDIR = /var/folders/c5/867l5h614bs44szg7g2t48fr0000gn/T/
    VERSIONER_PERL_PREFER_32_BIT = no
    VERSIONER_PERL_VERSION = 5.18

Perl special variables (and OS-specific diagnostics, for MSWin32):

    $^X = /usr/bin/perl
    $UID/$EUID = 501 / 501
    $GID = 20 20 401 12 61 79 80 81 98 402 33 100 204 250 395 398 399
    $EGID = 20 20 401 12 61 79 80 81 98 402 33 100 204 250 395 398 399

Perl module toolchain versions installed:

    Module              Have    
    ------------------- --------
    CPAN                2.10    
    CPAN::Meta          2.150010
    Cwd                 3.75    
    ExtUtils::CBuilder  0.280231
    ExtUtils::Command   7.34    
    ExtUtils::Install   2.14    
    ExtUtils::MakeMaker 7.34    
    ExtUtils::Manifest  1.72    
    ExtUtils::ParseXS   3.35    
    File::Spec          3.75    
    JSON                4.02    
    JSON::PP            4.02    
    Module::Build       0.4229  
    Module::Signature   0.83    
    Parse::CPAN::Meta   2.150010
    Test::Harness       3.42    
    Test::More          1.302162
    YAML                1.27    
    YAML::Syck          1.31    
    version             0.9924  


--

Summary of my perl5 (revision 5 version 18 subversion 2) configuration:
   
  Platform:
    osname=darwin, osvers=18.0, archname=darwin-thread-multi-2level
    uname='darwin osx391.sd.apple.com 18.0 darwin kernel version 17.0.0: fri may 4 10:33:38 pdt 2018; root:xnu-4570.1.46.100.2~1development_x86_64 x86_64 '
    config_args='-ds -e -Dprefix=/usr -Dccflags=-g  -pipe  -Dldflags= -Dman3ext=3pm -Duseithreads -Duseshrplib -Dinc_version_list=none -Dcc=cc'
    hint=recommended, useposix=true, d_sigaction=define
    useithreads=define, usemultiplicity=define
    useperlio=define, d_sfio=undef, uselargefiles=define, usesocks=undef
    use64bitint=define, use64bitall=define, uselongdouble=undef
    usemymalloc=n, bincompat5005=undef
  Compiler:
    cc='cc', ccflags =' -g -pipe -fno-common -DPERL_DARWIN -fno-strict-aliasing -fstack-protector',
    optimize='-Os',
    cppflags='-g -pipe -fno-common -DPERL_DARWIN -fno-strict-aliasing -fstack-protector'
    ccversion='', gccversion='4.2.1 Compatible Apple LLVM 10.0.1 (clang-1001.0.37.14)', gccosandvers=''
    intsize=4, longsize=8, ptrsize=8, doublesize=8, byteorder=12345678
    d_longlong=define, longlongsize=8, d_longdbl=define, longdblsize=16
    ivtype='long', ivsize=8, nvtype='double', nvsize=8, Off_t='off_t', lseeksize=8
    alignbytes=8, prototype=define
  Linker and Libraries:
    ld='cc', ldflags =' -fstack-protector'
    libpth=/usr/lib /usr/local/lib
    libs= 
    perllibs=
    libc=, so=dylib, useshrplib=true, libperl=libperl.dylib
    gnulibc_version=''
  Dynamic Linking:
    dlsrc=dl_dlopen.xs, dlext=bundle, d_dlsymun=undef, ccdlflags=' '
    cccdlflags=' ', lddlflags=' -bundle -undefined dynamic_lookup -fstack-protector'


Characteristics of this binary (from libperl): 
  Compile-time options: HAS_TIMES MULTIPLICITY PERLIO_LAYERS
                        PERL_DONT_CREATE_GVSV
                        PERL_HASH_FUNC_ONE_AT_A_TIME_HARD
                        PERL_IMPLICIT_CONTEXT PERL_MALLOC_WRAP
                        PERL_PRESERVE_IVUV PERL_SAWAMPERSAND USE_64_BIT_ALL
                        USE_64_BIT_INT USE_ITHREADS USE_LARGE_FILES
                        USE_LOCALE USE_LOCALE_COLLATE USE_LOCALE_CTYPE
                        USE_LOCALE_NUMERIC USE_PERLIO USE_PERL_ATOF
                        USE_REENTRANT_API
  Locally applied patches:
	/Library/Perl/Updates/<version> comes before system perl directories
	installprivlib and installarchlib points to the Updates directory
  Built under darwin
  Compiled at Feb 25 2019 19:59:47
  %ENV:
    PERL5LIB=""
    PERL5OPT=""
    PERL5_CPANPLUS_IS_RUNNING="45424"
    PERL5_CPAN_IS_RUNNING="45424"
  @INC:
    /Library/Perl/5.18/darwin-thread-multi-2level
    /Library/Perl/5.18
    /Network/Library/Perl/5.18/darwin-thread-multi-2level
    /Network/Library/Perl/5.18
    /Library/Perl/Updates/5.18.2/darwin-thread-multi-2level
    /Library/Perl/Updates/5.18.2
    /System/Library/Perl/5.18/darwin-thread-multi-2level
    /System/Library/Perl/5.18
    /System/Library/Perl/Extras/5.18/darwin-thread-multi-2level
    /System/Library/Perl/Extras/5.18
    .