YAHC v0.035 Perl 5 v5.22.3 x86_64-linux-ld

Status
Pass
From
Slaven Rezić (SREZIC)
Dist
YAHC v0.035
Platform
Perl 5 v5.22.3 x86_64-linux-ld
Date
2019-05-06 22:42:54
ID
49b5e8f8-7050-11e9-9cce-b13f1f24ea8f
This distribution has been tested as part of the CPAN Testers
project, supporting the Perl programming language.  See
http://wiki.cpantesters.org/ for more information or email
questions to cpan-testers-discuss@perl.org


--
Dear Ivan Kruglov,

This is a computer-generated report for YAHC-0.035
on perl 5.22.3, created by CPAN-Reporter-1.2018.

Thank you for uploading your work to CPAN.  Congratulations!
All tests were successful.

Sections of this report:

    * Tester comments
    * Program output
    * Prerequisites
    * Environment and other context

------------------------------
TESTER COMMENTS
------------------------------

Additional comments from tester:

none provided

------------------------------
PROGRAM OUTPUT
------------------------------

Output from '/usr/bin/make test':

PERL_DL_NONLAZY=1 "/opt/perl-5.22.3D/bin/perl" "-MExtUtils::Command::MM" "-MTest::Harness" "-e" "undef *Test::Harness::Switches; test_harness(0, 'inc', 'blib/lib', 'blib/arch')" t/*.t
# Perl/v5.22.3
# YAHC/0.035
t/000_compile.t .................... ok
t/005_circular_references_check.t .. ok
t/010_build_http_message.t ......... ok
t/015_parse_http_headers.t ......... ok
t/016_chunked.t .................... ok
t/017_content_length.t ............. ok
t/023_state_connected.t ............ ok
t/024_state_write.t ................ ok
t/025_state_read.t ................. ok
t/100_account_for_signal.t ......... ok
t/110_attempt.t .................... ok
t/120_selected_target.t ............ ok
t/130_yahc_functions.t ............. ok
t/140_yahc_loop.t .................. ok
t/200_live_google.t ................ skipped: Enable live testing by setting env: TEST_LIVE=1
t/210_live_timeout_connected.t ..... skipped: Enable live testing by setting env: TEST_LIVE=1
t/220_live_unixis.t ................ skipped: Enable live testing by setting env: TEST_LIVE=1
t/230_live_requests.t .............. skipped: Enable live testing by setting env: TEST_LIVE=1
t/240_live_socket_cache.t .......... skipped: Enable live testing by setting env: TEST_LIVE=1
t/300_robust.t ..................... skipped: Enable robust testing by setting env: TEST_ROBUST=1
All tests successful.
Files=20, Tests=96,  4 wallclock secs ( 0.05 usr  0.08 sys +  1.33 cusr  0.38 csys =  1.84 CPU)
Result: PASS

------------------------------
PREREQUISITES
------------------------------

Prerequisite modules loaded:

requires:

    Module                  Need Have    
    ----------------------- ---- --------
    EV                      0    4.25    
    Fcntl                   0    1.13    
    IO::Socket::SSL         0    2.049   
    POSIX                   0    1.53_01 
    Scalar::Util            0    1.48    
    Socket                  0    2.018   
    Time::HiRes             0    1.9726  

build_requires:

    Module                  Need Have    
    ----------------------- ---- --------
    Data::Dumper            0    2.158   
    ExtUtils::MakeMaker     6.36 7.04_02 
    FindBin                 0    1.51    
    HTTP::Tiny              0    0.070   
    IO::Socket::INET        0    1.35    
    JSON                    0    2.94    
    List::Util              0    1.48    
    Net::Ping               2.41 2.43_01 
    Plack                   0    1.0044  
    Plack::Handler::Starman 0    0       
    Test::Exception         0    0.43    
    Test::Memory::Cycle     0    1.06    
    Test::More              0.88 1.302086
    Time::HiRes             0    1.9726  

configure_requires:

    Module                  Need Have    
    ----------------------- ---- --------
    ExtUtils::MakeMaker     6.36 7.04_02 


------------------------------
ENVIRONMENT AND OTHER CONTEXT
------------------------------

Environment variables:

    LANG = C
    PATH = /usr/local/bin:/usr/bin:/bin:/usr/local/sbin:/usr/sbin:/sbin:/home/cpansand/bin/linux-gnu:/home/cpansand/bin/sh:/home/cpansand/bin:/usr/games:/home/cpansand/devel:/home/eserte/src/srezic-misc/scripts
    PERL5LIB = /home/cpansand/.cpan/build/2019050622/Test-Memory-Cycle-1.06-0/blib/arch:/home/cpansand/.cpan/build/2019050622/Test-Memory-Cycle-1.06-0/blib/lib:/home/cpansand/.cpan/build/2019050622/Devel-Cycle-1.12-0/blib/arch:/home/cpansand/.cpan/build/2019050622/Devel-Cycle-1.12-0/blib/lib:/home/cpansand/.cpan/build/2019050622/Starman-0.4014-0/blib/arch:/home/cpansand/.cpan/build/2019050622/Starman-0.4014-0/blib/lib:/home/cpansand/.cpan/build/2019050622/HTTP-Parser-XS-0.17-0/blib/arch:/home/cpansand/.cpan/build/2019050622/HTTP-Parser-XS-0.17-0/blib/lib:/home/cpansand/.cpan/build/2019050622/EV-4.25-0/blib/arch:/home/cpansand/.cpan/build/2019050622/EV-4.25-0/blib/lib:/home/cpansand/.cpan/build/2019050622/Hijk-0.28-0/blib/arch:/home/cpansand/.cpan/build/2019050622/Hijk-0.28-0/blib/lib:/home/cpansand/.cpan/build/2019050622/Net-Server-2.009-0/blib/arch:/home/cpansand/.cpan/build/2019050622/Net-Server-2.009-0/blib/lib:/home/cpansand/.cpan/build/2019050622/HTTP-Server-Simple-PSGI-0.16-0/blib/arch:/home/cpansand/.cpan/build/2019050622/HTTP-Server-Simple-PSGI-0.16-0/blib/lib:/home/cpansand/.cpan/build/2019050622/HTTP-Server-Simple-0.52-0/blib/arch:/home/cpansand/.cpan/build/2019050622/HTTP-Server-Simple-0.52-0/blib/lib
    PERL5OPT = 
    PERL5_CPANPLUS_IS_RUNNING = 25837
    PERL5_CPAN_IS_RUNNING = 25837
    PERL5_CPAN_IS_RUNNING_IN_RECURSION = 15024,25837
    PERLDOC = -MPod::Perldoc::ToTextOverstrike
    PERL_BATCH = yes
    PERL_CANARY_STABILITY_NOPROMPT = 1
    PERL_CPAN_REPORTER_CONFIG = /var/tmp/cpansmoker-1023/2019050622/cpanreporter_000_config.ini
    PERL_EXTUTILS_AUTOINSTALL = --defaultdeps
    PERL_USE_UNSAFE_INC = 1
    SHELL = /usr/bin/zsh
    TERM = screen
    TMPDIR = /var/tmp/cpansmoker-1023/2019050622

Perl special variables (and OS-specific diagnostics, for MSWin32):

    $^X = /opt/perl-5.22.3D/bin/perl
    $UID/$EUID = 1023 / 1023
    $GID = 1023 1023
    $EGID = 1023 1023

Perl module toolchain versions installed:

    Module              Have      
    ------------------- ----------
    CPAN                2.16      
    CPAN::Meta          2.150001  
    Cwd                 3.56_02   
    ExtUtils::CBuilder  0.280221  
    ExtUtils::Command   1.20_01   
    ExtUtils::Install   2.04      
    ExtUtils::MakeMaker 7.04_02   
    ExtUtils::Manifest  1.70      
    ExtUtils::ParseXS   3.28      
    File::Spec          3.56_02   
    JSON                2.94      
    JSON::PP            2.27300_01
    Module::Build       0.4224    
    Module::Signature   0.81      
    Parse::CPAN::Meta   1.4414_001
    Test::Harness       3.35_01   
    Test::More          1.302086  
    YAML                1.23      
    YAML::Syck          1.30      
    version             0.9909    


--

Summary of my perl5 (revision 5 version 22 subversion 3) configuration:
   
  Platform:
    osname=linux, osvers=3.16.0-4-amd64, archname=x86_64-linux-ld
    uname='linux debian8 3.16.0-4-amd64 #1 smp debian 3.16.43-2+deb8u1 (2017-06-18) x86_64 gnulinux '
    config_args='-ds -e -Dprefix=/opt/perl-5.22.3D -Duselongdouble -Dcf_email=srezic@cpan.org'
    hint=recommended, useposix=true, d_sigaction=define
    useithreads=undef, usemultiplicity=undef
    use64bitint=define, use64bitall=define, uselongdouble=define
    usemymalloc=n, bincompat5005=undef
  Compiler:
    cc='cc', ccflags ='-fwrapv -fno-strict-aliasing -pipe -fstack-protector-strong -I/usr/local/include -D_LARGEFILE_SOURCE -D_FILE_OFFSET_BITS=64 -D_FORTIFY_SOURCE=2',
    optimize='-O2',
    cppflags='-fwrapv -fno-strict-aliasing -pipe -fstack-protector-strong -I/usr/local/include'
    ccversion='', gccversion='4.9.2', gccosandvers=''
    intsize=4, longsize=8, ptrsize=8, doublesize=8, byteorder=12345678, doublekind=3
    d_longlong=define, longlongsize=8, d_longdbl=define, longdblsize=16, longdblkind=3
    ivtype='long', ivsize=8, nvtype='long double', nvsize=16, Off_t='off_t', lseeksize=8
    alignbytes=16, prototype=define
  Linker and Libraries:
    ld='cc', ldflags =' -fstack-protector-strong -L/usr/local/lib'
    libpth=/usr/local/lib /usr/lib/gcc/x86_64-linux-gnu/4.9/include-fixed /usr/include/x86_64-linux-gnu /usr/lib /lib/x86_64-linux-gnu /lib/../lib /usr/lib/x86_64-linux-gnu /usr/lib/../lib /lib
    libs=-lpthread -lnsl -lgdbm -ldb -ldl -lm -lcrypt -lutil -lc -lgdbm_compat
    perllibs=-lpthread -lnsl -ldl -lm -lcrypt -lutil -lc
    libc=libc-2.19.so, so=so, useshrplib=false, libperl=libperl.a
    gnulibc_version='2.19'
  Dynamic Linking:
    dlsrc=dl_dlopen.xs, dlext=so, d_dlsymun=undef, ccdlflags='-Wl,-E'
    cccdlflags='-fPIC', lddlflags='-shared -O2 -L/usr/local/lib -fstack-protector-strong'


Characteristics of this binary (from libperl): 
  Compile-time options: HAS_TIMES PERLIO_LAYERS PERL_DONT_CREATE_GVSV
                        PERL_HASH_FUNC_ONE_AT_A_TIME_HARD PERL_MALLOC_WRAP
                        PERL_NEW_COPY_ON_WRITE PERL_PRESERVE_IVUV
                        USE_64_BIT_ALL USE_64_BIT_INT USE_LARGE_FILES
                        USE_LOCALE USE_LOCALE_COLLATE USE_LOCALE_CTYPE
                        USE_LOCALE_NUMERIC USE_LOCALE_TIME USE_LONG_DOUBLE
                        USE_PERLIO USE_PERL_ATOF
  Built under linux
  Compiled at Jun 27 2017 20:04:01
  %ENV:
    PERL5LIB="/home/cpansand/.cpan/build/2019050622/Test-Memory-Cycle-1.06-0/blib/arch:/home/cpansand/.cpan/build/2019050622/Test-Memory-Cycle-1.06-0/blib/lib:/home/cpansand/.cpan/build/2019050622/Devel-Cycle-1.12-0/blib/arch:/home/cpansand/.cpan/build/2019050622/Devel-Cycle-1.12-0/blib/lib:/home/cpansand/.cpan/build/2019050622/Starman-0.4014-0/blib/arch:/home/cpansand/.cpan/build/2019050622/Starman-0.4014-0/blib/lib:/home/cpansand/.cpan/build/2019050622/HTTP-Parser-XS-0.17-0/blib/arch:/home/cpansand/.cpan/build/2019050622/HTTP-Parser-XS-0.17-0/blib/lib:/home/cpansand/.cpan/build/2019050622/EV-4.25-0/blib/arch:/home/cpansand/.cpan/build/2019050622/EV-4.25-0/blib/lib:/home/cpansand/.cpan/build/2019050622/Hijk-0.28-0/blib/arch:/home/cpansand/.cpan/build/2019050622/Hijk-0.28-0/blib/lib:/home/cpansand/.cpan/build/2019050622/Net-Server-2.009-0/blib/arch:/home/cpansand/.cpan/build/2019050622/Net-Server-2.009-0/blib/lib:/home/cpansand/.cpan/build/2019050622/HTTP-Server-Simple-PSGI-0.16-0/blib/arch:/home/cpansand/.cpan/build/2019050622/HTTP-Server-Simple-PSGI-0.16-0/blib/lib:/home/cpansand/.cpan/build/2019050622/HTTP-Server-Simple-0.52-0/blib/arch:/home/cpansand/.cpan/build/2019050622/HTTP-Server-Simple-0.52-0/blib/lib"
    PERL5OPT=""
    PERL5_CPANPLUS_IS_RUNNING="25837"
    PERL5_CPAN_IS_RUNNING="25837"
    PERL5_CPAN_IS_RUNNING_IN_RECURSION="15024,25837"
    PERLDOC="-MPod::Perldoc::ToTextOverstrike"
    PERL_BATCH="yes"
    PERL_CANARY_STABILITY_NOPROMPT="1"
    PERL_CPAN_REPORTER_CONFIG="/var/tmp/cpansmoker-1023/2019050622/cpanreporter_000_config.ini"
    PERL_EXTUTILS_AUTOINSTALL="--defaultdeps"
    PERL_USE_UNSAFE_INC="1"
  @INC:
    /home/cpansand/.cpan/build/2019050622/Test-Memory-Cycle-1.06-0/blib/arch
    /home/cpansand/.cpan/build/2019050622/Test-Memory-Cycle-1.06-0/blib/lib
    /home/cpansand/.cpan/build/2019050622/Devel-Cycle-1.12-0/blib/arch
    /home/cpansand/.cpan/build/2019050622/Devel-Cycle-1.12-0/blib/lib
    /home/cpansand/.cpan/build/2019050622/Starman-0.4014-0/blib/arch
    /home/cpansand/.cpan/build/2019050622/Starman-0.4014-0/blib/lib
    /home/cpansand/.cpan/build/2019050622/HTTP-Parser-XS-0.17-0/blib/arch
    /home/cpansand/.cpan/build/2019050622/HTTP-Parser-XS-0.17-0/blib/lib
    /home/cpansand/.cpan/build/2019050622/EV-4.25-0/blib/arch
    /home/cpansand/.cpan/build/2019050622/EV-4.25-0/blib/lib
    /home/cpansand/.cpan/build/2019050622/Hijk-0.28-0/blib/arch
    /home/cpansand/.cpan/build/2019050622/Hijk-0.28-0/blib/lib
    /home/cpansand/.cpan/build/2019050622/Net-Server-2.009-0/blib/arch
    /home/cpansand/.cpan/build/2019050622/Net-Server-2.009-0/blib/lib
    /home/cpansand/.cpan/build/2019050622/HTTP-Server-Simple-PSGI-0.16-0/blib/arch
    /home/cpansand/.cpan/build/2019050622/HTTP-Server-Simple-PSGI-0.16-0/blib/lib
    /home/cpansand/.cpan/build/2019050622/HTTP-Server-Simple-0.52-0/blib/arch
    /home/cpansand/.cpan/build/2019050622/HTTP-Server-Simple-0.52-0/blib/lib
    /opt/perl-5.22.3D/lib/site_perl/5.22.3/x86_64-linux-ld
    /opt/perl-5.22.3D/lib/site_perl/5.22.3
    /opt/perl-5.22.3D/lib/5.22.3/x86_64-linux-ld
    /opt/perl-5.22.3D/lib/5.22.3
    .