Back
From: metabase:user:d49cdc72-1559-11e3-9efd-e82414baadac
Subject: PASS MooseX-Types-Structured-0.29 v5.19.6 GNU/Linux
Date: 2013-11-25T03:04:24Z
This distribution has been tested as part of the CPAN Testers
project, supporting the Perl programming language. See
http://wiki.cpantesters.org/ for more information or email
questions to cpan-testers-discuss@perl.org
--
Dear ETHER,
This is a computer-generated report for MooseX-Types-Structured-0.29
on perl 5.19.6, created by App::cpanminus::reporter 0.10 (1.7001).
Thank you for uploading your work to CPAN. Congratulations!
All tests were successful.
Sections of this report:
* Tester comments
* Program output
* Prerequisites
* Environment and other context
------------------------------
TESTER COMMENTS
------------------------------
Additional comments from tester:
none provided
------------------------------
PROGRAM OUTPUT
------------------------------
Output from '':
Building and testing MooseX-Types-Structured-0.29
cp lib/MooseX/Meta/TypeCoercion/Structured/Optional.pm blib/lib/MooseX/Meta/TypeCoercion/Structured/Optional.pm
cp lib/MooseX/Meta/TypeConstraint/Structured.pm blib/lib/MooseX/Meta/TypeConstraint/Structured.pm
cp lib/MooseX/Types/Structured.pm blib/lib/MooseX/Types/Structured.pm
cp lib/MooseX/Meta/TypeCoercion/Structured.pm blib/lib/MooseX/Meta/TypeCoercion/Structured.pm
cp lib/MooseX/Types/Structured/MessageStack.pm blib/lib/MooseX/Types/Structured/MessageStack.pm
cp lib/MooseX/Types/Structured/OverflowHandler.pm blib/lib/MooseX/Types/Structured/OverflowHandler.pm
cp lib/MooseX/Meta/TypeConstraint/Structured/Optional.pm blib/lib/MooseX/Meta/TypeConstraint/Structured/Optional.pm
#
# Versions for all modules listed in MYMETA.json (including optional ones):
# Version Module
# -------- --------------------------------------------
# 2.132830 CPAN::Meta
# 2.125 CPAN::Meta::Requirements
# 2.149 Data::Dumper
# 1.03 DateTime
# 0.16 Devel::PartialDump
# 6.82 ExtUtils::MakeMaker
# 3.45 File::Spec::Functions
# 1.35 List::Util
# 0.030 Module::Build::Tiny
# 2.1005 Moose
# 2.1005 Moose::Meta::TypeCoercion
# 2.1005 Moose::Meta::TypeConstraint
# 2.1005 Moose::Meta::TypeConstraint::Parameterizable
# 2.1005 Moose::Util::TypeConstraints
# 0.38 MooseX::Types
# 0.08 MooseX::Types::DateTime
# 0.38 MooseX::Types::Moose
# 1.35 Scalar::Util
# 0.987 Sub::Exporter
# 0.013 Test::Fatal
# 1.001002 Test::More
# 1.22 overload
# 1.08 strict
# 1.20 warnings
t/00-report-prereqs.t .......... ok
t/01-basic.t ................... ok
t/bug-is-subtype.t ............. ok
t/04-combined.t ................ ok
t/05-advanced.t ................ ok
t/04-map.t ..................... ok
t/02-tuple.t ................... ok
t/07-coerce.t .................. ok
t/00-load.t .................... ok
t/13-deeper_error.t ............ ok
t/10-recursion.t ............... ok
t/11-overflow.t ................ ok
t/09-optional.t ................ ok
t/12-error.t ................... ok
t/bug-mixed-stringy.t .......... ok
t/regressions/01-is_type_of.t .. ok
t/03-dict.t .................... ok
t/bug-incorrect-message.t ...... ok
t/bug-optional.t ............... ok
t/06-api.t ..................... ok
t/08-examples.t ................ ok
All tests successful.
Files=21, Tests=357, 6 wallclock secs ( 0.20 usr 0.06 sys + 12.27 cusr 1.67 csys = 14.20 CPU)
Result: PASS
------------------------------
PREREQUISITES
------------------------------
Prerequisite modules loaded:
No requirements found
------------------------------
ENVIRONMENT AND OTHER CONTEXT
------------------------------
Environment variables:
LANGUAGE =
LC_CTYPE = en_NZ.UTF8
PATH = /home/kent/perl5/perlbrew/bin:/home/kent/perl5/perlbrew/perls/perl-5.19.6/bin:/home/kent/.perl6/2013.04/bin:/home/kent/.gem/ruby/1.8/bin/:/usr/local/bin:/usr/bin:/bin:/opt/bin:/usr/x86_64-pc-linux-gnu/gcc-bin/4.7.3:/usr/games/bin
PERLBREW_BASHRC_VERSION = 0.61
PERLBREW_HOME = /home/kent/.perlbrew
PERLBREW_MANPATH = /home/kent/perl5/perlbrew/perls/perl-5.19.6/man
PERLBREW_PATH = /home/kent/perl5/perlbrew/bin:/home/kent/perl5/perlbrew/perls/perl-5.19.6/bin
PERLBREW_PERL = perl-5.19.6
PERLBREW_ROOT = /home/kent/perl5/perlbrew
PERLBREW_VERSION = 0.61
PERL_CPANM_OPT = --prompt --reinstall --interactive --with-recommends --with-suggests --with-develop --verify
SHELL = /bin/bash
TERM = xterm
Perl special variables (and OS-specific diagnostics, for MSWin32):
EGID = 1000 4 6 10 16 18 19 27 35 78 80 85 100 102 103 104 105 114 115 116 117 118 250 994 1000
EUID = 1000
EXECUTABLE_NAME = /home/kent/perl5/perlbrew/perls/perl-5.19.6/bin/perl5.19.6
GID = 1000 4 6 10 16 18 19 27 35 78 80 85 100 102 103 104 105 114 115 116 117 118 250 994 1000
UID = 1000
Perl module toolchain versions installed:
Module Have
------------------- --------
CPAN 2.03
CPAN::Meta 2.132830
Cwd 3.45
ExtUtils::CBuilder 0.280212
ExtUtils::Command 1.18
ExtUtils::Install 1.61
ExtUtils::MakeMaker 6.82
ExtUtils::Manifest 1.63
ExtUtils::ParseXS 3.23
File::Spec 3.45
JSON 2.90
JSON::PP 2.27203
Module::Build 0.4202
Module::Signature 0.73
Parse::CPAN::Meta 1.4409
Test::Harness 3.30
Test::More 1.001002
YAML 0.84
YAML::Syck n/a
version 0.9904
--
Summary of my perl5 (revision 5 version 19 subversion 6) configuration:
Platform:
osname=linux, osvers=3.12.0-gentoo, archname=x86_64-linux
uname='linux katipo2 3.12.0-gentoo #54 smp wed nov 6 04:43:49 nzdt 2013 x86_64 intel(r) core(tm) i5-2410m cpu @ 2.30ghz genuineintel gnulinux '
config_args='-de -Dprefix=/home/kent/perl5/perlbrew/perls/perl-5.19.6 -Dusedevel -Aeval:scriptdir=/home/kent/perl5/perlbrew/perls/perl-5.19.6/bin'
hint=recommended, useposix=true, d_sigaction=define
useithreads=undef, usemultiplicity=undef
useperlio=define, d_sfio=undef, uselargefiles=define, usesocks=undef
use64bitint=define, use64bitall=define, uselongdouble=undef
usemymalloc=n, bincompat5005=undef
Compiler:
cc='cc', ccflags ='-fno-strict-aliasing -pipe -fstack-protector -D_LARGEFILE_SOURCE -D_FILE_OFFSET_BITS=64',
optimize='-O2',
cppflags='-fno-strict-aliasing -pipe -fstack-protector'
ccversion='', gccversion='4.7.3', gccosandvers=''
intsize=4, longsize=8, ptrsize=8, doublesize=8, byteorder=12345678
d_longlong=define, longlongsize=8, d_longdbl=define, longdblsize=16
ivtype='long', ivsize=8, nvtype='double', nvsize=8, Off_t='off_t', lseeksize=8
alignbytes=8, prototype=define
Linker and Libraries:
ld='cc', ldflags =' -fstack-protector'
libpth=/lib/../lib64 /usr/lib/../lib64 /lib /usr/lib /lib64 /usr/lib64
libs=-lnsl -lgdbm -ldb -ldl -lm -lcrypt -lutil -lc -lgdbm_compat
perllibs=-lnsl -ldl -lm -lcrypt -lutil -lc
libc=/lib/libc-2.15.so, so=so, useshrplib=false, libperl=libperl.a
gnulibc_version='2.15'
Dynamic Linking:
dlsrc=dl_dlopen.xs, dlext=so, d_dlsymun=undef, ccdlflags='-Wl,-E'
cccdlflags='-fPIC', lddlflags='-shared -O2 -fstack-protector'
Characteristics of this binary (from libperl):
Compile-time options: HAS_TIMES PERLIO_LAYERS PERL_DONT_CREATE_GVSV
PERL_HASH_FUNC_ONE_AT_A_TIME_HARD PERL_MALLOC_WRAP
PERL_NEW_COPY_ON_WRITE PERL_PRESERVE_IVUV
PERL_USE_DEVEL USE_64_BIT_ALL USE_64_BIT_INT
USE_LARGE_FILES USE_LOCALE USE_LOCALE_COLLATE
USE_LOCALE_CTYPE USE_LOCALE_NUMERIC USE_PERLIO
USE_PERL_ATOF
Built under linux
Compiled at Nov 24 2013 12:42:36
%ENV:
PERLBREW_BASHRC_VERSION="0.61"
PERLBREW_HOME="/home/kent/.perlbrew"
PERLBREW_MANPATH="/home/kent/perl5/perlbrew/perls/perl-5.19.6/man"
PERLBREW_PATH="/home/kent/perl5/perlbrew/bin:/home/kent/perl5/perlbrew/perls/perl-5.19.6/bin"
PERLBREW_PERL="perl-5.19.6"
PERLBREW_ROOT="/home/kent/perl5/perlbrew"
PERLBREW_VERSION="0.61"
PERL_CPANM_OPT=" --prompt --reinstall --interactive --with-recommends --with-suggests --with-develop --verify"
@INC:
/home/kent/perl5/perlbrew/perls/perl-5.19.6/lib/site_perl/5.19.6/x86_64-linux
/home/kent/perl5/perlbrew/perls/perl-5.19.6/lib/site_perl/5.19.6
/home/kent/perl5/perlbrew/perls/perl-5.19.6/lib/5.19.6/x86_64-linux
/home/kent/perl5/perlbrew/perls/perl-5.19.6/lib/5.19.6
.