Class-CGI v0.20 Perl 5 v5.34.1 aarch64-linux-thread-multi-ld
- Status
- Pass
- From
- D Ruth Holloway
- Dist
-
Class-CGI v0.20
- Platform
- Perl 5 v5.34.1 aarch64-linux-thread-multi-ld
- Date
- 2022-04-15 07:18:46
- ID
- 49f7f8ac-bc8c-11ec-9ff8-428f09c978a9
This distribution has been tested as part of the CPAN Testers
project, supporting the Perl programming language. See
http://wiki.cpantesters.org/ for more information or email
questions to cpan-testers-discuss@perl.org
--
Dear Curtis 'Ovid' Poe,
This is a computer-generated report for Class-CGI-0.20
on perl 5.34.1, created by CPAN-Reporter-1.2018.
Thank you for uploading your work to CPAN. Congratulations!
All tests were successful.
Sections of this report:
* Tester comments
* Program output
* Prerequisites
* Environment and other context
------------------------------
TESTER COMMENTS
------------------------------
Additional comments from tester:
this report is from an automated smoke testing program
and was not reviewed by a human for accuracy
------------------------------
PROGRAM OUTPUT
------------------------------
Output from './Build test':
# Testing Class::CGI 0.20, Perl 5.034001, /home/cpantester/perl5/perlbrew/perls/perl-5.34.1-thread-multi-ld/bin/perl
t/00-load.t ............. ok
t/10-basic.t ............ ok
t/20-instance.t ......... ok
t/30-multifields.t ...... ok
t/40-reused-handlers.t .. ok
t/50-profile-file.t ..... ok
t/60-handler-base.t ..... ok
t/pod-coverage.t ........ ok
t/pod.t ................. ok
All tests successful.
Files=9, Tests=184, 2 wallclock secs ( 0.10 usr 0.05 sys + 1.88 cusr 0.35 csys = 2.38 CPU)
Result: PASS
------------------------------
PREREQUISITES
------------------------------
Prerequisite modules loaded:
requires:
Module Need Have
--------------------- ------ --------
CGI::Simple 0.077 1.280
Config::Std v0.0.3 0.903
File::Spec::Functions 1.3 3.80
HTML::Entities 1.32 3.78
Test::Exception 0.21 0.43
Test::More 0 1.302190
------------------------------
ENVIRONMENT AND OTHER CONTEXT
------------------------------
Environment variables:
AUTOMATED_TESTING = 1
LANG = en_GB.UTF-8
PATH = /usr/bin:/bin
PERL5LIB = /home/cpantester/.cpan/build/Test-Distribution-2.00-3/blib/arch:/home/cpantester/.cpan/build/Test-Distribution-2.00-3/blib/lib:/home/cpantester/.cpan/build/Config-Std-0.903-3/blib/arch:/home/cpantester/.cpan/build/Config-Std-0.903-3/blib/lib:/home/cpantester/.cpan/build/Class-Std-0.013-3/blib/arch:/home/cpantester/.cpan/build/Class-Std-0.013-3/blib/lib:/home/cpantester/.cpan/build/CGI-Simple-1.280-3/blib/arch:/home/cpantester/.cpan/build/CGI-Simple-1.280-3/blib/lib
PERL5OPT =
PERL5_CPANPLUS_IS_RUNNING = 6394
PERL5_CPAN_IS_RUNNING = 6394
PERL5_CPAN_IS_RUNNING_IN_RECURSION = 966,6394
PERL5_MINISMOKEBOX = 0.68
PERL_EXTUTILS_AUTOINSTALL = --defaultdeps
PERL_MM_USE_DEFAULT = 1
PERL_USE_UNSAFE_INC = 1
SHELL = /bin/sh
Perl special variables (and OS-specific diagnostics, for MSWin32):
$^X = /home/cpantester/perl5/perlbrew/perls/perl-5.34.1-thread-multi-ld/bin/perl
$UID/$EUID = 1001 / 1001
$GID = 1001 1001
$EGID = 1001 1001
Perl module toolchain versions installed:
Module Have
------------------- --------
CPAN 2.33
CPAN::Meta 2.150010
Cwd 3.80
ExtUtils::CBuilder 0.280236
ExtUtils::Command 7.62
ExtUtils::Install 2.20
ExtUtils::MakeMaker 7.62
ExtUtils::Manifest 1.73
ExtUtils::ParseXS 3.43
File::Spec 3.80
JSON n/a
JSON::PP 4.06
Module::Build 0.4231
Module::Signature n/a
Parse::CPAN::Meta 2.150010
Test::Harness 3.43
Test::More 1.302190
YAML 1.30
YAML::Syck n/a
version 0.9928
--
Summary of my perl5 (revision 5 version 34 subversion 1) configuration:
Platform:
osname=linux
osvers=5.15.30-v8+
archname=aarch64-linux-thread-multi-ld
uname='linux test-arm7 5.15.30-v8+ #1536 smp preempt mon mar 28 13:53:14 bst 2022 aarch64 gnulinux '
config_args='-de -Dprefix=/home/cpantester/perl5/perlbrew/perls/perl-5.34.1-thread-multi-ld -Dman1dir=none -Dman3dir=none -Dusemultiplicity -Dusethreads -Duselongdouble -Aeval:scriptdir=/home/cpantester/perl5/perlbrew/perls/perl-5.34.1-thread-multi-ld/bin'
hint=recommended
useposix=true
d_sigaction=define
useithreads=define
usemultiplicity=define
use64bitint=define
use64bitall=define
uselongdouble=define
usemymalloc=n
default_inc_excludes_dot=define
Compiler:
cc='cc'
ccflags ='-D_REENTRANT -D_GNU_SOURCE -fwrapv -fno-strict-aliasing -pipe -fstack-protector-strong -I/usr/local/include -D_LARGEFILE_SOURCE -D_FILE_OFFSET_BITS=64 -D_FORTIFY_SOURCE=2'
optimize='-O2'
cppflags='-D_REENTRANT -D_GNU_SOURCE -fwrapv -fno-strict-aliasing -pipe -fstack-protector-strong -I/usr/local/include'
ccversion=''
gccversion='10.2.1 20210110'
gccosandvers=''
intsize=4
longsize=8
ptrsize=8
doublesize=8
byteorder=12345678
doublekind=3
d_longlong=define
longlongsize=8
d_longdbl=define
longdblsize=16
longdblkind=1
ivtype='long'
ivsize=8
nvtype='long double'
nvsize=16
Off_t='off_t'
lseeksize=8
alignbytes=16
prototype=define
Linker and Libraries:
ld='cc'
ldflags =' -fstack-protector-strong -L/usr/local/lib'
libpth=/usr/local/lib /usr/lib/aarch64-linux-gnu /usr/lib
libs=-lpthread -lnsl -ldl -lm -lcrypt -lutil -lc
perllibs=-lpthread -lnsl -ldl -lm -lcrypt -lutil -lc
libc=libc-2.31.so
so=so
useshrplib=false
libperl=libperl.a
gnulibc_version='2.31'
Dynamic Linking:
dlsrc=dl_dlopen.xs
dlext=so
d_dlsymun=undef
ccdlflags='-Wl,-E'
cccdlflags='-fPIC'
lddlflags='-shared -O2 -L/usr/local/lib -fstack-protector-strong'
Characteristics of this binary (from libperl):
Compile-time options:
HAS_TIMES
MULTIPLICITY
PERLIO_LAYERS
PERL_COPY_ON_WRITE
PERL_DONT_CREATE_GVSV
PERL_IMPLICIT_CONTEXT
PERL_MALLOC_WRAP
PERL_OP_PARENT
PERL_PRESERVE_IVUV
USE_64_BIT_ALL
USE_64_BIT_INT
USE_ITHREADS
USE_LARGE_FILES
USE_LOCALE
USE_LOCALE_COLLATE
USE_LOCALE_CTYPE
USE_LOCALE_NUMERIC
USE_LOCALE_TIME
USE_LONG_DOUBLE
USE_PERLIO
USE_PERL_ATOF
USE_REENTRANT_API
USE_THREAD_SAFE_LOCALE
Built under linux
Compiled at Apr 4 2022 20:32:46
%ENV:
PERL5LIB="/home/cpantester/.cpan/build/Test-Distribution-2.00-3/blib/arch:/home/cpantester/.cpan/build/Test-Distribution-2.00-3/blib/lib:/home/cpantester/.cpan/build/Config-Std-0.903-3/blib/arch:/home/cpantester/.cpan/build/Config-Std-0.903-3/blib/lib:/home/cpantester/.cpan/build/Class-Std-0.013-3/blib/arch:/home/cpantester/.cpan/build/Class-Std-0.013-3/blib/lib:/home/cpantester/.cpan/build/CGI-Simple-1.280-3/blib/arch:/home/cpantester/.cpan/build/CGI-Simple-1.280-3/blib/lib"
PERL5OPT=""
PERL5_CPANPLUS_IS_RUNNING="6394"
PERL5_CPAN_IS_RUNNING="6394"
PERL5_CPAN_IS_RUNNING_IN_RECURSION="966,6394"
PERL5_MINISMOKEBOX="0.68"
PERL_EXTUTILS_AUTOINSTALL="--defaultdeps"
PERL_MM_USE_DEFAULT="1"
PERL_USE_UNSAFE_INC="1"
@INC:
/home/cpantester/.cpan/build/Test-Distribution-2.00-3/blib/arch
/home/cpantester/.cpan/build/Test-Distribution-2.00-3/blib/lib
/home/cpantester/.cpan/build/Config-Std-0.903-3/blib/arch
/home/cpantester/.cpan/build/Config-Std-0.903-3/blib/lib
/home/cpantester/.cpan/build/Class-Std-0.013-3/blib/arch
/home/cpantester/.cpan/build/Class-Std-0.013-3/blib/lib
/home/cpantester/.cpan/build/CGI-Simple-1.280-3/blib/arch
/home/cpantester/.cpan/build/CGI-Simple-1.280-3/blib/lib
/home/cpantester/perl5/perlbrew/perls/perl-5.34.1-thread-multi-ld/lib/site_perl/5.34.1/aarch64-linux-thread-multi-ld
/home/cpantester/perl5/perlbrew/perls/perl-5.34.1-thread-multi-ld/lib/site_perl/5.34.1
/home/cpantester/perl5/perlbrew/perls/perl-5.34.1-thread-multi-ld/lib/5.34.1/aarch64-linux-thread-multi-ld
/home/cpantester/perl5/perlbrew/perls/perl-5.34.1-thread-multi-ld/lib/5.34.1
.