StorageDisplay v2.03 Perl 5 v5.36.0 amd64-freebsd-ld

Status
Pass
From
Slaven Rezić
Dist
StorageDisplay v2.03
Platform
Perl 5 v5.36.0 amd64-freebsd-ld
Date
2023-04-03 12:37:26
ID
4a127c62-d21c-11ed-a9c3-04066e8775ea
This distribution has been tested as part of the CPAN Testers
project, supporting the Perl programming language.  See
http://wiki.cpantesters.org/ for more information or email
questions to cpan-testers-discuss@perl.org


--
Dear Vincent Danjean,

This is a computer-generated report for StorageDisplay-2.03
on perl 5.36.0, created by CPAN-Reporter-1.2018.

Thank you for uploading your work to CPAN.  Congratulations!
All tests were successful.

Sections of this report:

    * Tester comments
    * Program output
    * Prerequisites
    * Environment and other context

------------------------------
TESTER COMMENTS
------------------------------

Additional comments from tester:

none provided

------------------------------
PROGRAM OUTPUT
------------------------------

Output from '/usr/bin/make test':

PERL_DL_NONLAZY=1 "/usr/perl5.36.0Dp/bin/perl" "-MExtUtils::Command::MM" "-MTest::Harness" "-e" "undef *Test::Harness::Switches; test_harness(0, 'blib/lib', 'blib/arch')" t/*.t
# Testing with Perl 5.036000, /usr/perl5.36.0Dp/bin/perl
#     Carp version is 1.52
#     Data::Compare version is 1.28
#     Data::Dumper version is 2.184
#     ExtUtils::MakeMaker version is 7.66
#     Getopt::Long version is 2.54
#     IO::Select version is 1.51
#     JSON::PP version is 4.15
#     Math::BigFloat version is 1.999837
#     Math::BigInt version is 1.999837
#     Moose version is 2.2201
#     MooseX::NonMoose version is 0.26
#     MooseX::Role::Parameterized version is 1.11
#     Net::OpenSSH version is 0.83
#     Object::ID version is v0.1.2
#     POSIX version is 2.03
#     Path::Class version is 0.37
#     Path::Class::Dir version is 0.37
#     Pod::Usage version is 2.03
#     Scalar::Util version is 1.63
#     Storable version is 3.26
#     Term::ReadKey version is 2.38
#     Test2::V0 version is 0.000148
#     Test::File::Contents version is 0.23
#     Test::More version is 1.302192
#     Test::Script version is 1.29
#     Types::Standard version is 2.002001
#     base version is 2.27
#     bignum version is 0.65
#     bigrat version is 0.65
#     namespace::sweep version is 0.006
#     parent version is 0.238
#     strict version is 1.12
#     utf8 version is 1.24
#     warnings version is 1.58
t/000-report-versions.t .. ok
t/05_round.t ............. ok
t/06_int-data-dumper.t ... ok
# JSON::PP: boolean_values support: 1
# JSON::PP: allow_bignum support: 1
# JSON::PP has boolean_values: 1
t/07_json.t .............. ok
# $VAR1 = {
#           's1' => {
#                     'bf' => bless( {
#                                      '_e' => bless( [
#                                                       0
#                                                     ], 'Math::BigInt::Calc' ),
#                                      '_es' => '+',
#                                      '_m' => bless( [
#                                                       '401'
#                                                     ], 'Math::BigInt::Calc' ),
#                                      'sign' => '+'
#                                    }, 'Math::BigFloat' ),
#                     'bf2bf' => bless( {
#                                         '_e' => bless( [
#                                                          0
#                                                        ], 'Math::BigInt::Calc' ),
#                                         '_es' => '+',
#                                         '_m' => bless( [
#                                                          '431'
#                                                        ], 'Math::BigInt::Calc' ),
#                                         'sign' => '+'
#                                       }, 'Math::BigFloat' ),
#                     'bf2i' => bless( {
#                                        '_e' => bless( [
#                                                         0
#                                                       ], 'Math::BigInt::Calc' ),
#                                        '_es' => '+',
#                                        '_m' => bless( [
#                                                         '411'
#                                                       ], 'Math::BigInt::Calc' ),
#                                        'sign' => '+'
#                                      }, 'Math::BigFloat' ),
#                     'bf2s' => bless( {
#                                        '_e' => bless( [
#                                                         0
#                                                       ], 'Math::BigInt::Calc' ),
#                                        '_es' => '+',
#                                        '_m' => bless( [
#                                                         '421'
#                                                       ], 'Math::BigInt::Calc' ),
#                                        'sign' => '+'
#                                      }, 'Math::BigFloat' ),
#                     'bi' => bless( {
#                                      'sign' => '+',
#                                      'value' => bless( [
#                                                          '301'
#                                                        ], 'Math::BigInt::Calc' )
#                                    }, 'Math::BigInt' ),
#                     'bi2bi' => bless( {
#                                         'sign' => '+',
#                                         'value' => bless( [
#                                                             '331'
#                                                           ], 'Math::BigInt::Calc' )
#                                       }, 'Math::BigInt' ),
#                     'bi2i' => bless( {
#                                        'sign' => '+',
#                                        'value' => bless( [
#                                                            '311'
#                                                          ], 'Math::BigInt::Calc' )
#                                      }, 'Math::BigInt' ),
#                     'bi2s' => bless( {
#                                        'sign' => '+',
#                                        'value' => bless( [
#                                                            '321'
#                                                          ], 'Math::BigInt::Calc' )
#                                      }, 'Math::BigInt' ),
#                     'i' => 101,
#                     'i2i' => 111,
#                     'i2s' => 121,
#                     's' => '201',
#                     's2i' => '211',
#                     's2s' => '221'
#                   },
#           's2' => {
#                     'bf' => bless( {
#                                      '_e' => bless( [
#                                                       0
#                                                     ], 'Math::BigInt::Calc' ),
#                                      '_es' => '+',
#                                      '_m' => bless( [
#                                                       '401'
#                                                     ], 'Math::BigInt::Calc' ),
#                                      'sign' => '+'
#                                    }, 'Math::BigFloat' ),
#                     'bf2bf' => bless( {
#                                         '_e' => bless( [
#                                                          0
#                                                        ], 'Math::BigInt::Calc' ),
#                                         '_es' => '+',
#                                         '_m' => bless( [
#                                                          '431'
#                                                        ], 'Math::BigInt::Calc' ),
#                                         'sign' => '+'
#                                       }, 'Math::BigFloat' ),
#                     'bf2i' => 411,
#                     'bf2s' => '421',
#                     'bi' => bless( {
#                                      'sign' => '+',
#                                      'value' => bless( [
#                                                          '301'
#                                                        ], 'Math::BigInt::Calc' )
#                                    }, 'Math::BigInt' ),
#                     'bi2bi' => bless( {
#                                         'sign' => '+',
#                                         'value' => bless( [
#                                                             '331'
#                                                           ], 'Math::BigInt::Calc' )
#                                       }, 'Math::BigInt' ),
#                     'bi2i' => 311,
#                     'bi2s' => '321',
#                     'i' => 101,
#                     'i2i' => 111,
#                     'i2s' => '121',
#                     's' => '201',
#                     's2i' => 211,
#                     's2s' => '221'
#                   }
#         };
t/08_bigint.t ............ ok
t/10_scripts.t ........... ok
t/20_reference.t ......... ok
t/author-critic.t ........ skipped: these tests are for testing by the author
t/author-distmeta.t ...... skipped: these tests are for testing by the author
t/author-pod-syntax.t .... skipped: these tests are for testing by the author
All tests successful.
Files=10, Tests=142, 14 wallclock secs ( 0.05 usr  0.03 sys + 13.07 cusr  1.06 csys = 14.22 CPU)
Result: PASS

------------------------------
PREREQUISITES
------------------------------

Prerequisite modules loaded:

requires:

    Module                      Need     Have    
    --------------------------- -------- --------
    base                        0        2.27    
    bignum                      0.51     0.65    
    bigrat                      0.51     0.65    
    Carp                        0        1.52    
    Data::Compare               0        1.28    
    Data::Dumper                0        2.184   
    Getopt::Long                0        2.54    
    IO::Select                  0        1.51    
    JSON::PP                    0        4.15    
    Moose                       0        2.2201  
    Moose::Role                 0        2.2201  
    MooseX::NonMoose            0        0.26    
    MooseX::Role::Parameterized 0        1.11    
    namespace::sweep            0        0.006   
    Net::OpenSSH                0        0.83    
    Object::ID                  0        v0.1.2  
    parent                      0        0.238   
    Path::Class::Dir            0        0.37    
    perl                        5.014000 5.036000
    Pod::Usage                  0        2.03    
    POSIX                       0        2.03    
    Scalar::Util                0        1.63    
    Storable                    0        3.26    
    strict                      0        1.12    
    Term::ReadKey               0        2.38    
    Types::Standard             0        2.002001
    warnings                    0        1.58    

build_requires:

    Module                      Need     Have    
    --------------------------- -------- --------
    ExtUtils::MakeMaker         0        7.66    
    Math::BigFloat              0        1.999837
    Math::BigInt                0        1.999837
    Path::Class                 0        0.37    
    Test2::V0                   0        0.000148
    Test::File::Contents        0        0.23    
    Test::More                  0.94     1.302192
    Test::Script                0        1.29    
    utf8                        0        1.24    

configure_requires:

    Module                      Need     Have    
    --------------------------- -------- --------
    ExtUtils::MakeMaker         0        7.66    


------------------------------
ENVIRONMENT AND OTHER CONTEXT
------------------------------

Environment variables:

    PATH = /usr/local/bin:/usr/bin:/bin:/usr/local/sbin:/usr/sbin:/sbin:/home/cpansand/bin/sh:/home/cpansand/bin:/usr/games:/home/cpansand/devel:/usr/home/eserte/src/srezic-misc/scripts
    PERL5LIB = 
    PERL5OPT = 
    PERL5_CPANPLUS_IS_RUNNING = 95685
    PERL5_CPAN_IS_RUNNING = 95685
    PERL5_CPAN_IS_RUNNING_IN_RECURSION = 95454,95685
    PERL_BATCH = yes
    PERL_CANARY_STABILITY_NOPROMPT = 1
    PERL_CPAN_REPORTER_CONFIG = /var/tmp/cpansmoker-1023/2023040312/cpanreporter_000_config.ini
    PERL_EXTUTILS_AUTOINSTALL = --defaultdeps
    PERL_USE_UNSAFE_INC = 1
    SHELL = /bin/sh
    TMPDIR = /var/tmp/cpansmoker-1023/2023040312

Perl special variables (and OS-specific diagnostics, for MSWin32):

    $^X = /usr/perl5.36.0Dp/bin/perl
    $UID/$EUID = 1023 / 1023
    $GID = 1023 1023
    $EGID = 1023 1023

Perl module toolchain versions installed:

    Module              Have    
    ------------------- --------
    CPAN                2.33    
    CPAN::Meta          2.150010
    Cwd                 3.84    
    ExtUtils::CBuilder  0.280236
    ExtUtils::Command   7.66    
    ExtUtils::Install   2.20    
    ExtUtils::MakeMaker 7.66    
    ExtUtils::Manifest  1.73    
    ExtUtils::ParseXS   3.45    
    File::Spec          3.84    
    JSON                4.10    
    JSON::PP            4.15    
    Module::Build       0.4231  
    Module::Signature   n/a     
    Parse::CPAN::Meta   2.150010
    Test::Harness       3.44    
    Test::More          1.302192
    YAML                1.30    
    YAML::Syck          1.34    
    version             0.9929  


--

Summary of my perl5 (revision 5 version 36 subversion 0) configuration:
   
  Platform:
    osname=freebsd
    osvers=13.1-stable
    archname=amd64-freebsd-ld
    uname='freebsd cloud10.bbbike.org 13.1-stable freebsd 13.1-stable #1 stable13-249d205cb: thu may 5 07:39:11 utc 2022 root@cloud10.bbbike.org:usrobjusrhomeprojectsfreebsd-srcamd64.amd64sysgeneric amd64 '
    config_args='-ds -e -Dprefix=/usr/perl5.36.0Dp -Duselongdouble -Dcf_email=srezic@cpan.org -Doptimize=-O2 -pipe'
    hint=recommended
    useposix=true
    d_sigaction=define
    useithreads=undef
    usemultiplicity=undef
    use64bitint=define
    use64bitall=define
    uselongdouble=define
    usemymalloc=n
    default_inc_excludes_dot=define
  Compiler:
    cc='cc'
    ccflags ='-DHAS_FPSETMASK -DHAS_FLOATINGPOINT_H -fno-strict-aliasing -pipe -fstack-protector-strong -I/usr/local/include'
    optimize='-O2 -pipe'
    cppflags='-DHAS_FPSETMASK -DHAS_FLOATINGPOINT_H -fno-strict-aliasing -pipe -fstack-protector-strong -I/usr/local/include'
    ccversion=''
    gccversion='FreeBSD Clang 13.0.0 (git@github.com:llvm/llvm-project.git llvmorg-13.0.0-0-gd7b669b3a303)'
    gccosandvers=''
    intsize=4
    longsize=8
    ptrsize=8
    doublesize=8
    byteorder=12345678
    doublekind=3
    d_longlong=define
    longlongsize=8
    d_longdbl=define
    longdblsize=16
    longdblkind=3
    ivtype='long'
    ivsize=8
    nvtype='long double'
    nvsize=16
    Off_t='off_t'
    lseeksize=8
    alignbytes=16
    prototype=define
  Linker and Libraries:
    ld='cc'
    ldflags ='-pthread -Wl,-E  -fstack-protector-strong -L/usr/local/lib'
    libpth=/usr/lib /usr/local/lib /usr/lib/clang/13.0.0/lib
    libs=-lpthread -lgdbm -ldl -lm -lcrypt -lutil -lc
    perllibs=-lpthread -ldl -lm -lcrypt -lutil -lc
    libc=
    so=so
    useshrplib=false
    libperl=libperl.a
    gnulibc_version=''
  Dynamic Linking:
    dlsrc=dl_dlopen.xs
    dlext=so
    d_dlsymun=undef
    ccdlflags=' '
    cccdlflags='-DPIC -fPIC'
    lddlflags='-shared  -L/usr/local/lib -fstack-protector-strong'


Characteristics of this binary (from libperl): 
  Compile-time options:
    HAS_TIMES
    PERLIO_LAYERS
    PERL_COPY_ON_WRITE
    PERL_DONT_CREATE_GVSV
    PERL_MALLOC_WRAP
    PERL_OP_PARENT
    PERL_PRESERVE_IVUV
    USE_64_BIT_ALL
    USE_64_BIT_INT
    USE_LARGE_FILES
    USE_LOCALE
    USE_LOCALE_COLLATE
    USE_LOCALE_CTYPE
    USE_LOCALE_NUMERIC
    USE_LOCALE_TIME
    USE_LONG_DOUBLE
    USE_PERLIO
    USE_PERL_ATOF
  Built under freebsd
  Compiled at May 31 2022 04:58:10
  %ENV:
    PERL5LIB=""
    PERL5OPT=""
    PERL5_CPANPLUS_IS_RUNNING="95685"
    PERL5_CPAN_IS_RUNNING="95685"
    PERL5_CPAN_IS_RUNNING_IN_RECURSION="95454,95685"
    PERL_BATCH="yes"
    PERL_CANARY_STABILITY_NOPROMPT="1"
    PERL_CPAN_REPORTER_CONFIG="/var/tmp/cpansmoker-1023/2023040312/cpanreporter_000_config.ini"
    PERL_EXTUTILS_AUTOINSTALL="--defaultdeps"
    PERL_USE_UNSAFE_INC="1"
  @INC:
    /usr/perl5.36.0Dp/lib/site_perl/5.36.0/amd64-freebsd-ld
    /usr/perl5.36.0Dp/lib/site_perl/5.36.0
    /usr/perl5.36.0Dp/lib/5.36.0/amd64-freebsd-ld
    /usr/perl5.36.0Dp/lib/5.36.0
    .