Crypt-OpenSSL-RSA v0.30 Perl 5 v5.24.3 i686-linux-ld
- Status
- Pass
- From
- Nigel Horne
- Dist
-
Crypt-OpenSSL-RSA v0.30
- Platform
- Perl 5 v5.24.3 i686-linux-ld
- Date
- 2018-05-26 01:44:12
- ID
- 4a2575fe-6086-11e8-8fb1-ef5133556b3f
This distribution has been tested as part of the CPAN Testers
project, supporting the Perl programming language. See
http://wiki.cpantesters.org/ for more information or email
questions to cpan-testers-discuss@perl.org
--
Dear Todd Rinaldo,
This is a computer-generated report for Crypt-OpenSSL-RSA-0.30
on perl 5.24.3, created by CPAN-Reporter-1.2018.
Thank you for uploading your work to CPAN. Congratulations!
All tests were successful.
Sections of this report:
* Tester comments
* Program output
* Prerequisites
* Environment and other context
------------------------------
TESTER COMMENTS
------------------------------
Additional comments from tester:
this report is from an automated smoke testing program
and was not reviewed by a human for accuracy
------------------------------
PROGRAM OUTPUT
------------------------------
Output from '/usr/bin/make test':
"/home/njh/perl5/perlbrew/perls/perl-5.24.3-ld/bin/perl5.24.3" -MExtUtils::Command::MM -e 'cp_nonempty' -- RSA.bs blib/arch/auto/Crypt/OpenSSL/RSA/RSA.bs 644
PERL_DL_NONLAZY=1 "/home/njh/perl5/perlbrew/perls/perl-5.24.3-ld/bin/perl5.24.3" "-MExtUtils::Command::MM" "-MTest::Harness" "-e" "undef *Test::Harness::Switches; test_harness(0, 'blib/lib', 'blib/arch')" t/*.t
t/format.t .................. ok
t/bignum.t .................. skipped: Crypt::OpenSSL::Bignum required for bignum tests
t/z_kwalitee.t .............. skipped: This test is only run for the module author
t/z_meta.t .................. skipped: This test is only run for the module author
t/z_perl_minimum_version.t .. skipped: Author tests not required for installation
t/z_pod-coverage.t .......... skipped: This test is only run for the module author
t/z_pod.t ................... skipped: This test is only run for the module author
t/rsa.t ..................... ok
All tests successful.
Files=8, Tests=73, 0 wallclock secs ( 0.07 usr 0.01 sys + 0.33 cusr 0.04 csys = 0.45 CPU)
Result: PASS
------------------------------
PREREQUISITES
------------------------------
Prerequisite modules loaded:
requires:
Module Need Have
---------------------- ----- --------
Crypt::OpenSSL::Random 0 0.15
perl 5.006 5.024003
Test::More 0 1.001014
build_requires:
Module Need Have
---------------------- ----- --------
ExtUtils::MakeMaker 0 7.30
configure_requires:
Module Need Have
---------------------- ----- --------
Crypt::OpenSSL::Guess 0.11 0.11
ExtUtils::MakeMaker 0 7.30
------------------------------
ENVIRONMENT AND OTHER CONTEXT
------------------------------
Environment variables:
AUTOMATED_TESTING = 1
HARNESS_OPTIONS = j2
LANG = en_US.UTF-8
PATH = /home/njh/perl5/perlbrew/bin:/home/njh/perl5/perlbrew/perls/perl-5.24.3-ld/bin:src/njh/smoker/bin:/usr/bin:/bin
PERL5LIB = /home/njh/.cpan/build/Crypt-OpenSSL-Random-0.15-HXdifV/blib/arch:/home/njh/.cpan/build/Crypt-OpenSSL-Random-0.15-HXdifV/blib/lib:/home/njh/.cpan/build/Crypt-OpenSSL-Guess-0.11-uEJWna/blib/arch:/home/njh/.cpan/build/Crypt-OpenSSL-Guess-0.11-uEJWna/blib/lib:/home/njh/.cpan/build/Test-RequiresInternet-0.05-0hLTPH/blib/arch:/home/njh/.cpan/build/Test-RequiresInternet-0.05-0hLTPH/blib/lib:/home/njh/.cpan/build/MailTools-2.20-TyA8XX/blib/arch:/home/njh/.cpan/build/MailTools-2.20-TyA8XX/blib/lib:/home/njh/.cpan/build/TimeDate-2.30-48ilJh/blib/arch:/home/njh/.cpan/build/TimeDate-2.30-48ilJh/blib/lib:/home/njh/.cpan/build/Net-DNS-1.15-46jXXm/blib/arch:/home/njh/.cpan/build/Net-DNS-1.15-46jXXm/blib/lib:/home/njh/.cpan/build/Digest-HMAC-1.03-kKMdJT/blib/arch:/home/njh/.cpan/build/Digest-HMAC-1.03-kKMdJT/blib/lib:/home/njh/.cpan/build/File-ShareDir-Install-0.13-y2pnnp/blib/arch:/home/njh/.cpan/build/File-ShareDir-Install-0.13-y2pnnp/blib/lib
PERL5OPT =
PERL5_CPANPLUS_IS_RUNNING = 6098
PERL5_CPAN_IS_RUNNING = 6098
PERLBREW_BASHRC_VERSION = 0.73
PERLBREW_HOME = /home/njh/.perlbrew
PERLBREW_MANPATH = /home/njh/perl5/perlbrew/perls/perl-5.24.3-ld/man
PERLBREW_PATH = /home/njh/perl5/perlbrew/bin:/home/njh/perl5/perlbrew/perls/perl-5.24.3-ld/bin
PERLBREW_PERL = perl-5.24.3-ld
PERLBREW_ROOT = /home/njh/perl5/perlbrew
PERLBREW_VERSION = 0.73
SHELL = /bin/sh
TMPDIR = /tmp/testwrapper.6088
Perl special variables (and OS-specific diagnostics, for MSWin32):
$^X = /home/njh/perl5/perlbrew/perls/perl-5.24.3-ld/bin/perl5.24.3
$UID/$EUID = 1000 / 1000
$GID = 1000 4 24 25 29 30 44 46 108 1000
$EGID = 1000 4 24 25 29 30 44 46 108 1000
Perl module toolchain versions installed:
Module Have
------------------- ----------
CPAN 2.11_01
CPAN::Meta 2.150005
Cwd 3.63_01
ExtUtils::CBuilder 0.280225
ExtUtils::Command 7.30
ExtUtils::Install 2.06
ExtUtils::MakeMaker 7.30
ExtUtils::Manifest 1.70
ExtUtils::ParseXS 3.31
File::Spec 3.63_01
JSON n/a
JSON::PP 2.27300_01
Module::Build 0.4224
Module::Signature n/a
Parse::CPAN::Meta 1.4417_001
Test::Harness 3.36_01
Test::More 1.001014
YAML 1.24
YAML::Syck n/a
version 0.9916
--
Summary of my perl5 (revision 5 version 24 subversion 3) configuration:
Platform:
osname=linux, osvers=4.3.0-1-686-pae, archname=i686-linux-ld
uname='linux zack 4.3.0-1-686-pae #1 smp debian 4.3.5-1 (2016-02-06) i686 gnulinux '
config_args='-de -Dprefix=/home/njh/perl5/perlbrew/perls/perl-5.24.3-ld -Dusedevel -Duselongdouble -Accflags= -Aeval:scriptdir=/home/njh/perl5/perlbrew/perls/perl-5.24.3-ld/bin'
hint=recommended, useposix=true, d_sigaction=define
useithreads=undef, usemultiplicity=undef
use64bitint=undef, use64bitall=undef, uselongdouble=define
usemymalloc=n, bincompat5005=undef
Compiler:
cc='cc', ccflags ='-fwrapv -fno-strict-aliasing -pipe -fstack-protector-strong -I/usr/local/include -D_LARGEFILE_SOURCE -D_FILE_OFFSET_BITS=64 -D_FORTIFY_SOURCE=2',
optimize='-O2',
cppflags='-fwrapv -fno-strict-aliasing -pipe -fstack-protector-strong -I/usr/local/include'
ccversion='', gccversion='7.2.0', gccosandvers=''
intsize=4, longsize=4, ptrsize=4, doublesize=8, byteorder=1234, doublekind=3
d_longlong=define, longlongsize=8, d_longdbl=define, longdblsize=12, longdblkind=3
ivtype='long', ivsize=4, nvtype='long double', nvsize=12, Off_t='off_t', lseeksize=8
alignbytes=4, prototype=define
Linker and Libraries:
ld='cc', ldflags =' -fstack-protector-strong -L/usr/local/lib'
libpth=/usr/local/lib /usr/lib/gcc/i686-linux-gnu/7/include-fixed /usr/include/i386-linux-gnu /usr/lib /lib/i386-linux-gnu /lib/../lib /usr/lib/i386-linux-gnu /usr/lib/../lib /lib /lib64 /usr/lib64
libs=-lpthread -lnsl -lgdbm -ldb -ldl -lm -lcrypt -lutil -lc -lgdbm_compat
perllibs=-lpthread -lnsl -ldl -lm -lcrypt -lutil -lc
libc=libc-2.24.so, so=so, useshrplib=false, libperl=libperl.a
gnulibc_version='2.24'
Dynamic Linking:
dlsrc=dl_dlopen.xs, dlext=so, d_dlsymun=undef, ccdlflags='-Wl,-E'
cccdlflags='-fPIC', lddlflags='-shared -O2 -L/usr/local/lib -fstack-protector-strong'
Characteristics of this binary (from libperl):
Compile-time options: HAS_TIMES PERLIO_LAYERS PERL_COPY_ON_WRITE
PERL_DONT_CREATE_GVSV
PERL_HASH_FUNC_ONE_AT_A_TIME_HARD PERL_MALLOC_WRAP
PERL_PRESERVE_IVUV PERL_USE_DEVEL USE_LARGE_FILES
USE_LOCALE USE_LOCALE_COLLATE USE_LOCALE_CTYPE
USE_LOCALE_NUMERIC USE_LOCALE_TIME USE_LONG_DOUBLE
USE_PERLIO USE_PERL_ATOF
Locally applied patches:
Devel::PatchPerl 1.38
Built under linux
Compiled at Oct 6 2017 01:36:19
%ENV:
PERL5LIB="/home/njh/.cpan/build/Crypt-OpenSSL-Random-0.15-HXdifV/blib/arch:/home/njh/.cpan/build/Crypt-OpenSSL-Random-0.15-HXdifV/blib/lib:/home/njh/.cpan/build/Crypt-OpenSSL-Guess-0.11-uEJWna/blib/arch:/home/njh/.cpan/build/Crypt-OpenSSL-Guess-0.11-uEJWna/blib/lib:/home/njh/.cpan/build/Test-RequiresInternet-0.05-0hLTPH/blib/arch:/home/njh/.cpan/build/Test-RequiresInternet-0.05-0hLTPH/blib/lib:/home/njh/.cpan/build/MailTools-2.20-TyA8XX/blib/arch:/home/njh/.cpan/build/MailTools-2.20-TyA8XX/blib/lib:/home/njh/.cpan/build/TimeDate-2.30-48ilJh/blib/arch:/home/njh/.cpan/build/TimeDate-2.30-48ilJh/blib/lib:/home/njh/.cpan/build/Net-DNS-1.15-46jXXm/blib/arch:/home/njh/.cpan/build/Net-DNS-1.15-46jXXm/blib/lib:/home/njh/.cpan/build/Digest-HMAC-1.03-kKMdJT/blib/arch:/home/njh/.cpan/build/Digest-HMAC-1.03-kKMdJT/blib/lib:/home/njh/.cpan/build/File-ShareDir-Install-0.13-y2pnnp/blib/arch:/home/njh/.cpan/build/File-ShareDir-Install-0.13-y2pnnp/blib/lib"
PERL5OPT=""
PERL5_CPANPLUS_IS_RUNNING="6098"
PERL5_CPAN_IS_RUNNING="6098"
PERLBREW_BASHRC_VERSION="0.73"
PERLBREW_HOME="/home/njh/.perlbrew"
PERLBREW_MANPATH="/home/njh/perl5/perlbrew/perls/perl-5.24.3-ld/man"
PERLBREW_PATH="/home/njh/perl5/perlbrew/bin:/home/njh/perl5/perlbrew/perls/perl-5.24.3-ld/bin"
PERLBREW_PERL="perl-5.24.3-ld"
PERLBREW_ROOT="/home/njh/perl5/perlbrew"
PERLBREW_VERSION="0.73"
@INC:
/home/njh/.cpan/build/Crypt-OpenSSL-Random-0.15-HXdifV/blib/arch
/home/njh/.cpan/build/Crypt-OpenSSL-Random-0.15-HXdifV/blib/lib
/home/njh/.cpan/build/Crypt-OpenSSL-Guess-0.11-uEJWna/blib/arch
/home/njh/.cpan/build/Crypt-OpenSSL-Guess-0.11-uEJWna/blib/lib
/home/njh/.cpan/build/Test-RequiresInternet-0.05-0hLTPH/blib/arch
/home/njh/.cpan/build/Test-RequiresInternet-0.05-0hLTPH/blib/lib
/home/njh/.cpan/build/MailTools-2.20-TyA8XX/blib/arch
/home/njh/.cpan/build/MailTools-2.20-TyA8XX/blib/lib
/home/njh/.cpan/build/TimeDate-2.30-48ilJh/blib/arch
/home/njh/.cpan/build/TimeDate-2.30-48ilJh/blib/lib
/home/njh/.cpan/build/Net-DNS-1.15-46jXXm/blib/arch
/home/njh/.cpan/build/Net-DNS-1.15-46jXXm/blib/lib
/home/njh/.cpan/build/Digest-HMAC-1.03-kKMdJT/blib/arch
/home/njh/.cpan/build/Digest-HMAC-1.03-kKMdJT/blib/lib
/home/njh/.cpan/build/File-ShareDir-Install-0.13-y2pnnp/blib/arch
/home/njh/.cpan/build/File-ShareDir-Install-0.13-y2pnnp/blib/lib
/home/njh/perl5/perlbrew/perls/perl-5.24.3-ld/lib/site_perl/5.24.3/i686-linux-ld
/home/njh/perl5/perlbrew/perls/perl-5.24.3-ld/lib/site_perl/5.24.3
/home/njh/perl5/perlbrew/perls/perl-5.24.3-ld/lib/5.24.3/i686-linux-ld
/home/njh/perl5/perlbrew/perls/perl-5.24.3-ld/lib/5.24.3
.