Report for DBIx-Schema-Changelog-0.7.0

Back
From: metabase:user:314402c4-2aae-11df-837a-5e0a49663a4f
Subject: PASS DBIx-Schema-Changelog-0.7.0 v5.20.0 GNU/Linux
Date: 2015-03-15T13:15:02Z

This distribution has been tested as part of the CPAN Testers
project, supporting the Perl programming language.  See
http://wiki.cpantesters.org/ for more information or email
questions to cpan-testers-discuss@perl.org


--
Dear Mario Zieschang,

This is a computer-generated report for DBIx-Schema-Changelog-0.7.0
on perl 5.20.0, created by CPAN-Reporter-1.2011.

Thank you for uploading your work to CPAN.  Congratulations!
All tests were successful.

Sections of this report:

    * Tester comments
    * Program output
    * Prerequisites
    * Environment and other context

------------------------------
TESTER COMMENTS
------------------------------

Additional comments from tester:

none provided

------------------------------
PROGRAM OUTPUT
------------------------------

Output from '/usr/bin/make test':

PERL_DL_NONLAZY=1 "/bbbike/perl-5.20.0/bin/perl5.20.0" "-MExtUtils::Command::MM" "-MTest::Harness" "-e" "undef *Test::Harness::Switches; test_harness(0, 'blib/lib', 'blib/arch')" t/*.t
t/00-load.t ........ ok
t/010-changelog.t .. ok
t/020-driver.t ..... ok
DBIx::Schema::Changelog::File::Yaml. Read changelog file '/tmpfs/.cpan-build/DBIx-Schema-Changelog-0.7.0-yFt5ti/t/data/changelog/changelog.yml'. 
DBIx::Schema::Changelog::File::Yaml. Read changelog file '/tmpfs/.cpan-build/DBIx-Schema-Changelog-0.7.0-yFt5ti/t/data/changelog/changelog-01.yml'. 
DBIx::Schema::Changelog::Action::Index (36) Create index is not supported!  
DBIx::Schema::Changelog::Action::Sql (33). WARNING: Execute sql statements can lead very likely to incompatibilities.
DBIx::Schema::Changelog::Action::Column (72) Drop column is not supported!
DBIx::Schema::Changelog::Action::Table (187). Add constraint is not supported!
DBIx::Schema::Changelog::Action::Table (187). Add constraint is not supported!
t/021-sqlite.t ..... ok
HINWEIS:  CREATE TABLE / PRIMARY KEY erstellt implizit einen Index »databasechangelog_pkey« für Tabelle »databasechangelog«
DBIx::Schema::Changelog::File::Yaml. Read changelog file '/tmpfs/.cpan-build/DBIx-Schema-Changelog-0.7.0-yFt5ti/t/data/changelog/changelog.yml'. 
DBIx::Schema::Changelog::File::Yaml. Read changelog file '/tmpfs/.cpan-build/DBIx-Schema-Changelog-0.7.0-yFt5ti/t/data/changelog/changelog-01.yml'. 
HINWEIS:  CREATE TABLE / PRIMARY KEY erstellt implizit einen Index »client_pkey« für Tabelle »client«
HINWEIS:  CREATE TABLE / PRIMARY KEY erstellt implizit einen Index »company_pkey« für Tabelle »company«
HINWEIS:  CREATE TABLE / PRIMARY KEY erstellt implizit einen Index »user_pkey« für Tabelle »user«
HINWEIS:  CREATE TABLE / PRIMARY KEY erstellt implizit einen Index »player_pkey« für Tabelle »player«
HINWEIS:  CREATE TABLE / PRIMARY KEY erstellt implizit einen Index »team_pkey« für Tabelle »team«
HINWEIS:  CREATE TABLE / PRIMARY KEY erstellt implizit einen Index »match_player_pkey« für Tabelle »match_player«
HINWEIS:  CREATE TABLE / PRIMARY KEY erstellt implizit einen Index »match_team_pkey« für Tabelle »match_team«
DBIx::Schema::Changelog::Action::Sql (33). WARNING: Execute sql statements can lead very likely to incompatibilities.
HINWEIS:  CREATE TABLE / PRIMARY KEY erstellt implizit einen Index »dop_table_test_pkey« für Tabelle »dop_table_test«
HINWEIS:  CREATE TABLE / PRIMARY KEY erstellt implizit einen Index »add_foreign_test_pkey« für Tabelle »add_foreign_test«
HINWEIS:  CREATE TABLE / PRIMARY KEY erstellt implizit einen Index »add_unique_test_pkey« für Tabelle »add_unique_test«
HINWEIS:  ALTER TABLE / ADD UNIQUE erstellt implizit einen Index »unique_add_unique_test_id_player1« für Tabelle »add_unique_test«
t/022-pg.t ......... ok
t/030-changeset.t .. ok
t/040-action.t ..... ok
DBIx::Schema::Changelog::Action::Column (57) Alter column is not supported!
DBIx::Schema::Changelog::Action::Column (72) Drop column is not supported!
t/0401-column.t .... ok
t/0402-action.t .... ok
t/0403-index.t ..... ok
t/0404-table.t ..... ok
t/0405-view.t ...... ok
t/0406-sql.t ....... ok
t/0407-sequence.t .. ok
t/0408-default.t ... ok
t/0409-function.t .. ok
t/0410-trigger.t ... ok
t/050-command.t .... ok
t/051-base.t ....... ok
t/052-driver.t ..... ok
t/053-file.t ....... ok
DBIx::Schema::Changelog::File::Yaml. Read changelog file '/tmpfs/.cpan-build/DBIx-Schema-Changelog-0.7.0-yFt5ti/t/../.tmp/changelog/changelog.yml'. 
DBIx::Schema::Changelog::File::Yaml. Read changelog file '/tmpfs/.cpan-build/DBIx-Schema-Changelog-0.7.0-yFt5ti/t/../.tmp/changelog/changelog-01.yml'. 
t/054-changeset.t .. ok
t/060-file.t ....... ok
DBIx::Schema::Changelog::File::Yaml. Read changelog file '/tmpfs/.cpan-build/DBIx-Schema-Changelog-0.7.0-yFt5ti/t/data/changelog/changelog.yml'. 
DBIx::Schema::Changelog::File::Yaml. Read changelog file '/tmpfs/.cpan-build/DBIx-Schema-Changelog-0.7.0-yFt5ti/t/data/changelog/changelog-01.yml'. 
t/061-yaml.t ....... ok
DBIx::Schema::Changelog::File::JSON. Read changelog file '/tmpfs/.cpan-build/DBIx-Schema-Changelog-0.7.0-yFt5ti/t/data/changelog/changelog.json'. 
DBIx::Schema::Changelog::File::JSON. Read changelog file '/tmpfs/.cpan-build/DBIx-Schema-Changelog-0.7.0-yFt5ti/t/data/changelog/changelog-01.json'. 
t/062-json.t ....... ok
Could not remove /tmpfs/.cpan-build/DBIx-Schema-Changelog-0.7.0-yFt5ti/t/../.tmp: Datei oder Verzeichnis nicht gefunden at t/999-delete.t line 17.
t/999-delete.t ..... ok
t/boilerplate.t .... ok
t/manifest.t ....... skipped: Author tests not required for installation
t/pod-coverage.t ... skipped: Author tests not required for installation
t/pod-spelling.t ... skipped: Author tests not required for installation
t/pod.t ............ skipped: Author tests not required for installation
All tests successful.

Test Summary Report
-------------------
t/boilerplate.t  (Wstat: 0 Tests: 5 Failed: 0)
  TODO passed:   1-3
Files=31, Tests=209, 424 wallclock secs ( 0.13 usr  0.16 sys + 10.94 cusr  4.72 csys = 15.95 CPU)
Result: PASS

------------------------------
PREREQUISITES
------------------------------

Prerequisite modules loaded:

requires:

    Module                       Need     Have    
    ---------------------------- -------- --------
    DBD::SQLite                  1.4      1.46    
    DBI                          1.632    1.633   
    File::Spec                   0        3.47    
    Getopt::Long                 2.42     2.45    
    Hash::MD5                    0.05     0.05    
    JSON::Parse                  0.31     0.31    
    Method::Signatures::Simple   1.07     1.07    
    Moose                        2.1403   2.1403  
    MooseX::HasDefaults::RO      0        0       
    MooseX::Types::LoadableClass 0.013    0.013   
    MooseX::Types::Moose         0.45     0.45    
    MooseX::Types::Path::Class   0.06     0.06    
    MooseX::Types::PerlVersion   0.002    0.002   
    Path::Class                  0.3      0.35    
    perl                         5.010000 5.020000
    Pod::Coverage::TrustPod      0        0.100003
    Pod::Usage                   0        1.65    
    SQL::Abstract                1.81     1.81    
    Storable                     2.49     2.51    
    Test::CheckManifest          0        1.28    
    Test::Cmd                    0        1.07    
    Test::Exception              0        0.38    
    Test::Pod::Coverage          0        1.10    
    Test::PostgreSQL             1.01     1.05    
    Test::Requires               0        0.08    
    Test::Spelling               0        0.19    
    Text::Trim                   1.02     1.02    
    Time::Piece                  1.27     1.27    
    YAML                         1.13     1.14    
    YAML::XS                     0.55     0.59    

build_requires:

    Module                       Need     Have    
    ---------------------------- -------- --------
    DBD::SQLite                  1.4      1.46    
    DBI                          1.632    1.633   
    File::Spec                   0        3.47    
    Getopt::Long                 2.42     2.45    
    Hash::MD5                    0.05     0.05    
    JSON::Parse                  0.31     0.31    
    Method::Signatures::Simple   1.07     1.07    
    Moose                        2.1403   2.1403  
    MooseX::HasDefaults::RO      0        0       
    MooseX::Types::LoadableClass 0.013    0.013   
    MooseX::Types::Moose         0.45     0.45    
    MooseX::Types::Path::Class   0.06     0.06    
    MooseX::Types::PerlVersion   0.002    0.002   
    Path::Class                  0.3      0.35    
    Pod::Coverage::TrustPod      0        0.100003
    Pod::Usage                   0        1.65    
    SQL::Abstract                1.81     1.81    
    Storable                     2.49     2.51    
    Test::CheckManifest          0        1.28    
    Test::Cmd                    0        1.07    
    Test::Exception              0        0.38    
    Test::Pod::Coverage          0        1.10    
    Test::PostgreSQL             1.01     1.05    
    Test::Requires               0        0.08    
    Test::Spelling               0        0.19    
    Text::Trim                   1.02     1.02    
    Time::Piece                  1.27     1.27    
    YAML                         1.13     1.14    
    YAML::XS                     0.55     0.59    

configure_requires:

    Module                       Need     Have    
    ---------------------------- -------- --------
    ExtUtils::MakeMaker          0        7.04    


------------------------------
ENVIRONMENT AND OTHER CONTEXT
------------------------------

Environment variables:

    DBIC_NO_WARN_BAD_PERL = 1
    LANG = C
    LC_ALL = de_DE.UTF-8
    PATH = /usr/local/bin:/usr/bin:/bin:/usr/local/sbin:/usr/sbin:/sbin:/home/eserte/bin/linux-gnu:/home/eserte/bin/sh:/home/eserte/bin:/usr/games:/home/eserte/devel:/home/eserte/src/srezic-misc/scripts
    PERL5LIB = 
    PERL5OPT = 
    PERL5_CPANPLUS_IS_RUNNING = 20590
    PERL5_CPAN_IS_RUNNING = 20590
    PERL5_CPAN_IS_RUNNING_IN_RECURSION = 20523,20590
    PERLDOC = -MPod::Perldoc::ToTextOverstrike
    PERL_BATCH = yes
    PERL_CPAN_REPORTER_CONFIG = /var/tmp/cpansmoker-1001/qVFtTIVf77_config.ini
    PERL_EXTUTILS_AUTOINSTALL = --defaultdeps
    PERL_HTML_DISPLAY_CLASS = HTML::Display::Mozilla
    PERL_PARALLEL_SMOKER = yes
    SHELL = /bin/zsh
    TERM = screen
    TMPDIR = /var/tmp/cpansmoker-1001

Perl special variables (and OS-specific diagnostics, for MSWin32):

    $^X = /bbbike/perl-5.20.0/bin/perl5.20.0
    $UID/$EUID = 1001 / 1001
    $GID = 1001 109 1001
    $EGID = 1001 109 1001

Perl module toolchain versions installed:

    Module              Have    
    ------------------- --------
    CPAN                2.05    
    CPAN::Meta          2.150001
    Cwd                 3.47    
    ExtUtils::CBuilder  0.280217
    ExtUtils::Command   1.18    
    ExtUtils::Install   2.04    
    ExtUtils::MakeMaker 7.04    
    ExtUtils::Manifest  1.68    
    ExtUtils::ParseXS   3.24    
    File::Spec          3.47    
    JSON                2.90    
    JSON::PP            2.27203 
    Module::Build       0.4211  
    Module::Signature   0.73    
    Parse::CPAN::Meta   1.4414  
    Test::Harness       3.34    
    Test::More          1.001014
    YAML                1.14    
    YAML::Syck          1.29    
    version             0.9912  


--

Summary of my perl5 (revision 5 version 20 subversion 0) configuration:
   
  Platform:
    osname=linux, osvers=3.2.0-4-amd64, archname=x86_64-linux
    uname='linux eserte 3.2.0-4-amd64 #1 smp debian 3.2.57-3+deb7u1 x86_64 gnulinux '
    config_args='-ds -e -Dprefix=/opt/perl-5.20.0'
    hint=recommended, useposix=true, d_sigaction=define
    useithreads=undef, usemultiplicity=undef
    use64bitint=define, use64bitall=define, uselongdouble=undef
    usemymalloc=n, bincompat5005=undef
  Compiler:
    cc='cc', ccflags ='-fwrapv -fno-strict-aliasing -pipe -fstack-protector -I/usr/local/include -D_LARGEFILE_SOURCE -D_FILE_OFFSET_BITS=64',
    optimize='-O2',
    cppflags='-fwrapv -fno-strict-aliasing -pipe -fstack-protector -I/usr/local/include'
    ccversion='', gccversion='4.7.2', gccosandvers=''
    intsize=4, longsize=8, ptrsize=8, doublesize=8, byteorder=12345678
    d_longlong=define, longlongsize=8, d_longdbl=define, longdblsize=16
    ivtype='long', ivsize=8, nvtype='double', nvsize=8, Off_t='off_t', lseeksize=8
    alignbytes=8, prototype=define
  Linker and Libraries:
    ld='cc', ldflags =' -fstack-protector -L/usr/local/lib'
    libpth=/usr/local/lib /usr/lib/gcc/x86_64-linux-gnu/4.7/include-fixed /usr/include/x86_64-linux-gnu /usr/lib /lib/x86_64-linux-gnu /lib/../lib /usr/lib/x86_64-linux-gnu /usr/lib/../lib /lib
    libs=-lnsl -ldb -ldl -lm -lcrypt -lutil -lc
    perllibs=-lnsl -ldl -lm -lcrypt -lutil -lc
    libc=libc-2.13.so, so=so, useshrplib=false, libperl=libperl.a
    gnulibc_version='2.13'
  Dynamic Linking:
    dlsrc=dl_dlopen.xs, dlext=so, d_dlsymun=undef, ccdlflags='-Wl,-E'
    cccdlflags='-fPIC', lddlflags='-shared -O2 -L/usr/local/lib -fstack-protector'


Characteristics of this binary (from libperl): 
  Compile-time options: HAS_TIMES PERLIO_LAYERS PERL_DONT_CREATE_GVSV
                        PERL_HASH_FUNC_ONE_AT_A_TIME_HARD PERL_MALLOC_WRAP
                        PERL_NEW_COPY_ON_WRITE PERL_PRESERVE_IVUV
                        USE_64_BIT_ALL USE_64_BIT_INT USE_LARGE_FILES
                        USE_LOCALE USE_LOCALE_COLLATE USE_LOCALE_CTYPE
                        USE_LOCALE_NUMERIC USE_PERLIO USE_PERL_ATOF
  Built under linux
  Compiled at May 28 2014 04:18:43
  %ENV:
    PERL5LIB=""
    PERL5OPT=""
    PERL5_CPANPLUS_IS_RUNNING="20590"
    PERL5_CPAN_IS_RUNNING="20590"
    PERL5_CPAN_IS_RUNNING_IN_RECURSION="20523,20590"
    PERLDOC="-MPod::Perldoc::ToTextOverstrike"
    PERL_BATCH="yes"
    PERL_CPAN_REPORTER_CONFIG="/var/tmp/cpansmoker-1001/qVFtTIVf77_config.ini"
    PERL_EXTUTILS_AUTOINSTALL="--defaultdeps"
    PERL_HTML_DISPLAY_CLASS="HTML::Display::Mozilla"
    PERL_PARALLEL_SMOKER="yes"
  @INC:
    /opt/perl-5.20.0/lib/site_perl/5.20.0/x86_64-linux
    /opt/perl-5.20.0/lib/site_perl/5.20.0
    /opt/perl-5.20.0/lib/5.20.0/x86_64-linux
    /opt/perl-5.20.0/lib/5.20.0
    .