Report for Dist-Zilla-PluginBundle-BioPerl-0.23

Back
From: metabase:user:314402c4-2aae-11df-837a-5e0a49663a4f
Subject: PASS Dist-Zilla-PluginBundle-BioPerl-0.23 v5.22.3 RC5 GNU/Linux
Date: 2017-01-09T19:24:50Z

This distribution has been tested as part of the CPAN Testers
project, supporting the Perl programming language.  See
http://wiki.cpantesters.org/ for more information or email
questions to cpan-testers-discuss@perl.org


--
Dear Christopher Fields,

This is a computer-generated report for Dist-Zilla-PluginBundle-BioPerl-0.23
on perl 5.22.3, created by CPAN-Reporter-1.2018.

Thank you for uploading your work to CPAN.  Congratulations!
All tests were successful.

Sections of this report:

    * Tester comments
    * Program output
    * Prerequisites
    * Environment and other context

------------------------------
TESTER COMMENTS
------------------------------

Additional comments from tester:

none provided

------------------------------
PROGRAM OUTPUT
------------------------------

Output from '/usr/bin/make test':

PERL_DL_NONLAZY=1 "/bbbike/perl-5.22.3-RC5/bin/perl" "-MExtUtils::Command::MM" "-MTest::Harness" "-e" "undef *Test::Harness::Switches; test_harness(0, 'blib/lib', 'blib/arch')" t/*.t
t/00-compile.t ............ ok
t/author-no-tabs.t ........ skipped: these tests are for testing by the author
t/release-eol.t ........... skipped: these tests are for release candidate testing
t/release-mojibake.t ...... skipped: these tests are for release candidate testing
t/release-pod-coverage.t .. skipped: these tests are for release candidate testing
t/release-pod-syntax.t .... skipped: these tests are for release candidate testing
All tests successful.
Files=6, Tests=2,  4 wallclock secs ( 0.02 usr  0.02 sys +  1.04 cusr  0.15 csys =  1.23 CPU)
Result: PASS

------------------------------
PREREQUISITES
------------------------------

Prerequisite modules loaded:

requires:

    Module                                          Need Have    
    ----------------------------------------------- ---- --------
    Dist::Zilla::Plugin::Authority                  0    1.009   
    Dist::Zilla::Plugin::AutoMetaResources          0    1.21    
    Dist::Zilla::Plugin::AutoPrereqs                0    6.008   
    Dist::Zilla::Plugin::ConfirmRelease             0    6.008   
    Dist::Zilla::Plugin::EOLTests                   0    0.19    
    Dist::Zilla::Plugin::ExecDir                    0    6.008   
    Dist::Zilla::Plugin::ExtraTests                 0    6.008   
    Dist::Zilla::Plugin::FinderCode                 0    6.008   
    Dist::Zilla::Plugin::GatherDir                  0    6.008   
    Dist::Zilla::Plugin::Git::Check                 0    2.041   
    Dist::Zilla::Plugin::Git::Commit                0    2.041   
    Dist::Zilla::Plugin::Git::Tag                   0    2.041   
    Dist::Zilla::Plugin::License                    0    6.008   
    Dist::Zilla::Plugin::MakeMaker                  0    6.008   
    Dist::Zilla::Plugin::Manifest                   0    6.008   
    Dist::Zilla::Plugin::ManifestSkip               0    6.008   
    Dist::Zilla::Plugin::MetaConfig                 0    6.008   
    Dist::Zilla::Plugin::MetaJSON                   0    6.008   
    Dist::Zilla::Plugin::MetaResources              0    6.008   
    Dist::Zilla::Plugin::MetaYAML                   0    6.008   
    Dist::Zilla::Plugin::MojibakeTests              0    0.8     
    Dist::Zilla::Plugin::NextRelease                0    6.008   
    Dist::Zilla::Plugin::PkgVersion                 0    6.008   
    Dist::Zilla::Plugin::PodCoverageTests           0    6.008   
    Dist::Zilla::Plugin::PodSyntaxTests             0    6.008   
    Dist::Zilla::Plugin::PodWeaver                  0    4.008   
    Dist::Zilla::Plugin::Prereqs                    0    6.008   
    Dist::Zilla::Plugin::Prereqs::Plugins           0    1.003002
    Dist::Zilla::Plugin::PruneCruft                 0    6.008   
    Dist::Zilla::Plugin::RunExtraTests              0    0.029   
    Dist::Zilla::Plugin::ShareDir                   0    6.008   
    Dist::Zilla::Plugin::Test::Compile              0    2.056   
    Dist::Zilla::Plugin::Test::NoTabs               0    0.15    
    Dist::Zilla::Plugin::TestRelease                0    6.008   
    Dist::Zilla::Plugin::UploadToCPAN               0    6.008   
    Dist::Zilla::Role::PluginBundle::Config::Slicer 0    0.201   
    Dist::Zilla::Role::PluginBundle::Easy           0    6.008   
    Dist::Zilla::Role::PluginBundle::PluginRemover  0    0.103   
    Moose                                           1.00 2.1807  
    MooseX::AttributeShortcuts                      0    0.028   
    MooseX::Types::Email                            0    0.007   
    MooseX::Types::Moose                            0    0.49    
    MooseX::Types::URI                              0    0.08    
    namespace::autoclean                            0    0.28    
    Pod::Elemental::Transformer::List               0    0.102000
    Pod::Weaver::Config::Assembler                  0    4.015   
    Pod::Weaver::Plugin::SingleEncoding             0    4.015   
    Pod::Weaver::Section::Contributors              0    0.009   
    Pod::Weaver::Section::GenerateSection           0    1.02    
    Pod::Weaver::Section::Legal::Complicated        0    1.21    
    strict                                          0    1.09    
    utf8                                            0    1.17    
    warnings                                        0    1.34    

build_requires:

    Module                                          Need Have    
    ----------------------------------------------- ---- --------
    ExtUtils::MakeMaker                             0    7.24    
    File::Spec                                      0    3.62    
    IO::Handle                                      0    1.35    
    IPC::Open3                                      0    1.18    
    Test::More                                      0    1.302073

configure_requires:

    Module                                          Need Have    
    ----------------------------------------------- ---- --------
    ExtUtils::MakeMaker                             6.30 7.24    


------------------------------
ENVIRONMENT AND OTHER CONTEXT
------------------------------

Environment variables:

    LANG = C
    LC_ALL = de_DE.UTF-8
    PATH = /usr/local/bin:/usr/bin:/bin:/usr/local/sbin:/usr/sbin:/sbin:/home/cpansand/bin/linux-gnu:/home/cpansand/bin/sh:/home/cpansand/bin:/usr/games:/home/cpansand/devel:/home/eserte/src/srezic-misc/scripts
    PERL5LIB = 
    PERL5OPT = 
    PERL5_CPANPLUS_IS_RUNNING = 32067
    PERL5_CPAN_IS_RUNNING = 32067
    PERL5_CPAN_IS_RUNNING_IN_RECURSION = 19709,32067
    PERLDOC = -MPod::Perldoc::ToTextOverstrike
    PERL_BATCH = yes
    PERL_CANARY_STABILITY_NOPROMPT = 1
    PERL_CPAN_REPORTER_CONFIG = /var/tmp/cpansmoker-1023/2017010915/cpanreporter_000_config.ini
    PERL_EXTUTILS_AUTOINSTALL = --defaultdeps
    PERL_PARALLEL_SMOKER = yes
    PERL_USE_UNSAFE_INC = 1
    SHELL = /bin/zsh
    TERM = screen
    TMPDIR = /var/tmp/cpansmoker-1023/2017010915

Perl special variables (and OS-specific diagnostics, for MSWin32):

    $^X = /bbbike/perl-5.22.3-RC5/bin/perl
    $UID/$EUID = 1023 / 1023
    $GID = 1023 1023
    $EGID = 1023 1023

Perl module toolchain versions installed:

    Module              Have    
    ------------------- --------
    CPAN                2.14    
    CPAN::Meta          2.150010
    Cwd                 3.62    
    ExtUtils::CBuilder  0.280224
    ExtUtils::Command   7.24    
    ExtUtils::Install   2.04    
    ExtUtils::MakeMaker 7.24    
    ExtUtils::Manifest  1.70    
    ExtUtils::ParseXS   3.30    
    File::Spec          3.62    
    JSON                2.90    
    JSON::PP            2.27400 
    Module::Build       0.4220  
    Module::Signature   0.81    
    Parse::CPAN::Meta   2.150010
    Test::Harness       3.36    
    Test::More          1.302073
    YAML                1.21    
    YAML::Syck          1.29    
    version             0.9917  


--

Summary of my perl5 (revision 5 version 22 subversion 3) configuration:
   
  Platform:
    osname=linux, osvers=3.16.0-4-amd64, archname=x86_64-linux
    uname='linux eserte 3.16.0-4-amd64 #1 smp debian 3.16.36-1+deb8u2 (2016-10-19) x86_64 gnulinux '
    config_args='-ds -e -Dprefix=/opt/perl-5.22.3-RC5 -Dcf_email=srezic@cpan.org'
    hint=recommended, useposix=true, d_sigaction=define
    useithreads=undef, usemultiplicity=undef
    use64bitint=define, use64bitall=define, uselongdouble=undef
    usemymalloc=n, bincompat5005=undef
  Compiler:
    cc='cc', ccflags ='-fwrapv -fno-strict-aliasing -pipe -fstack-protector-strong -I/usr/local/include -D_LARGEFILE_SOURCE -D_FILE_OFFSET_BITS=64 -D_FORTIFY_SOURCE=2',
    optimize='-O2',
    cppflags='-fwrapv -fno-strict-aliasing -pipe -fstack-protector-strong -I/usr/local/include'
    ccversion='', gccversion='4.9.2', gccosandvers=''
    intsize=4, longsize=8, ptrsize=8, doublesize=8, byteorder=12345678, doublekind=3
    d_longlong=define, longlongsize=8, d_longdbl=define, longdblsize=16, longdblkind=3
    ivtype='long', ivsize=8, nvtype='double', nvsize=8, Off_t='off_t', lseeksize=8
    alignbytes=8, prototype=define
  Linker and Libraries:
    ld='cc', ldflags =' -fstack-protector-strong -L/usr/local/lib'
    libpth=/usr/local/lib /usr/lib/gcc/x86_64-linux-gnu/4.9/include-fixed /usr/include/x86_64-linux-gnu /usr/lib /lib/x86_64-linux-gnu /lib/../lib /usr/lib/x86_64-linux-gnu /usr/lib/../lib /lib
    libs=-lpthread -lnsl -lgdbm -ldb -ldl -lm -lcrypt -lutil -lc -lgdbm_compat
    perllibs=-lpthread -lnsl -ldl -lm -lcrypt -lutil -lc
    libc=libc-2.19.so, so=so, useshrplib=false, libperl=libperl.a
    gnulibc_version='2.19'
  Dynamic Linking:
    dlsrc=dl_dlopen.xs, dlext=so, d_dlsymun=undef, ccdlflags='-Wl,-E'
    cccdlflags='-fPIC', lddlflags='-shared -O2 -L/usr/local/lib -fstack-protector-strong'


Characteristics of this binary (from libperl): 
  Compile-time options: HAS_TIMES PERLIO_LAYERS PERL_DONT_CREATE_GVSV
                        PERL_HASH_FUNC_ONE_AT_A_TIME_HARD PERL_MALLOC_WRAP
                        PERL_NEW_COPY_ON_WRITE PERL_PRESERVE_IVUV
                        USE_64_BIT_ALL USE_64_BIT_INT USE_LARGE_FILES
                        USE_LOCALE USE_LOCALE_COLLATE USE_LOCALE_CTYPE
                        USE_LOCALE_NUMERIC USE_LOCALE_TIME USE_PERLIO
                        USE_PERL_ATOF
  Locally applied patches:
	RC5
  Built under linux
  Compiled at Jan  5 2017 19:28:05
  %ENV:
    PERL5LIB=""
    PERL5OPT=""
    PERL5_CPANPLUS_IS_RUNNING="32067"
    PERL5_CPAN_IS_RUNNING="32067"
    PERL5_CPAN_IS_RUNNING_IN_RECURSION="19709,32067"
    PERLDOC="-MPod::Perldoc::ToTextOverstrike"
    PERL_BATCH="yes"
    PERL_CANARY_STABILITY_NOPROMPT="1"
    PERL_CPAN_REPORTER_CONFIG="/var/tmp/cpansmoker-1023/2017010915/cpanreporter_000_config.ini"
    PERL_EXTUTILS_AUTOINSTALL="--defaultdeps"
    PERL_PARALLEL_SMOKER="yes"
    PERL_USE_UNSAFE_INC="1"
  @INC:
    /opt/perl-5.22.3-RC5/lib/site_perl/5.22.3/x86_64-linux
    /opt/perl-5.22.3-RC5/lib/site_perl/5.22.3
    /opt/perl-5.22.3-RC5/lib/5.22.3/x86_64-linux
    /opt/perl-5.22.3-RC5/lib/5.22.3
    .