Alien-sqlite v1.07 Perl 5 v5.26.0 amd64-freebsd

Status
Pass
From
Slaven Rezić
Dist
Alien-sqlite v1.07
Platform
Perl 5 v5.26.0 amd64-freebsd
Date
2022-09-19 03:15:19
ID
4a86a38c-37c9-11ed-a98a-c42e6e8775ea
This distribution has been tested as part of the CPAN Testers
project, supporting the Perl programming language.  See
http://wiki.cpantesters.org/ for more information or email
questions to cpan-testers-discuss@perl.org


--
Dear Shawn Laffan,

This is a computer-generated report for Alien-sqlite-1.07
on perl 5.26.0, created by CPAN-Reporter-1.2018.

Thank you for uploading your work to CPAN.  Congratulations!
All tests were successful.

Sections of this report:

    * Tester comments
    * Program output
    * Prerequisites
    * Environment and other context

------------------------------
TESTER COMMENTS
------------------------------

Additional comments from tester:

none provided

------------------------------
PROGRAM OUTPUT
------------------------------

Output from '/usr/bin/make test':

"/usr/perl5.26.0p/bin/perl" -MAlien::Build::MM=cmd -e test
Alien::Build::Plugin::PkgConfig::Negotiate> Using PkgConfig plugin: PkgConfig::LibPkgConf
Downloaded version is 3.39.3
Running under CI or automated testing
PERL_DL_NONLAZY=1 "/usr/perl5.26.0p/bin/perl" "-MExtUtils::Command::MM" "-MTest::Harness" "-e" "undef *Test::Harness::Switches; test_harness(0, 'blib/lib', 'blib/arch')" t/*.t
# Testing Alien::sqlite 1.07, Perl 5.026000, /usr/perl5.26.0p/bin/perl
t/00-load.t .... ok
# NAME=sqlite3
# VERSION=3.39.3
# CFLAGS: -I/home/cpansand/.cpan/build/2022091905/Alien-sqlite-1.07-1/blib/lib/auto/share/dist/Alien-sqlite/include
t/01-config.t .. ok
# libs: -L/home/cpansand/.cpan/build/2022091905/Alien-sqlite-1.07-1/blib/lib/auto/share/dist/Alien-sqlite/lib -lsqlite3
# cflags: -I/home/cpansand/.cpan/build/2022091905/Alien-sqlite-1.07-1/blib/lib/auto/share/dist/Alien-sqlite/include
# Dynamic libs: /home/cpansand/.cpan/build/2022091905/Alien-sqlite-1.07-1/blib/lib/auto/share/dist/Alien-sqlite/lib/libsqlite3.so:/home/cpansand/.cpan/build/2022091905/Alien-sqlite-1.07-1/blib/lib/auto/share/dist/Alien-sqlite/lib/libsqlite3.so.0:/home/cpansand/.cpan/build/2022091905/Alien-sqlite-1.07-1/blib/lib/auto/share/dist/Alien-sqlite/lib/libsqlite3.so.0.8.6
# bin dir: /home/cpansand/.cpan/build/2022091905/Alien-sqlite-1.07-1/blib/lib/auto/share/dist/Alien-sqlite/bin
t/02-use.t ..... ok
# bin dir: /home/cpansand/.cpan/build/2022091905/Alien-sqlite-1.07-1/blib/lib/auto/share/dist/Alien-sqlite/bin
# /home/cpansand/.cpan/build/2022091905/Alien-sqlite-1.07-1/blib/lib/auto/share/dist/Alien-sqlite/bin/sqlite3 exited with value 0
# sqlite3 -version: 3.39.3 2022-09-05 11:02:23 4635f4a69c8c2a8df242b384a992aea71224e39a2ccab42d8c0b0602f1e826e8
t/03-run.t ..... ok
All tests successful.

Test Summary Report
-------------------
t/02-use.t   (Wstat: 0 Tests: 3 Failed: 0)
  TODO passed:   3
Files=4, Tests=9,  1 wallclock secs ( 0.01 usr  0.02 sys +  0.35 cusr  0.38 csys =  0.76 CPU)
Result: PASS

------------------------------
PREREQUISITES
------------------------------

Prerequisite modules loaded:

requires:

    Module                                  Need    Have    
    --------------------------------------- ------- --------
    Alien::Base                             1.41    2.68    
    Alien::Build                            1.74    2.68    
    FFI::CheckLib                           0.23    0.29    

build_requires:

    Module                                  Need    Have    
    --------------------------------------- ------- --------
    Alien::Build                            2.25    2.68    
    Alien::Build::MM                        1.74    2.68    
    Alien::Build::Plugin::Cleanse::BuildDir 0       0.05    
    Archive::Tar                            0       2.38    
    Config                                  0       5.026000
    ExtUtils::MakeMaker                     6.52    7.64    
    FFI::CheckLib                           0.23    0.29    
    File::Find::Rule                        0       0.34    
    HTTP::Tiny                              0.044   0.082   
    IO::Socket::SSL                         1.56    2.072   
    IO::Zlib                                0       1.11    
    Mojo::DOM58                             1.00    3.000   
    Mozilla::CA                             0       20200520
    Net::SSLeay                             1.49    1.92    
    PkgConfig                               0.19026 0.25026 
    Sort::Versions                          0       1.62    
    Test::Alien                             0       2.68    
    URI                                     0       5.12    
    URI::Escape                             0       5.12    

configure_requires:

    Module                                  Need    Have    
    --------------------------------------- ------- --------
    Alien::Build                            2.25    2.68    
    Alien::Build::MM                        1.74    2.68    
    Alien::Build::Plugin::Cleanse::BuildDir 0       0.05    
    ExtUtils::MakeMaker                     6.52    7.64    
    File::Find::Rule                        0       0.34    
    PkgConfig                               0       0.25026 
    Sort::Versions                          0       1.62    


------------------------------
ENVIRONMENT AND OTHER CONTEXT
------------------------------

Environment variables:

    LC_ALL = de_DE.ISO8859-1
    PATH = /usr/local/bin:/usr/bin:/bin:/usr/local/sbin:/usr/sbin:/sbin:/home/cpansand/bin/freebsd10.3:/home/cpansand/bin/sh:/home/cpansand/bin:/usr/games:/home/cpansand/devel:/home/eserte/src/srezic-misc/scripts
    PERL5LIB = 
    PERL5OPT = 
    PERL5_CPANPLUS_IS_RUNNING = 81544
    PERL5_CPAN_IS_RUNNING = 81544
    PERL5_CPAN_IS_RUNNING_IN_RECURSION = 70687,81544
    PERLDOC = -MPod::Perldoc::ToTextOverstrike
    PERL_BATCH = yes
    PERL_CANARY_STABILITY_NOPROMPT = 1
    PERL_CPAN_REPORTER_CONFIG = /var/tmp/cpansmoker-1023/2022091904/cpanreporter_000_config.ini
    PERL_EXTUTILS_AUTOINSTALL = --defaultdeps
    PERL_USE_UNSAFE_INC = 1
    SHELL = /usr/local/bin/zsh
    TERM = screen
    TMPDIR = /var/tmp/cpansmoker-1023/2022091904

Perl special variables (and OS-specific diagnostics, for MSWin32):

    $^X = /usr/perl5.26.0p/bin/perl
    $UID/$EUID = 1023 / 1023
    $GID = 1023 1023
    $EGID = 1023 1023

Perl module toolchain versions installed:

    Module              Have    
    ------------------- --------
    CPAN                2.34    
    CPAN::Meta          2.150010
    Cwd                 3.75    
    ExtUtils::CBuilder  0.280235
    ExtUtils::Command   7.64    
    ExtUtils::Install   2.20    
    ExtUtils::MakeMaker 7.64    
    ExtUtils::Manifest  1.70    
    ExtUtils::ParseXS   3.35    
    File::Spec          3.75    
    JSON                4.09    
    JSON::PP            4.11    
    Module::Build       0.4229  
    Module::Signature   0.87    
    Parse::CPAN::Meta   2.150010
    Test::Harness       3.44    
    Test::More          1.302191
    YAML                1.30    
    YAML::Syck          1.34    
    version             0.9929  


--

Summary of my perl5 (revision 5 version 26 subversion 0) configuration:
   
  Platform:
    osname=freebsd
    osvers=10.3-release-p11
    archname=amd64-freebsd
    uname='freebsd cvrsnica-freebsd-101.herceg.de 10.3-release-p11 freebsd 10.3-release-p11 #0: mon oct 24 18:49:24 utc 2016 root@amd64-builder.daemonology.net:usrobjusrsrcsysgeneric amd64 '
    config_args='-ds -e -Dprefix=/usr/perl5.26.0p -Dcf_email=srezic@cpan.org -Doptimize=-O2 -pipe'
    hint=recommended
    useposix=true
    d_sigaction=define
    useithreads=undef
    usemultiplicity=undef
    use64bitint=define
    use64bitall=define
    uselongdouble=undef
    usemymalloc=n
    default_inc_excludes_dot=define
    bincompat5005=undef
  Compiler:
    cc='cc'
    ccflags ='-DHAS_FPSETMASK -DHAS_FLOATINGPOINT_H -fno-strict-aliasing -pipe -fstack-protector -I/usr/local/include -D_FORTIFY_SOURCE=2'
    optimize='-O2 -pipe'
    cppflags='-DHAS_FPSETMASK -DHAS_FLOATINGPOINT_H -fno-strict-aliasing -pipe -fstack-protector -I/usr/local/include'
    ccversion=''
    gccversion='4.2.1 Compatible FreeBSD Clang 3.4.1 (tags/RELEASE_34/dot1-final 208032)'
    gccosandvers=''
    intsize=4
    longsize=8
    ptrsize=8
    doublesize=8
    byteorder=12345678
    doublekind=3
    d_longlong=define
    longlongsize=8
    d_longdbl=define
    longdblsize=16
    longdblkind=3
    ivtype='long'
    ivsize=8
    nvtype='double'
    nvsize=8
    Off_t='off_t'
    lseeksize=8
    alignbytes=8
    prototype=define
  Linker and Libraries:
    ld='cc'
    ldflags ='-pthread -Wl,-E  -fstack-protector -L/usr/local/lib'
    libpth=/usr/lib /usr/local/lib /usr/include/clang/3.4.1 /usr/lib
    libs=-lpthread -lgdbm -lm -lcrypt -lutil -lc -lelf
    perllibs=-lpthread -lm -lcrypt -lutil -lc -lelf
    libc=
    so=so
    useshrplib=false
    libperl=libperl.a
    gnulibc_version=''
  Dynamic Linking:
    dlsrc=dl_dlopen.xs
    dlext=so
    d_dlsymun=undef
    ccdlflags=' '
    cccdlflags='-DPIC -fPIC'
    lddlflags='-shared  -L/usr/local/lib -fstack-protector'


Characteristics of this binary (from libperl): 
  Compile-time options:
    HAS_TIMES
    PERLIO_LAYERS
    PERL_COPY_ON_WRITE
    PERL_DONT_CREATE_GVSV
    PERL_MALLOC_WRAP
    PERL_OP_PARENT
    PERL_PRESERVE_IVUV
    USE_64_BIT_ALL
    USE_64_BIT_INT
    USE_LARGE_FILES
    USE_LOCALE
    USE_LOCALE_COLLATE
    USE_LOCALE_CTYPE
    USE_LOCALE_NUMERIC
    USE_LOCALE_TIME
    USE_PERLIO
    USE_PERL_ATOF
  Built under freebsd
  Compiled at Jun  3 2017 22:58:33
  %ENV:
    PERL5LIB=""
    PERL5OPT=""
    PERL5_CPANPLUS_IS_RUNNING="81544"
    PERL5_CPAN_IS_RUNNING="81544"
    PERL5_CPAN_IS_RUNNING_IN_RECURSION="70687,81544"
    PERLDOC="-MPod::Perldoc::ToTextOverstrike"
    PERL_BATCH="yes"
    PERL_CANARY_STABILITY_NOPROMPT="1"
    PERL_CPAN_REPORTER_CONFIG="/var/tmp/cpansmoker-1023/2022091904/cpanreporter_000_config.ini"
    PERL_EXTUTILS_AUTOINSTALL="--defaultdeps"
    PERL_USE_UNSAFE_INC="1"
  @INC:
    /usr/perl5.26.0p/lib/site_perl/5.26.0/amd64-freebsd
    /usr/perl5.26.0p/lib/site_perl/5.26.0
    /usr/perl5.26.0p/lib/5.26.0/amd64-freebsd
    /usr/perl5.26.0p/lib/5.26.0
    .