Dist-Zilla-Plugin-OnlyCorePrereqs v0.025 Perl 5 v5.41.9 amd64-netbsd-thread-multi

Status
Pass
From
Carlos Guevara
Dist
Dist-Zilla-Plugin-OnlyCorePrereqs v0.025
Platform
Perl 5 v5.41.9 amd64-netbsd-thread-multi
Date
2025-02-22 11:00:56
ID
4a88f160-f10c-11ef-a6f9-a9759d86426f
This distribution has been tested as part of the CPAN Testers
project, supporting the Perl programming language.  See
http://wiki.cpantesters.org/ for more information or email
questions to cpan-testers-discuss@perl.org


--
Dear Karen Etheridge,

This is a computer-generated report for Dist-Zilla-Plugin-OnlyCorePrereqs-0.025
on perl 5.41.9, created by CPAN-Reporter-1.2020.

Thank you for uploading your work to CPAN.  Congratulations!
All tests were successful.

Sections of this report:

    * Tester comments
    * Program output
    * Prerequisites
    * Environment and other context

------------------------------
TESTER COMMENTS
------------------------------

Additional comments from tester:

this report is from an automated smoke testing program
and was not reviewed by a human for accuracy

------------------------------
PROGRAM OUTPUT
------------------------------

Output from '/usr/bin/make test':

PERL_DL_NONLAZY=1 "/home/cpan/bin/perl/bin/perl5.41.9" "-MExtUtils::Command::MM" "-MTest::Harness" "-e" "undef *Test::Harness::Switches; test_harness(0, 'blib/lib', 'blib/arch')" t/*.t
# 
# Versions for all modules listed in MYMETA.json (including optional ones):
# 
# === Configure Requires ===
# 
#     Module               Want     Have
#     ------------------- ----- --------
#     ExtUtils::MakeMaker   any     7.70
#     perl                5.010 5.041009
# 
# === Build Requires ===
# 
#     Module              Want Have
#     ------------------- ---- ----
#     ExtUtils::MakeMaker  any 7.70
# 
# === Test Requires ===
# 
#     Module               Want     Have
#     ------------------- ----- --------
#     ExtUtils::MakeMaker   any     7.70
#     File::Spec            any     3.93
#     List::Util            any  1.68_01
#     Moose::Util           any   2.2207
#     Path::Tiny            any    0.146
#     Test::DZil            any    6.032
#     Test::Deep            any    1.204
#     Test::Fatal           any    0.017
#     Test::More           0.88 1.302209
#     if                    any   0.0610
#     perl                5.010 5.041009
# 
# === Test Recommends ===
# 
#     Module         Want     Have
#     ---------- -------- --------
#     CPAN::Meta 2.120900 2.150010
# 
# === Runtime Requires ===
# 
#     Module                              Want       Have
#     ----------------------------- ---------- ----------
#     CPAN::DistnameInfo                   any       0.12
#     CPAN::Meta::Requirements           2.121      2.143
#     Dist::Zilla                     4.300039      6.032
#     Dist::Zilla::Role::AfterBuild        any      6.032
#     Encode                               any       3.21
#     HTTP::Headers                        any       7.00
#     HTTP::Tiny                           any      0.090
#     Module::CoreList              5.20150214 5.20250220
#     Moose                                any     2.2207
#     Moose::Util::TypeConstraints         any     2.2207
#     MooseX::Types::Perl             0.101340   0.101344
#     YAML::Tiny                           any       1.76
#     namespace::autoclean                 any       0.31
#     perl                               5.010   5.041009
#     strict                               any       1.13
#     version                              any     0.9933
#     warnings                             any       1.73
# 
# === Other Modules ===
# 
#     Module                    Have
#     --------------------- --------
#     CPAN::Meta::Validator 2.150010
#     Encode                    3.21
#     File::Temp              0.2311
#     JSON::PP                  4.16
#     Module::Runtime          0.016
#     Pod::Coverage             0.23
#     Sub::Name                 0.28
#     YAML                      1.31
#     autodie                   2.37
#     feature                   1.94
# 
t/00-report-prereqs.t ............ ok
t/01-basic.t ..................... ok
t/02-deprecated.t ................ ok
t/03-specific-version.t .......... ok
t/04-no-check-module-versions.t .. skipped: the check_module_versions option has been removed
t/05-check-dual-life-versions.t .. ok
t/06-phases.t .................... ok
t/07-skip.t ...................... ok
t/08-perl-prereq.t ............... ok
t/09-also-disallow.t ............. ok
t/zzz-check-breaks.t ............. ok
All tests successful.
Files=11, Tests=63,  8 wallclock secs ( 0.07 usr  0.00 sys +  6.45 cusr  1.00 csys =  7.52 CPU)
Result: PASS

------------------------------
PREREQUISITES
------------------------------

Prerequisite modules loaded:

requires:

    Module                        Need       Have      
    ----------------------------- ---------- ----------
    CPAN::DistnameInfo            0          0.12      
    CPAN::Meta::Requirements      2.121      2.143     
    Dist::Zilla                   4.300039   6.032     
    Dist::Zilla::Role::AfterBuild 0          6.032     
    Encode                        0          3.21      
    HTTP::Headers                 0          7.00      
    HTTP::Tiny                    0          0.090     
    Module::CoreList              5.20150214 5.20250220
    Moose                         0          2.2207    
    Moose::Util::TypeConstraints  0          2.2207    
    MooseX::Types::Perl           0.101340   0.101344  
    namespace::autoclean          0          0.31      
    perl                          5.010      5.041009  
    strict                        0          1.13      
    version                       0          0.9933    
    warnings                      0          1.73      
    YAML::Tiny                    0          1.76      

build_requires:

    Module                        Need       Have      
    ----------------------------- ---------- ----------
    ExtUtils::MakeMaker           0          7.70      
    File::Spec                    0          3.93      
    if                            0          0.0610    
    List::Util                    0          1.68_01   
    Moose::Util                   0          2.2207    
    Path::Tiny                    0          0.146     
    Test::Deep                    0          1.204     
    Test::DZil                    0          6.032     
    Test::Fatal                   0          0.017     
    Test::More                    0.88       1.302209  

configure_requires:

    Module                        Need       Have      
    ----------------------------- ---------- ----------
    ExtUtils::MakeMaker           0          7.70      
    perl                          5.010      5.041009  


------------------------------
ENVIRONMENT AND OTHER CONTEXT
------------------------------

Environment variables:

    AUTOMATED_TESTING = 1
    DATE_MANIP_TEST_DM5 = 1
    LC_ALL = C
    NONINTERACTIVE_TESTING = 1
    NO_NETWORK_TESTING = 1
    PATH = /home/cpan/bin/perl/bin:/home/cpan/bin:/home/cpan/bin:/bin:/sbin:/usr/bin:/usr/sbin:/usr/X11R7/bin:/usr/pkg/bin:/usr/pkg/sbin:/usr/games:/usr/local/bin:/usr/local/sbin
    PERL5LIB = 
    PERL5OPT = 
    PERL5_CPANPLUS_IS_RUNNING = 28737
    PERL5_CPAN_IS_RUNNING = 28737
    PERL_MM_USE_DEFAULT = 1
    PERL_USE_UNSAFE_INC = 1
    SHELL = /usr/pkg/bin/bash
    TERM = screen
    TMPDIR = /home/cpan/tmp

Perl special variables (and OS-specific diagnostics, for MSWin32):

    $^X = /home/cpan/bin/perl/bin/perl5.41.9
    $UID/$EUID = 1001 / 1001
    $GID = 100 100
    $EGID = 100 100

Perl module toolchain versions installed:

    Module              Have    
    ------------------- --------
    CPAN                2.38    
    CPAN::Meta          2.150010
    Cwd                 3.92    
    ExtUtils::CBuilder  0.280240
    ExtUtils::Command   7.70    
    ExtUtils::Install   2.22    
    ExtUtils::MakeMaker 7.70    
    ExtUtils::Manifest  1.75    
    ExtUtils::ParseXS   3.57    
    File::Spec          3.93    
    JSON                4.10    
    JSON::PP            4.16    
    Module::Build       0.4234  
    Module::Signature   n/a     
    Parse::CPAN::Meta   2.150010
    Test2               1.302209
    Test::Harness       3.50    
    Test::More          1.302209
    YAML                1.31    
    YAML::Syck          1.34    
    version             0.9933  


--

Summary of my perl5 (revision 5 version 41 subversion 9) configuration:
  Commit id: 005309cf8f01ddaf7e762b411196c658556b91b7
  Platform:
    osname=netbsd
    osvers=10.0
    archname=amd64-netbsd-thread-multi
    uname='netbsd cjg-netbsd10 10.0 netbsd 10.0 (generic) #0: thu mar 28 08:33:33 utc 2024 mkrepro@mkrepro.netbsd.org:usrsrcsysarchamd64compilegeneric amd64 '
    config_args='-des -Dprefix=/home/cpan/bin/perl -Dscriptdir=/home/cpan/bin/perl/bin -Dusedevel -Duse64bitall -Duseithreads'
    hint=recommended
    useposix=true
    d_sigaction=define
    useithreads=define
    usemultiplicity=define
    use64bitint=define
    use64bitall=define
    uselongdouble=undef
    usemymalloc=n
    default_inc_excludes_dot=define
  Compiler:
    cc='cc'
    ccflags ='-fwrapv -fno-strict-aliasing -pipe -fstack-protector-strong -I/usr/pkg/include -D_FORTIFY_SOURCE=2'
    optimize='-O'
    cppflags='-fwrapv -fno-strict-aliasing -pipe -fstack-protector-strong -I/usr/pkg/include'
    ccversion=''
    gccversion='10.5.0'
    gccosandvers=''
    intsize=4
    longsize=8
    ptrsize=8
    doublesize=8
    byteorder=12345678
    doublekind=3
    d_longlong=define
    longlongsize=8
    d_longdbl=define
    longdblsize=16
    longdblkind=3
    ivtype='long'
    ivsize=8
    nvtype='double'
    nvsize=8
    Off_t='off_t'
    lseeksize=8
    alignbytes=8
    prototype=define
  Linker and Libraries:
    ld='cc'
    ldflags =' -Wl,-rpath,/usr/pkg/lib -Wl,-rpath,/usr/local/lib -fstack-protector-strong -L/usr/pkg/lib'
    libpth=/usr/lib /usr/pkg/lib /lib
    libs=-lpthread -lm -lcrypt -lutil -lc -lposix
    perllibs=-lpthread -lm -lcrypt -lutil -lc -lposix
    libc=/lib/libc.so
    so=so
    useshrplib=false
    libperl=libperl.a
    gnulibc_version=''
  Dynamic Linking:
    dlsrc=dl_dlopen.xs
    dlext=so
    d_dlsymun=undef
    ccdlflags='-Wl,-E '
    cccdlflags='-DPIC -fPIC '
    lddlflags='-shared  -L/usr/pkg/lib -fstack-protector-strong'


Characteristics of this binary (from libperl): 
  Compile-time options:
    HAS_LONG_DOUBLE
    HAS_STRTOLD
    HAS_TIMES
    MULTIPLICITY
    PERLIO_LAYERS
    PERL_COPY_ON_WRITE
    PERL_DONT_CREATE_GVSV
    PERL_HASH_FUNC_SIPHASH13
    PERL_HASH_USE_SBOX32
    PERL_MALLOC_WRAP
    PERL_OP_PARENT
    PERL_PRESERVE_IVUV
    PERL_USE_DEVEL
    PERL_USE_SAFE_PUTENV
    USE_64_BIT_ALL
    USE_64_BIT_INT
    USE_ITHREADS
    USE_LARGE_FILES
    USE_LOCALE
    USE_LOCALE_COLLATE
    USE_LOCALE_CTYPE
    USE_LOCALE_NUMERIC
    USE_LOCALE_TIME
    USE_PERLIO
    USE_PERL_ATOF
    USE_REENTRANT_API
  Built under netbsd
  Compiled at Feb 21 2025 22:47:52
  %ENV:
    PERL5LIB=""
    PERL5OPT=""
    PERL5_CPANPLUS_IS_RUNNING="28737"
    PERL5_CPAN_IS_RUNNING="28737"
    PERL_MM_USE_DEFAULT="1"
    PERL_USE_UNSAFE_INC="1"
  @INC:
    /home/cpan/bin/perl/lib/site_perl/5.41.9/amd64-netbsd-thread-multi
    /home/cpan/bin/perl/lib/site_perl/5.41.9
    /home/cpan/bin/perl/lib/5.41.9/amd64-netbsd-thread-multi
    /home/cpan/bin/perl/lib/5.41.9
    .