Test-Without-Module v0.23 Perl 5 v5.22.4 OpenBSD.amd64-openbsd

Status
Pass
From
Nigel Horne
Dist
Test-Without-Module v0.23
Platform
Perl 5 v5.22.4 OpenBSD.amd64-openbsd
Date
2025-06-09 13:26:03
ID
4a8966a4-4535-11f0-b56c-d35a49be7e95
This distribution has been tested as part of the CPAN Testers
project, supporting the Perl programming language.  See
http://wiki.cpantesters.org/ for more information or email
questions to cpan-testers-discuss@perl.org


--
Dear Max Maischein,

This is a computer-generated report for Test-Without-Module-0.23
on perl 5.22.4, created by CPAN-Reporter-1.2020.

Thank you for uploading your work to CPAN.  Congratulations!
All tests were successful.

Sections of this report:

    * Tester comments
    * Program output
    * Prerequisites
    * Environment and other context

------------------------------
TESTER COMMENTS
------------------------------

Additional comments from tester:

none provided

------------------------------
PROGRAM OUTPUT
------------------------------

Output from '/usr/bin/make test':

PERL_DL_NONLAZY=1 "/home/njh/perl5/perlbrew/perls/perl-5.22.4/bin/perl" "-MExtUtils::Command::MM" "-MTest::Harness" "-e" "undef *Test::Harness::Switches; test_harness(0, 'blib/lib', 'blib/arch')" t/00-load.t t/01-api.t t/02-block-use-module.t t/03-block-require-module.t t/04-import-export.t t/05-redefine.t t/06-missing-hidden-modules.t t/embedded-Test-Without-Module.t t/rt122551.t
# Testing Test::Without::Module 0.23, Perl 5.022004
# Carp 1.36
# Config 5.022004
# Cwd 3.56_02
# DynaLoader 1.32
# Encode 3.21
# Encode::Alias 2.25
# Encode::Config 2.05
# Encode::Encoding 2.08
# Encode::MIME::Name 1.03
# Exporter 5.72
# Exporter::Heavy 5.72
# ExtUtils::Liblist 7.74
# ExtUtils::Liblist::Kid 7.74
# ExtUtils::MM 7.74
# ExtUtils::MM_Any 7.74
# ExtUtils::MM_Unix 7.74
# ExtUtils::MY 7.74
# ExtUtils::MakeMaker 7.74
# ExtUtils::MakeMaker::Config 7.74
# ExtUtils::MakeMaker::Locale 7.74
# ExtUtils::MakeMaker::version 7.74
# Fcntl 1.13
# File::Basename 2.85
# File::Glob 1.24
# File::Path 2.09
# File::Spec 3.56_02
# File::Spec::Unix 3.56_02
# I18N::Langinfo 0.12
# List::Util 1.41
# Scalar::Util 1.41
# Storable 2.53_02
# Test::Builder 1.302210
# Test::Builder::Formatter 1.302210
# Test::Builder::Module 1.302210
# Test::Builder::TodoDiag 1.302210
# Test::More 1.302210
# Test::Without::Module 0.23
# Test2::API 1.302210
# Test2::API::Context 1.302210
# Test2::API::Instance 1.302210
# Test2::API::Stack 1.302210
# Test2::Event 1.302210
# Test2::Event::Bail 1.302210
# Test2::Event::Diag 1.302210
# Test2::Event::Exception 1.302210
# Test2::Event::Fail 1.302210
# Test2::Event::Note 1.302210
# Test2::Event::Ok 1.302210
# Test2::Event::Pass 1.302210
# Test2::Event::Plan 1.302210
# Test2::Event::Skip 1.302210
# Test2::Event::Subtest 1.302210
# Test2::Event::V2 1.302210
# Test2::Event::Waiting 1.302210
# Test2::EventFacet 1.302210
# Test2::EventFacet::About 1.302210
# Test2::EventFacet::Amnesty 1.302210
# Test2::EventFacet::Assert 1.302210
# Test2::EventFacet::Control 1.302210
# Test2::EventFacet::Error 1.302210
# Test2::EventFacet::Hub 1.302210
# Test2::EventFacet::Info 1.302210
# Test2::EventFacet::Meta 1.302210
# Test2::EventFacet::Parent 1.302210
# Test2::EventFacet::Plan 1.302210
# Test2::EventFacet::Trace 1.302210
# Test2::Formatter 1.302210
# Test2::Formatter::TAP 1.302210
# Test2::Hub 1.302210
# Test2::Hub::Interceptor 1.302210
# Test2::Hub::Interceptor::Terminator 1.302210
# Test2::Hub::Subtest 1.302210
# Test2::Util 1.302210
# Test2::Util::ExternalMeta 1.302210
# Test2::Util::Facets2Legacy 1.302210
# Test2::Util::HashBase 1.302210
# Test2::Util::Trace 1.302210
# Time::HiRes 1.9726
# XSLoader 0.24
# base 2.2201
# bytes 1.04
# constant 1.33
# mro 1.17
# parent 0.232
# strict 1.09
# vars 1.03
# version 0.9909
# version::regex 0.9909
# warnings 1.34
# warnings::register 1.04
t/00-load.t ....................... ok
t/01-api.t ........................ ok
t/02-block-use-module.t ........... ok
t/03-block-require-module.t ....... ok
t/04-import-export.t .............. ok
t/05-redefine.t ................... ok
t/06-missing-hidden-modules.t ..... ok
t/embedded-Test-Without-Module.t .. ok
t/rt122551.t ...................... ok
All tests successful.

Test Summary Report
-------------------
t/rt122551.t                    (Wstat: 0 Tests: 2 Failed: 0)
  TODO passed:   2
Files=9, Tests=24,  2 wallclock secs ( 0.06 usr  0.05 sys +  0.95 cusr  0.13 csys =  1.19 CPU)
Result: PASS

------------------------------
PREREQUISITES
------------------------------

Prerequisite modules loaded:

requires:

    Module              Need  Have    
    ------------------- ----- --------
    Carp                0     1.36    
    perl                5.006 5.022004

build_requires:

    Module              Need  Have    
    ------------------- ----- --------
    ExtUtils::MakeMaker 0     7.74    
    File::Find          0     1.29    
    File::Spec          0     3.56_02 
    Test::More          0     1.302210

configure_requires:

    Module              Need  Have    
    ------------------- ----- --------
    ExtUtils::MakeMaker 0     7.74    


------------------------------
ENVIRONMENT AND OTHER CONTEXT
------------------------------

Environment variables:

    LD_LIBRARY_PATH = /usr/local/lib
    PATH = /home/njh/perl5/perlbrew/bin:/home/njh/perl5/perlbrew/perls/perl-5.22.4/bin:/home/njh/bin:/bin:/usr/bin:/usr/local/bin
    PERL5LIB = 
    PERL5OPT = 
    PERL5_CPANPLUS_IS_RUNNING = 89485
    PERL5_CPAN_IS_RUNNING = 89485
    PERLBREW_HOME = /home/njh/.perlbrew
    PERLBREW_MANPATH = /home/njh/perl5/perlbrew/perls/perl-5.22.4/man
    PERLBREW_PATH = /home/njh/perl5/perlbrew/bin:/home/njh/perl5/perlbrew/perls/perl-5.22.4/bin
    PERLBREW_PERL = perl-5.22.4
    PERLBREW_ROOT = /home/njh/perl5/perlbrew
    PERLBREW_SHELLRC_VERSION = 1.01
    PERLBREW_VERSION = 1.01
    SHELL = /bin/bash
    TERM = xterm-256color

Perl special variables (and OS-specific diagnostics, for MSWin32):

    $^X = /home/njh/perl5/perlbrew/perls/perl-5.22.4/bin/perl
    $UID/$EUID = 1000 / 1000
    $GID = 1000 1000 0
    $EGID = 1000 1000 0

Perl module toolchain versions installed:

    Module              Have      
    ------------------- ----------
    CPAN                2.11_01   
    CPAN::Meta          2.150001  
    Cwd                 3.56_02   
    ExtUtils::CBuilder  0.280221  
    ExtUtils::Command   7.74      
    ExtUtils::Install   2.22      
    ExtUtils::MakeMaker 7.74      
    ExtUtils::Manifest  1.70      
    ExtUtils::ParseXS   3.28      
    File::Spec          3.56_02   
    JSON                n/a       
    JSON::PP            2.27300_01
    Module::Build       0.4234    
    Module::Signature   n/a       
    Parse::CPAN::Meta   1.4414_001
    Test2               1.302210  
    Test::Harness       3.35_01   
    Test::More          1.302210  
    YAML                1.31      
    YAML::Syck          n/a       
    version             0.9909    


--

Summary of my perl5 (revision 5 version 22 subversion 4) configuration:
   
  Platform:
    osname=openbsd, osvers=7.6, archname=OpenBSD.amd64-openbsd
    uname='openbsd vultr2.bandsman.co.uk 7.6 generic#1 amd64 '
    config_args='-de -Dprefix=/home/njh/perl5/perlbrew/perls/perl-5.22.4 -Aeval:scriptdir=/home/njh/perl5/perlbrew/perls/perl-5.22.4/bin'
    hint=recommended, useposix=true, d_sigaction=define
    useithreads=undef, usemultiplicity=undef
    use64bitint=define, use64bitall=define, uselongdouble=undef
    usemymalloc=n, bincompat5005=undef
  Compiler:
    cc='cc', ccflags ='-fno-strict-aliasing -pipe -fstack-protector-strong -I/usr/local/include',
    optimize='-O2',
    cppflags='-fno-strict-aliasing -pipe -fstack-protector-strong -I/usr/local/include'
    ccversion='', gccversion='OpenBSD Clang 16.0.6', gccosandvers=''
    intsize=4, longsize=8, ptrsize=8, doublesize=8, byteorder=12345678, doublekind=3
    d_longlong=define, longlongsize=8, d_longdbl=define, longdblsize=16, longdblkind=3
    ivtype='long', ivsize=8, nvtype='double', nvsize=8, Off_t='off_t', lseeksize=8
    alignbytes=8, prototype=define
  Linker and Libraries:
    ld='cc', ldflags ='-Wl,-E  -fstack-protector-strong -L/usr/local/lib'
    libpth=/usr/lib/clang/16/lib /usr/lib /usr/local/lib
    libs=-lpthread -lm -lutil -lc
    perllibs=-lpthread -lm -lutil -lc
    libc=/usr/lib/libc.so.100.3, so=so, useshrplib=false, libperl=libperl.a
    gnulibc_version=''
  Dynamic Linking:
    dlsrc=dl_dlopen.xs, dlext=so, d_dlsymun=undef, ccdlflags=' '
    cccdlflags='-DPIC -fPIC ', lddlflags='-shared -fPIC  -L/usr/local/lib -fstack-protector-strong'


Characteristics of this binary (from libperl): 
  Compile-time options: HAS_TIMES PERLIO_LAYERS PERL_DONT_CREATE_GVSV
                        PERL_HASH_FUNC_ONE_AT_A_TIME_HARD PERL_MALLOC_WRAP
                        PERL_NEW_COPY_ON_WRITE PERL_PRESERVE_IVUV
                        USE_64_BIT_ALL USE_64_BIT_INT USE_LARGE_FILES
                        USE_LOCALE USE_LOCALE_COLLATE USE_LOCALE_CTYPE
                        USE_LOCALE_NUMERIC USE_LOCALE_TIME USE_PERLIO
                        USE_PERL_ATOF
  Locally applied patches:
	Devel::PatchPerl 2.08
  Built under openbsd
  Compiled at Apr 28 2025 15:52:31
  %ENV:
    PERL5LIB=""
    PERL5OPT=""
    PERL5_CPANPLUS_IS_RUNNING="89485"
    PERL5_CPAN_IS_RUNNING="89485"
    PERLBREW_HOME="/home/njh/.perlbrew"
    PERLBREW_MANPATH="/home/njh/perl5/perlbrew/perls/perl-5.22.4/man"
    PERLBREW_PATH="/home/njh/perl5/perlbrew/bin:/home/njh/perl5/perlbrew/perls/perl-5.22.4/bin"
    PERLBREW_PERL="perl-5.22.4"
    PERLBREW_ROOT="/home/njh/perl5/perlbrew"
    PERLBREW_SHELLRC_VERSION="1.01"
    PERLBREW_VERSION="1.01"
  @INC:
    /home/njh/perl5/perlbrew/perls/perl-5.22.4/lib/site_perl/5.22.4/OpenBSD.amd64-openbsd
    /home/njh/perl5/perlbrew/perls/perl-5.22.4/lib/site_perl/5.22.4
    /home/njh/perl5/perlbrew/perls/perl-5.22.4/lib/5.22.4/OpenBSD.amd64-openbsd
    /home/njh/perl5/perlbrew/perls/perl-5.22.4/lib/5.22.4
    .