Report for MooseX-UndefTolerant-0.21

Back
From: metabase:user:314402c4-2aae-11df-837a-5e0a49663a4f
Subject: PASS MooseX-UndefTolerant-0.21 v5.24.1 GNU/Linux
Date: 2017-03-09T21:06:41Z

This distribution has been tested as part of the CPAN Testers
project, supporting the Perl programming language.  See
http://wiki.cpantesters.org/ for more information or email
questions to cpan-testers-discuss@perl.org


--
Dear Karen Etheridge,

This is a computer-generated report for MooseX-UndefTolerant-0.21
on perl 5.24.1, created by CPAN-Reporter-1.2018.

Thank you for uploading your work to CPAN.  Congratulations!
All tests were successful.

Sections of this report:

    * Tester comments
    * Program output
    * Prerequisites
    * Environment and other context

------------------------------
TESTER COMMENTS
------------------------------

Additional comments from tester:

none provided

------------------------------
PROGRAM OUTPUT
------------------------------

Output from './Build test':

# Testing MooseX::UndefTolerant 0.21, Perl 5.024001, /opt/perl-5.24.1t/bin/perl
t/00-load.t ............ ok
# 
# Versions for all modules listed in MYMETA.json (including optional ones):
# 
# === Configure Requires ===
# 
#     Module               Want  Have
#     ------------------- ----- -----
#     Module::Build::Tiny 0.034 0.039
# 
# === Test Requires ===
# 
#     Module           Want     Have
#     ---------------- ---- --------
#     File::Spec        any  3.63_01
#     Module::Metadata  any 1.000031
#     Test::Fatal       any    0.014
#     Test::Moose       any   2.2004
#     Test::More       0.88 1.302075
#     if                any   0.0606
#     lib               any     0.63
# 
# === Test Recommends ===
# 
#     Module         Want     Have
#     ---------- -------- --------
#     CPAN::Meta 2.120900 2.150005
# 
# === Runtime Requires ===
# 
#     Module               Want   Have
#     -------------------- ---- ------
#     Moose                0.89 2.2004
#     Moose::Exporter       any 2.2004
#     Moose::Role           any 2.2004
#     namespace::autoclean  any   0.28
#     strict                any   1.11
#     warnings              any   1.36
# 
# === Other Modules ===
# 
#     Module          Have
#     --------- ----------
#     JSON::PP  2.27300_01
#     Sub::Name       0.21
#     YAML            1.23
#     autodie         2.29
# 
t/00-report-prereqs.t .. ok
t/basic.t .............. ok
t/constructor.t ........ ok
t/defaults.t ........... ok
t/roles.t .............. ok
t/undef_init_arg.t ..... ok
t/zzz-check-breaks.t ... ok
All tests successful.
Files=8, Tests=158,  5 wallclock secs ( 0.07 usr  0.02 sys +  4.11 cusr  0.44 csys =  4.64 CPU)
Result: PASS

------------------------------
PREREQUISITES
------------------------------

Prerequisite modules loaded:

requires:

    Module               Need     Have    
    -------------------- -------- --------
    Moose                0.89     2.2004  
    Moose::Exporter      0        2.2004  
    Moose::Role          0        2.2004  
    namespace::autoclean 0        0.28    
    perl                 5.006    5.024001
    strict               0        1.11    
    warnings             0        1.36    

build_requires:

    Module               Need     Have    
    -------------------- -------- --------
    File::Spec           0        3.63_01 
    if                   0        0.0606  
    lib                  0        0.63    
    Module::Metadata     0        1.000031
    perl                 5.006    5.024001
    Test::Fatal          0        0.014   
    Test::Moose          0        2.2004  
    Test::More           0.88     1.302075

configure_requires:

    Module               Need     Have    
    -------------------- -------- --------
    Module::Build::Tiny  0.034    0.039   
    perl                 5.006    5.024001

opt_build_requires:

    Module               Need     Have    
    -------------------- -------- --------
    CPAN::Meta           2.120900 2.150005


------------------------------
ENVIRONMENT AND OTHER CONTEXT
------------------------------

Environment variables:

    LANG = en_US.UTF-8
    PATH = /usr/local/bin:/usr/bin:/bin:/usr/local/sbin:/usr/sbin:/sbin:/home/cpansand/bin/linux-gnu:/home/cpansand/bin/sh:/home/cpansand/bin:/usr/games:/home/cpansand/devel:/home/eserte/src/srezic-misc/scripts
    PERL5LIB = /home/cpansand/.cpan/build/2017030921/Test-Method-0.001002-l45A9d/blib/arch:/home/cpansand/.cpan/build/2017030921/Test-Method-0.001002-l45A9d/blib/lib:/home/cpansand/.cpan/build/2017030921/MooseX-Types-DateTime-0.13-v8weVc/blib/arch:/home/cpansand/.cpan/build/2017030921/MooseX-Types-DateTime-0.13-v8weVc/blib/lib:/home/cpansand/.cpan/build/2017030921/XML-Compile-WSDL11-3.06-Iyv2q_/blib/arch:/home/cpansand/.cpan/build/2017030921/XML-Compile-WSDL11-3.06-Iyv2q_/blib/lib:/home/cpansand/.cpan/build/2017030921/XML-Compile-SOAP-3.21-sVSmEP/blib/arch:/home/cpansand/.cpan/build/2017030921/XML-Compile-SOAP-3.21-sVSmEP/blib/lib:/home/cpansand/.cpan/build/2017030921/File-ShareDir-ProjectDistDir-1.000009-E2pV51/blib/arch:/home/cpansand/.cpan/build/2017030921/File-ShareDir-ProjectDistDir-1.000009-E2pV51/blib/lib:/home/cpansand/.cpan/build/2017030921/Path-FindDev-0.5.2-bhNojS/blib/arch:/home/cpansand/.cpan/build/2017030921/Path-FindDev-0.5.2-bhNojS/blib/lib:/home/cpansand/.cpan/build/2017030921/Path-IsDev-1.001002-eUKLfL/blib/arch:/home/cpansand/.cpan/build/2017030921/Path-IsDev-1.001002-eUKLfL/blib/lib
    PERL5OPT = 
    PERL5_CPANPLUS_IS_RUNNING = 16545
    PERL5_CPAN_IS_RUNNING = 16545
    PERL5_CPAN_IS_RUNNING_IN_RECURSION = 16450,16545
    PERLDOC = -MPod::Perldoc::ToTextOverstrike
    PERL_BATCH = yes
    PERL_CANARY_STABILITY_NOPROMPT = 1
    PERL_CPAN_REPORTER_CONFIG = /var/tmp/cpansmoker-1002/2017030921/cpanreporter_000_config.ini
    PERL_EXTUTILS_AUTOINSTALL = --defaultdeps
    SHELL = /bin/zsh
    TERM = screen
    TMPDIR = /var/tmp/cpansmoker-1002/2017030921

Perl special variables (and OS-specific diagnostics, for MSWin32):

    $^X = /opt/perl-5.24.1t/bin/perl
    $UID/$EUID = 1002 / 1002
    $GID = 1002 1002
    $EGID = 1002 1002

Perl module toolchain versions installed:

    Module              Have      
    ------------------- ----------
    CPAN                2.11_01   
    CPAN::Meta          2.150005  
    Cwd                 3.63_01   
    ExtUtils::CBuilder  0.280225  
    ExtUtils::Command   7.24      
    ExtUtils::Install   2.04      
    ExtUtils::MakeMaker 7.24      
    ExtUtils::Manifest  1.70      
    ExtUtils::ParseXS   3.31      
    File::Spec          3.63_01   
    JSON                2.90      
    JSON::PP            2.27300_01
    Module::Build       0.4220    
    Module::Signature   0.81      
    Parse::CPAN::Meta   1.4417_001
    Test::Harness       3.36_01   
    Test::More          1.302075  
    YAML                1.23      
    YAML::Syck          1.29      
    version             0.9916    


--

Summary of my perl5 (revision 5 version 24 subversion 1) configuration:
   
  Platform:
    osname=linux, osvers=4.4.0-64-generic, archname=x86_64-linux-thread-multi
    uname='linux prod3 4.4.0-64-generic #85-ubuntu smp mon feb 20 11:50:30 utc 2017 x86_64 x86_64 x86_64 gnulinux '
    config_args='-ds -e -Dprefix=/opt/perl-5.24.1t -Dusethreads -Dcf_email=srezic@cpan.org'
    hint=recommended, useposix=true, d_sigaction=define
    useithreads=define, usemultiplicity=define
    use64bitint=define, use64bitall=define, uselongdouble=undef
    usemymalloc=n, bincompat5005=undef
  Compiler:
    cc='cc', ccflags ='-D_REENTRANT -D_GNU_SOURCE -fwrapv -fno-strict-aliasing -pipe -fstack-protector-strong -I/usr/local/include -D_LARGEFILE_SOURCE -D_FILE_OFFSET_BITS=64',
    optimize='-O2',
    cppflags='-D_REENTRANT -D_GNU_SOURCE -fwrapv -fno-strict-aliasing -pipe -fstack-protector-strong -I/usr/local/include'
    ccversion='', gccversion='5.4.0 20160609', gccosandvers=''
    intsize=4, longsize=8, ptrsize=8, doublesize=8, byteorder=12345678, doublekind=3
    d_longlong=define, longlongsize=8, d_longdbl=define, longdblsize=16, longdblkind=3
    ivtype='long', ivsize=8, nvtype='double', nvsize=8, Off_t='off_t', lseeksize=8
    alignbytes=8, prototype=define
  Linker and Libraries:
    ld='cc', ldflags =' -fstack-protector-strong -L/usr/local/lib'
    libpth=/usr/local/lib /usr/lib/gcc/x86_64-linux-gnu/5/include-fixed /usr/include/x86_64-linux-gnu /usr/lib /lib/x86_64-linux-gnu /lib/../lib /usr/lib/x86_64-linux-gnu /usr/lib/../lib /lib
    libs=-lpthread -lnsl -lgdbm -ldb -ldl -lm -lcrypt -lutil -lc -lgdbm_compat
    perllibs=-lpthread -lnsl -ldl -lm -lcrypt -lutil -lc
    libc=libc-2.23.so, so=so, useshrplib=false, libperl=libperl.a
    gnulibc_version='2.23'
  Dynamic Linking:
    dlsrc=dl_dlopen.xs, dlext=so, d_dlsymun=undef, ccdlflags='-Wl,-E'
    cccdlflags='-fPIC', lddlflags='-shared -O2 -L/usr/local/lib -fstack-protector-strong'


Characteristics of this binary (from libperl): 
  Compile-time options: HAS_TIMES MULTIPLICITY PERLIO_LAYERS
                        PERL_COPY_ON_WRITE PERL_DONT_CREATE_GVSV
                        PERL_HASH_FUNC_ONE_AT_A_TIME_HARD
                        PERL_IMPLICIT_CONTEXT PERL_MALLOC_WRAP
                        PERL_PRESERVE_IVUV USE_64_BIT_ALL USE_64_BIT_INT
                        USE_ITHREADS USE_LARGE_FILES USE_LOCALE
                        USE_LOCALE_COLLATE USE_LOCALE_CTYPE
                        USE_LOCALE_NUMERIC USE_LOCALE_TIME USE_PERLIO
                        USE_PERL_ATOF USE_REENTRANT_API
  Built under linux
  Compiled at Feb 23 2017 20:10:29
  %ENV:
    PERL5LIB="/home/cpansand/.cpan/build/2017030921/Test-Method-0.001002-l45A9d/blib/arch:/home/cpansand/.cpan/build/2017030921/Test-Method-0.001002-l45A9d/blib/lib:/home/cpansand/.cpan/build/2017030921/MooseX-Types-DateTime-0.13-v8weVc/blib/arch:/home/cpansand/.cpan/build/2017030921/MooseX-Types-DateTime-0.13-v8weVc/blib/lib:/home/cpansand/.cpan/build/2017030921/XML-Compile-WSDL11-3.06-Iyv2q_/blib/arch:/home/cpansand/.cpan/build/2017030921/XML-Compile-WSDL11-3.06-Iyv2q_/blib/lib:/home/cpansand/.cpan/build/2017030921/XML-Compile-SOAP-3.21-sVSmEP/blib/arch:/home/cpansand/.cpan/build/2017030921/XML-Compile-SOAP-3.21-sVSmEP/blib/lib:/home/cpansand/.cpan/build/2017030921/File-ShareDir-ProjectDistDir-1.000009-E2pV51/blib/arch:/home/cpansand/.cpan/build/2017030921/File-ShareDir-ProjectDistDir-1.000009-E2pV51/blib/lib:/home/cpansand/.cpan/build/2017030921/Path-FindDev-0.5.2-bhNojS/blib/arch:/home/cpansand/.cpan/build/2017030921/Path-FindDev-0.5.2-bhNojS/blib/lib:/home/cpansand/.cpan/build/2017030921/Path-IsDev-1.001002-eUKLfL/blib/arch:/home/cpansand/.cpan/build/2017030921/Path-IsDev-1.001002-eUKLfL/blib/lib"
    PERL5OPT=""
    PERL5_CPANPLUS_IS_RUNNING="16545"
    PERL5_CPAN_IS_RUNNING="16545"
    PERL5_CPAN_IS_RUNNING_IN_RECURSION="16450,16545"
    PERLDOC="-MPod::Perldoc::ToTextOverstrike"
    PERL_BATCH="yes"
    PERL_CANARY_STABILITY_NOPROMPT="1"
    PERL_CPAN_REPORTER_CONFIG="/var/tmp/cpansmoker-1002/2017030921/cpanreporter_000_config.ini"
    PERL_EXTUTILS_AUTOINSTALL="--defaultdeps"
  @INC:
    /home/cpansand/.cpan/build/2017030921/Test-Method-0.001002-l45A9d/blib/arch
    /home/cpansand/.cpan/build/2017030921/Test-Method-0.001002-l45A9d/blib/lib
    /home/cpansand/.cpan/build/2017030921/MooseX-Types-DateTime-0.13-v8weVc/blib/arch
    /home/cpansand/.cpan/build/2017030921/MooseX-Types-DateTime-0.13-v8weVc/blib/lib
    /home/cpansand/.cpan/build/2017030921/XML-Compile-WSDL11-3.06-Iyv2q_/blib/arch
    /home/cpansand/.cpan/build/2017030921/XML-Compile-WSDL11-3.06-Iyv2q_/blib/lib
    /home/cpansand/.cpan/build/2017030921/XML-Compile-SOAP-3.21-sVSmEP/blib/arch
    /home/cpansand/.cpan/build/2017030921/XML-Compile-SOAP-3.21-sVSmEP/blib/lib
    /home/cpansand/.cpan/build/2017030921/File-ShareDir-ProjectDistDir-1.000009-E2pV51/blib/arch
    /home/cpansand/.cpan/build/2017030921/File-ShareDir-ProjectDistDir-1.000009-E2pV51/blib/lib
    /home/cpansand/.cpan/build/2017030921/Path-FindDev-0.5.2-bhNojS/blib/arch
    /home/cpansand/.cpan/build/2017030921/Path-FindDev-0.5.2-bhNojS/blib/lib
    /home/cpansand/.cpan/build/2017030921/Path-IsDev-1.001002-eUKLfL/blib/arch
    /home/cpansand/.cpan/build/2017030921/Path-IsDev-1.001002-eUKLfL/blib/lib
    /opt/perl-5.24.1t/lib/site_perl/5.24.1/x86_64-linux-thread-multi
    /opt/perl-5.24.1t/lib/site_perl/5.24.1
    /opt/perl-5.24.1t/lib/5.24.1/x86_64-linux-thread-multi
    /opt/perl-5.24.1t/lib/5.24.1
    .