Back
From: metabase:user:e7b34f46-36ca-11e0-a826-945c7ca43f85
Subject: PASS POE-Component-SSLify-1.008 v5.12.4 FreeBSD
Date: 2012-08-11T00:27:11Z
This distribution has been tested as part of the CPAN Testers
project, supporting the Perl programming language. See
http://wiki.cpantesters.org/ for more information or email
questions to cpan-testers-discuss@perl.org
--
Dear Apocalypse,
This is a computer-generated report for POE-Component-SSLify-1.008
on perl 5.12.4, created by CPAN-Reporter-1.2006.
Thank you for uploading your work to CPAN. Congratulations!
All tests were successful.
Sections of this report:
* Tester comments
* Program output
* Prerequisites
* Environment and other context
------------------------------
TESTER COMMENTS
------------------------------
Additional comments from tester:
this report is from an automated smoke testing program
and was not reviewed by a human for accuracy
------------------------------
PROGRAM OUTPUT
------------------------------
Output from './Build test':
t/00-compile.t ................ ok
#
#
# Generated by Dist::Zilla::Plugin::ReportVersions::Tiny v1.03
# perl: v5.12.4 (wanted 5.006) on freebsd from /usr/local/bin/perl
#
# Exporter => 5.66 (want any version)
# File::Find => 1.15 (want any version)
# File::Temp => 0.22 (want any version)
# IO::Handle => 1.28 (want 1.28)
# Module::Build => 0.4002 (want 0.3601)
# Net::SSLeay => 1.48 (want 1.36)
# POE => 1.354 (want 1.267)
# POE::Component::Client::TCP => 1.354 (want any version)
# POE::Component::Server::TCP => 1.354 (want any version)
# Scalar::Util => 1.25 (want any version)
# Socket => 2.002 (want any version)
# Symbol => 1.07 (want any version)
# Task::Weaken => 1.04 (want 1.03)
# Test::More => 0.98 (want 0.88)
# parent => 0.225 (want any version)
#
# Thanks for using my code. I hope it works for you.
# If not, please try and include this output in the bug report.
# That will help me reproduce the issue and solve your problem.
#
t/000-report-versions-tiny.t .. ok
t/1_simple.t .................. ok
t/2_renegotiate_client.t ...... ok
t/3_upgrade.t ................. ok
t/4_connect_hook.t ............ ok
t/5_connfail_client.t ......... ok
t/6_connfail_server.t ......... ok
t/7_connect_hook_nodata.t ..... ok
t/8_renegotiate_server.t ...... ok
t/98_renegotiate.t ............ skipped: AUTHOR TEST
t/99_mire_test.t .............. skipped: AUTHOR TEST
t/apocalypse.t ................ skipped: Test::Apocalypse required for validating the distribution
All tests successful.
Files=13, Tests=131, 2 wallclock secs ( 0.08 usr 0.06 sys + 1.22 cusr 0.38 csys = 1.74 CPU)
Result: PASS
------------------------------
PREREQUISITES
------------------------------
Prerequisite modules loaded:
requires:
Module Need Have
--------------------------- ------ --------
Exporter 0 5.66
IO::Handle 1.28 1.28
Net::SSLeay 1.36 1.48
parent 0 0.225
perl 5.006 5.012004
POE 0 1.354
Scalar::Util 0 1.25
Symbol 0 1.07
Task::Weaken 1.03 1.04
build_requires:
Module Need Have
--------------------------- ------ --------
File::Find 0 1.15
File::Temp 0 0.22
Module::Build 0.3601 0.4002
POE 1.267 1.354
POE::Component::Client::TCP 0 1.354
POE::Component::Server::TCP 0 1.354
Socket 0 2.002
Test::More 0.88 0.98
configure_requires:
Module Need Have
--------------------------- ------ --------
Module::Build 0.3601 0.4002
------------------------------
ENVIRONMENT AND OTHER CONTEXT
------------------------------
Environment variables:
AUTOMATED_TESTING = 1
PATH = /home/cpan/perl5/bin:/sbin:/bin:/usr/sbin:/usr/bin:/usr/games:/usr/local/sbin:/usr/local/bin:/home/cpan/bin
PERL5LIB = /home/cpan/perl5/lib/perl5/amd64-freebsd:/home/cpan/perl5/lib/perl5
PERL5OPT =
PERL5_CPANPLUS_IS_RUNNING = 29536
PERL5_CPAN_IS_RUNNING = 29536
PERL5_CPAN_IS_RUNNING_IN_RECURSION = 19840,29536
PERL_CR_SMOKER_CURRENT = Task-BeLike-SCHWIGON-0.002
PERL_EXTUTILS_AUTOINSTALL = --defaultdeps
PERL_LOCAL_LIB_ROOT = /home/cpan/perl5
PERL_MB_OPT = --install_base /home/cpan/perl5
PERL_MM_OPT = INSTALL_BASE=/home/cpan/perl5
PERL_MM_USE_DEFAULT = 1
SHELL = /usr/local/bin/bash
TERM = screen
Perl special variables (and OS-specific diagnostics, for MSWin32):
$^X = /usr/local/bin/perl
$UID/$EUID = 1001 / 1001
$GID = 1001 1001 0 5 20 80
$EGID = 1001 1001 0 5 20 80
Perl module toolchain versions installed:
Module Have
------------------- --------
CPAN 1.9800
CPAN::Meta 2.120921
Cwd 3.33
ExtUtils::CBuilder 0.280205
ExtUtils::Command 1.16
ExtUtils::Install 1.54
ExtUtils::MakeMaker 6.62
ExtUtils::Manifest 1.58
ExtUtils::ParseXS 3.15
File::Spec 3.33
JSON 2.53
JSON::PP 2.27200
Module::Build 0.4002
Module::Signature 0.68
Parse::CPAN::Meta 1.4404
Test::Harness 3.25
Test::More 0.98
YAML 0.84
YAML::Syck 1.20
version 0.99
--
Summary of my perl5 (revision 5 version 12 subversion 4) configuration:
Platform:
osname=freebsd, osvers=9.0-rc2, archname=amd64-freebsd
uname='freebsd freebsd.org 9.0-rc2 freebsd 9.0-rc2 #0: mon dec 5 15:11:44 utc 2011 kris@freebsd.org:usrsrcsysmagickernelpath amd64 '
config_args='-sde -Dprefix=/usr/local -Darchlib=/usr/local/lib/perl5/5.12.4/mach -Dprivlib=/usr/local/lib/perl5/5.12.4 -Dman3dir=/usr/local/lib/perl5/5.12.4/perl/man/man3 -Dman1dir=/usr/local/man/man1 -Dsitearch=/usr/local/lib/perl5/site_perl/5.12.4/mach -Dsitelib=/usr/local/lib/perl5/site_perl/5.12.4 -Dscriptdir=/usr/local/bin -Dsiteman3dir=/usr/local/lib/perl5/5.12.4/man/man3 -Dsiteman1dir=/usr/local/man/man1 -Ui_malloc -Ui_iconv -Uinstallusrbinperl -Dcc=cc -Duseshrplib -Dinc_version_list=none -Dccflags=-DAPPLLIB_EXP="/usr/local/lib/perl5/5.12.4/BSDPAN" -Doptimize=-O2 -pipe -fno-strict-aliasing -Ui_gdbm -Dusethreads=n -Dusemymalloc=n -Duse64bitint'
hint=recommended, useposix=true, d_sigaction=define
useithreads=undef, usemultiplicity=undef
useperlio=define, d_sfio=undef, uselargefiles=define, usesocks=undef
use64bitint=define, use64bitall=define, uselongdouble=undef
usemymalloc=n, bincompat5005=undef
Compiler:
cc='cc', ccflags ='-DAPPLLIB_EXP="/usr/local/lib/perl5/5.12.4/BSDPAN" -DHAS_FPSETMASK -DHAS_FLOATINGPOINT_H -fno-strict-aliasing -pipe -fstack-protector -I/usr/local/include',
optimize='-O2 -pipe -fno-strict-aliasing',
cppflags='-DAPPLLIB_EXP="/usr/local/lib/perl5/5.12.4/BSDPAN" -DHAS_FPSETMASK -DHAS_FLOATINGPOINT_H -fno-strict-aliasing -pipe -fstack-protector -I/usr/local/include'
ccversion='', gccversion='4.2.1 20070831 patched [FreeBSD]', gccosandvers=''
intsize=4, longsize=8, ptrsize=8, doublesize=8, byteorder=12345678
d_longlong=define, longlongsize=8, d_longdbl=define, longdblsize=16
ivtype='long', ivsize=8, nvtype='double', nvsize=8, Off_t='off_t', lseeksize=8
alignbytes=8, prototype=define
Linker and Libraries:
ld='cc', ldflags =' -Wl,-E -fstack-protector -L/usr/local/lib'
libpth=/usr/lib /usr/local/lib
libs=-lm -lcrypt -lutil
perllibs=-lm -lcrypt -lutil
libc=, so=so, useshrplib=true, libperl=libperl.so
gnulibc_version=''
Dynamic Linking:
dlsrc=dl_dlopen.xs, dlext=so, d_dlsymun=undef, ccdlflags=' -Wl,-R/usr/local/lib/perl5/5.12.4/mach/CORE'
cccdlflags='-DPIC -fPIC', lddlflags='-shared -L/usr/local/lib -fstack-protector'
Characteristics of this binary (from libperl):
Compile-time options: PERL_DONT_CREATE_GVSV PERL_MALLOC_WRAP USE_64_BIT_ALL
USE_64_BIT_INT USE_LARGE_FILES USE_PERLIO
USE_PERL_ATOF
Built under freebsd
Compiled at Dec 5 2011 15:24:07
%ENV:
PERL5LIB="/home/cpan/perl5/lib/perl5/amd64-freebsd:/home/cpan/perl5/lib/perl5"
PERL5OPT=""
PERL5_CPANPLUS_IS_RUNNING="29536"
PERL5_CPAN_IS_RUNNING="29536"
PERL5_CPAN_IS_RUNNING_IN_RECURSION="19840,29536"
PERL_CR_SMOKER_CURRENT="Task-BeLike-SCHWIGON-0.002"
PERL_EXTUTILS_AUTOINSTALL="--defaultdeps"
PERL_LOCAL_LIB_ROOT="/home/cpan/perl5"
PERL_MB_OPT="--install_base /home/cpan/perl5"
PERL_MM_OPT="INSTALL_BASE=/home/cpan/perl5"
PERL_MM_USE_DEFAULT="1"
@INC:
/home/cpan/perl5/lib/perl5/amd64-freebsd
/home/cpan/perl5/lib/perl5/amd64-freebsd
/home/cpan/perl5/lib/perl5
/usr/local/lib/perl5/5.12.4/BSDPAN
/usr/local/lib/perl5/site_perl/5.12.4/mach
/usr/local/lib/perl5/site_perl/5.12.4
/usr/local/lib/perl5/5.12.4/mach
/usr/local/lib/perl5/5.12.4
.