Test-Portability-Files v0.10 Perl 5 v5.41.12 darwin-2level
- Status
- Pass
- From
- Dist
-
Test-Portability-Files v0.10
- Platform
- Perl 5 v5.41.12 darwin-2level
- Date
- 2025-04-22 01:37:03
- ID
- 4afc1f64-1f1a-11f0-b6fb-af6c8876a89f
This distribution has been tested as part of the CPAN Testers
project, supporting the Perl programming language. See
http://wiki.cpantesters.org/ for more information or email
questions to cpan-testers-discuss@perl.org
--
Dear ABRAXXA,
This is a computer-generated report for Test-Portability-Files-0.10
on perl 5.41.12, created by App::cpanminus::reporter 0.22 (1.7048).
Thank you for uploading your work to CPAN. Congratulations!
All tests were successful.
Sections of this report:
* Tester comments
* Program output
* Prerequisites
* Environment and other context
------------------------------
TESTER COMMENTS
------------------------------
Additional comments from tester:
none provided
------------------------------
PROGRAM OUTPUT
------------------------------
Output from '':
Building and testing Test-Portability-Files-0.10
PERL_DL_NONLAZY=1 "/Volumes/chambord/Users/ether/perl5/perlbrew/perls/41.12/bin/perl5.41.12" "-MExtUtils::Command::MM" "-MTest::Harness" "-e" "undef *Test::Harness::Switches; test_harness(0, 'blib/lib', 'blib/arch')" t/*.t
t/author-critic.t ........... skipped: these tests are for testing by the author
t/author-eol.t .............. skipped: these tests are for testing by the author
t/author-minimum-version.t .. skipped: these tests are for testing by the author
t/author-no-tabs.t .......... skipped: these tests are for testing by the author
t/author-mojibake.t ......... skipped: these tests are for testing by the author
t/author-pod-coverage.t ..... skipped: these tests are for testing by the author
t/author-pod-syntax.t ....... skipped: these tests are for testing by the author
t/author-pod-linkcheck.t .... skipped: these tests are for testing by the author
t/author-portability.t ...... skipped: these tests are for testing by the author
t/author-synopsis.t ......... skipped: these tests are for testing by the author
t/author-test-version.t ..... skipped: these tests are for testing by the author
t/release-cpan-changes.t .... skipped: these tests are for release candidate testing
t/01basic.t ................. ok
t/release-dist-manifest.t ... skipped: these tests are for release candidate testing
t/release-distmeta.t ........ skipped: these tests are for release candidate testing
t/release-kwalitee.t ........ skipped: these tests are for release candidate testing
t/release-meta-json.t ....... skipped: these tests are for release candidate testing
t/release-unused-vars.t ..... skipped: these tests are for release candidate testing
t/00-compile.t .............. ok
t/portfs.t .................. ok
t/02filenames.t ............. ok
All tests successful.
Files=21, Tests=23, 1 wallclock secs ( 0.03 usr 0.02 sys + 0.16 cusr 0.07 csys = 0.28 CPU)
Result: PASS
------------------------------
PREREQUISITES
------------------------------
Prerequisite modules loaded:
No requirements found
------------------------------
ENVIRONMENT AND OTHER CONTEXT
------------------------------
Environment variables:
HARNESS_OPTIONS = j6:c
LANG = en_CA.UTF-8
LC_ALL = en_CA.UTF-8
LC_CTYPE = en_CA.UTF-8
NO_NETWORK_TESTING = 1
PATH = /Volumes/chambord/Users/ether/.perlbrew/libs/41.12@std/bin:/Volumes/chambord/Users/ether/perl5/perlbrew/bin:/Volumes/chambord/Users/ether/perl5/perlbrew/perls/41.12/bin:/Volumes/chambord/Users/ether/bin:/Volumes/chambord/Users/ether/git/misc/install/advocaat/bin:/Volumes/chambord/Users/ether/git/misc/install/generic/bin:/opt/local/bin:/opt/local/sbin:/Volumes/chambord/Users/ether/git/git-hub/lib:/usr/local/bin:/System/Cryptexes/App/usr/bin:/usr/bin:/bin:/usr/sbin:/sbin:/var/run/com.apple.security.cryptexd/codex.system/bootstrap/usr/local/bin:/var/run/com.apple.security.cryptexd/codex.system/bootstrap/usr/bin:/var/run/com.apple.security.cryptexd/codex.system/bootstrap/usr/appleinternal/bin:/Library/Apple/usr/bin:/opt/local/share/git-core/contrib/workdir
PERL5LIB = /Volumes/chambord/Users/ether/.perlbrew/libs/41.12@std/lib/perl5
PERLBREW_HOME = /Volumes/chambord/Users/ether/.perlbrew
PERLBREW_LIB = std
PERLBREW_MANPATH = /Volumes/chambord/Users/ether/.perlbrew/libs/41.12@std/man:/Volumes/chambord/Users/ether/perl5/perlbrew/perls/41.12/man
PERLBREW_PATH = /Volumes/chambord/Users/ether/.perlbrew/libs/41.12@std/bin:/Volumes/chambord/Users/ether/perl5/perlbrew/bin:/Volumes/chambord/Users/ether/perl5/perlbrew/perls/41.12/bin
PERLBREW_PERL = 41.12
PERLBREW_ROOT = /Volumes/chambord/Users/ether/perl5/perlbrew
PERLBREW_SHELLRC_VERSION = 1.01
PERLBREW_VERSION = 1.01
PERLDOC = -oansi
PERLDOC_PAGER = less -sicMr
PERL_AUTOINSTALL_PREFER_CPAN = 1
PERL_INSTALL_QUIET = 1
PERL_LOCAL_LIB_ROOT = /Volumes/chambord/Users/ether/.perlbrew/libs/41.12@std
PERL_MB_OPT = --install_base /Volumes/chambord/Users/ether/.perlbrew/libs/41.12@std
PERL_MM_OPT = INSTALL_BASE=/Volumes/chambord/Users/ether/.perlbrew/libs/41.12@std
PERL_TEST_HARNESS_ASAP = 1
PERL_USE_UNSAFE_INC = 0
SHELL = /bin/bash
TERM = xterm-color
Perl special variables (and OS-specific diagnostics, for MSWin32):
EGID = 20 20 12 61 79 80 81 98 701 704 703 702 705 33 100 204 250
EUID = 502
EXECUTABLE_NAME = /Volumes/chambord/Users/ether/perl5/perlbrew/perls/41.12/bin/perl5.41.12
GID = 20 20 12 61 79 80 81 98 701 704 703 702 705 33 100 204 250
UID = 502
Perl module toolchain versions installed:
Module Have
------------------- --------
CPAN 2.38
CPAN::Meta 2.150010
Cwd 3.94
ExtUtils::CBuilder 0.280240
ExtUtils::Command 7.74
ExtUtils::Install 2.22
ExtUtils::MakeMaker 7.74
ExtUtils::Manifest 1.75
ExtUtils::ParseXS 3.57
File::Spec 3.94
JSON n/a
JSON::PP 4.16
Module::Build 0.4234
Module::Signature n/a
Parse::CPAN::Meta 2.150010
Test::Harness 3.50
Test::More 1.302210
YAML n/a
YAML::Syck n/a
version 0.9933
--
Summary of my perl5 (revision 5 version 41 subversion 12) configuration:
Platform:
osname=darwin
osvers=24.4.0
archname=darwin-2level
uname='darwin advocaat 24.4.0 darwin kernel version 24.4.0: fri apr 11 18:33:46 pdt 2025; root:xnu-11417.101.15~117release_arm64_t8112 arm64 '
config_args='-de -Dprefix=/Volumes/chambord/Users/ether/perl5/perlbrew/perls/41.12 -Dman1dir=none -Dman3dir=none -Dusedevel -Aeval:scriptdir=/Volumes/chambord/Users/ether/perl5/perlbrew/perls/41.12/bin'
hint=recommended
useposix=true
d_sigaction=define
useithreads=undef
usemultiplicity=undef
use64bitint=define
use64bitall=define
uselongdouble=undef
usemymalloc=n
default_inc_excludes_dot=define
Compiler:
cc='cc'
ccflags ='-fno-common -DPERL_DARWIN -mmacosx-version-min=15.4 -DNO_THREAD_SAFE_QUERYLOCALE -DNO_POSIX_2008_LOCALE -DHAS_BROKEN_LANGINFO_CODESET -DNO_LOCALE_COLLATE -fno-strict-aliasing -pipe -fstack-protector-strong -I/opt/local/include'
optimize='-O3'
cppflags='-fno-common -DPERL_DARWIN -mmacosx-version-min=15.4 -DNO_THREAD_SAFE_QUERYLOCALE -DNO_POSIX_2008_LOCALE -DHAS_BROKEN_LANGINFO_CODESET -DNO_LOCALE_COLLATE -fno-strict-aliasing -pipe -fstack-protector-strong -I/opt/local/include'
ccversion=''
gccversion='Apple LLVM 17.0.0 (clang-1700.0.13.3)'
gccosandvers=''
intsize=4
longsize=8
ptrsize=8
doublesize=8
byteorder=12345678
doublekind=3
d_longlong=define
longlongsize=8
d_longdbl=define
longdblsize=8
longdblkind=0
ivtype='long'
ivsize=8
nvtype='double'
nvsize=8
Off_t='off_t'
lseeksize=8
alignbytes=8
prototype=define
Linker and Libraries:
ld='cc'
ldflags =' -mmacosx-version-min=15.4 -fstack-protector-strong -L/opt/local/lib'
libpth=/Applications/Xcode.app/Contents/Developer/Toolchains/XcodeDefault.xctoolchain/usr/lib/clang/17/lib /Applications/Xcode.app/Contents/Developer/Platforms/MacOSX.platform/Developer/SDKs/MacOSX.sdk/usr/lib /Applications/Xcode.app/Contents/Developer/Toolchains/XcodeDefault.xctoolchain/usr/lib /opt/local/lib /usr/lib
libs=-lgdbm
perllibs=
libc=
so=dylib
useshrplib=false
libperl=libperl.a
gnulibc_version=''
Dynamic Linking:
dlsrc=dl_dlopen.xs
dlext=bundle
d_dlsymun=undef
ccdlflags=' '
cccdlflags=' '
lddlflags=' -mmacosx-version-min=15.4 -bundle -undefined dynamic_lookup -L/opt/local/lib -fstack-protector-strong'
Characteristics of this binary (from libperl):
Compile-time options:
HAS_LONG_DOUBLE
HAS_STRTOLD
HAS_TIMES
PERLIO_LAYERS
PERL_COPY_ON_WRITE
PERL_DONT_CREATE_GVSV
PERL_HASH_FUNC_SIPHASH13
PERL_HASH_USE_SBOX32
PERL_MALLOC_WRAP
PERL_OP_PARENT
PERL_PRESERVE_IVUV
PERL_USE_DEVEL
PERL_USE_SAFE_PUTENV
USE_64_BIT_ALL
USE_64_BIT_INT
USE_LARGE_FILES
USE_LOCALE
USE_LOCALE_CTYPE
USE_LOCALE_NUMERIC
USE_LOCALE_TIME
USE_PERLIO
USE_PERL_ATOF
Built under darwin
Compiled at Apr 21 2025 18:15:10
%ENV:
PERL5LIB="/Volumes/chambord/Users/ether/.perlbrew/libs/41.12@std/lib/perl5"
PERLBREW_HOME="/Volumes/chambord/Users/ether/.perlbrew"
PERLBREW_LIB="std"
PERLBREW_MANPATH="/Volumes/chambord/Users/ether/.perlbrew/libs/41.12@std/man:/Volumes/chambord/Users/ether/perl5/perlbrew/perls/41.12/man"
PERLBREW_PATH="/Volumes/chambord/Users/ether/.perlbrew/libs/41.12@std/bin:/Volumes/chambord/Users/ether/perl5/perlbrew/bin:/Volumes/chambord/Users/ether/perl5/perlbrew/perls/41.12/bin"
PERLBREW_PERL="41.12"
PERLBREW_ROOT="/Volumes/chambord/Users/ether/perl5/perlbrew"
PERLBREW_SHELLRC_VERSION="1.01"
PERLBREW_VERSION="1.01"
PERLDOC="-oansi"
PERLDOC_PAGER="less -sicMr"
PERL_AUTOINSTALL_PREFER_CPAN="1"
PERL_INSTALL_QUIET="1"
PERL_LOCAL_LIB_ROOT="/Volumes/chambord/Users/ether/.perlbrew/libs/41.12@std"
PERL_MB_OPT="--install_base /Volumes/chambord/Users/ether/.perlbrew/libs/41.12@std"
PERL_MM_OPT="INSTALL_BASE=/Volumes/chambord/Users/ether/.perlbrew/libs/41.12@std"
PERL_TEST_HARNESS_ASAP="1"
PERL_USE_UNSAFE_INC="0"
@INC:
/Volumes/chambord/Users/ether/.perlbrew/libs/41.12@std/lib/perl5/darwin-2level
/Volumes/chambord/Users/ether/.perlbrew/libs/41.12@std/lib/perl5
/Volumes/chambord/Users/ether/perl5/perlbrew/perls/41.12/lib/site_perl/5.41.12/darwin-2level
/Volumes/chambord/Users/ether/perl5/perlbrew/perls/41.12/lib/site_perl/5.41.12
/Volumes/chambord/Users/ether/perl5/perlbrew/perls/41.12/lib/5.41.12/darwin-2level
/Volumes/chambord/Users/ether/perl5/perlbrew/perls/41.12/lib/5.41.12