Terse v0.20 Perl 5 v5.36.0 amd64-freebsd-ld
- Status
- Pass
- From
- Slaven Rezić
- Dist
-
Terse v0.20
- Platform
- Perl 5 v5.36.0 amd64-freebsd-ld
- Date
- 2023-09-12 18:07:54
- ID
- 4b4e2a7c-5197-11ee-97f8-80e76d8775ea
This distribution has been tested as part of the CPAN Testers
project, supporting the Perl programming language. See
http://wiki.cpantesters.org/ for more information or email
questions to cpan-testers-discuss@perl.org
--
Dear Robert Acock,
This is a computer-generated report for Terse-0.20
on perl 5.36.0, created by CPAN-Reporter-1.2018.
Thank you for uploading your work to CPAN. Congratulations!
All tests were successful.
Sections of this report:
* Tester comments
* Program output
* Prerequisites
* Environment and other context
------------------------------
TESTER COMMENTS
------------------------------
Additional comments from tester:
none provided
------------------------------
PROGRAM OUTPUT
------------------------------
Output from '/usr/bin/make test':
PERL_DL_NONLAZY=1 "/usr/perl5.36.0Dp/bin/perl" "-MExtUtils::Command::MM" "-MTest::Harness" "-e" "undef *Test::Harness::Switches; test_harness(0, 'blib/lib', 'blib/arch')" t/*.t
# Testing Terse 0.20, Perl 5.036000, /usr/perl5.36.0Dp/bin/perl
t/000-load.t .............. ok
t/001-basic.t ............. ok
t/100-terse-new.t ......... ok
t/101-terse-run.t ......... ok
t/102-terse-to_app.t ...... ok
t/103-terse_logger.t ...... ok
Odd number of elements in hash assignment at /usr/home/cpansand/.cpan/build/2023090410/Terse-0.20-2/blib/lib/Terse.pm line 28.
Use of uninitialized value $_[1] in list assignment at /usr/home/cpansand/.cpan/build/2023090410/Terse-0.20-2/blib/lib/Terse.pm line 28.
t/104-terse_logError.t .... ok
Odd number of elements in hash assignment at /usr/home/cpansand/.cpan/build/2023090410/Terse-0.20-2/blib/lib/Terse.pm line 28.
Use of uninitialized value $_[1] in list assignment at /usr/home/cpansand/.cpan/build/2023090410/Terse-0.20-2/blib/lib/Terse.pm line 28.
t/105-terse_logInfo.t ..... ok
Odd number of elements in hash assignment at /usr/home/cpansand/.cpan/build/2023090410/Terse-0.20-2/blib/lib/Terse.pm line 28.
Use of uninitialized value $_[1] in list assignment at /usr/home/cpansand/.cpan/build/2023090410/Terse-0.20-2/blib/lib/Terse.pm line 28.
t/106-terse_raiseError.t .. ok
Odd number of elements in hash assignment at /usr/home/cpansand/.cpan/build/2023090410/Terse-0.20-2/blib/lib/Terse.pm line 28.
Use of uninitialized value within @_ in list assignment at /usr/home/cpansand/.cpan/build/2023090410/Terse-0.20-2/blib/lib/Terse.pm line 28.
Odd number of elements in hash assignment at /usr/home/cpansand/.cpan/build/2023090410/Terse-0.20-2/blib/lib/Terse.pm line 28.
Use of uninitialized value within @_ in list assignment at /usr/home/cpansand/.cpan/build/2023090410/Terse-0.20-2/blib/lib/Terse.pm line 28.
Odd number of elements in hash assignment at /usr/home/cpansand/.cpan/build/2023090410/Terse-0.20-2/blib/lib/Terse.pm line 28.
Use of uninitialized value within @_ in list assignment at /usr/home/cpansand/.cpan/build/2023090410/Terse-0.20-2/blib/lib/Terse.pm line 28.
Odd number of elements in hash assignment at /usr/home/cpansand/.cpan/build/2023090410/Terse-0.20-2/blib/lib/Terse.pm line 28.
Use of uninitialized value within @_ in list assignment at /usr/home/cpansand/.cpan/build/2023090410/Terse-0.20-2/blib/lib/Terse.pm line 28.
t/107-graft.t ............. ok
Odd number of elements in hash assignment at /usr/home/cpansand/.cpan/build/2023090410/Terse-0.20-2/blib/lib/Terse.pm line 28.
Use of uninitialized value within @_ in list assignment at /usr/home/cpansand/.cpan/build/2023090410/Terse-0.20-2/blib/lib/Terse.pm line 28.
t/108-pretty.t ............ ok
Odd number of elements in hash assignment at /usr/home/cpansand/.cpan/build/2023090410/Terse-0.20-2/blib/lib/Terse.pm line 28.
Use of uninitialized value within @_ in list assignment at /usr/home/cpansand/.cpan/build/2023090410/Terse-0.20-2/blib/lib/Terse.pm line 28.
t/109-serialize.t ......... ok
t/200-controller.t ........ ok
t/manifest.t .............. skipped: Author tests not required for installation
t/pod-coverage.t .......... skipped: Author tests not required for installation
t/pod.t ................... skipped: Author tests not required for installation
All tests successful.
Files=16, Tests=156, 2 wallclock secs ( 0.05 usr 0.03 sys + 1.80 cusr 0.27 csys = 2.14 CPU)
Result: PASS
------------------------------
PREREQUISITES
------------------------------
Prerequisite modules loaded:
requires:
Module Need Have
------------------- ----- --------
B 0 1.83
Cpanel::JSON::XS 0 4.37
Digest::SHA 0 6.04
perl 5.006 5.036000
Plack::Request 0 1.0050
Plack::Response 0 1.0050
Scalar::Util 0 1.63
Struct::WOP 0.15 0.19
Test::Instruction 0 0.03
Time::HiRes 0 1.9770
URI 0 5.21
Want 0 0.29
build_requires:
Module Need Have
------------------- ----- --------
ExtUtils::MakeMaker 0 7.70
Test::More 0 1.302195
configure_requires:
Module Need Have
------------------- ----- --------
ExtUtils::MakeMaker 0 7.70
------------------------------
ENVIRONMENT AND OTHER CONTEXT
------------------------------
Environment variables:
PATH = /usr/local/bin:/usr/bin:/bin:/usr/local/sbin:/usr/sbin:/sbin:/home/cpansand/bin/sh:/home/cpansand/bin:/usr/games:/home/cpansand/devel:/usr/home/eserte/src/srezic-misc/scripts
PERL5LIB =
PERL5OPT =
PERL5_CPANPLUS_IS_RUNNING = 51841
PERL5_CPAN_IS_RUNNING = 51841
PERL5_CPAN_IS_RUNNING_IN_RECURSION = 50683,51841
PERL_BATCH = yes
PERL_CANARY_STABILITY_NOPROMPT = 1
PERL_CPAN_REPORTER_CONFIG = /var/tmp/cpansmoker-1023/2023090410/cpanreporter_000_config.ini
PERL_EXTUTILS_AUTOINSTALL = --defaultdeps
PERL_USE_UNSAFE_INC = 1
SHELL = /bin/sh
TMPDIR = /var/tmp/cpansmoker-1023/2023090410
Perl special variables (and OS-specific diagnostics, for MSWin32):
$^X = /usr/perl5.36.0Dp/bin/perl
$UID/$EUID = 1023 / 1023
$GID = 1023 1023
$EGID = 1023 1023
Perl module toolchain versions installed:
Module Have
------------------- --------
CPAN 2.36
CPAN::Meta 2.150010
Cwd 3.84
ExtUtils::CBuilder 0.280236
ExtUtils::Command 7.70
ExtUtils::Install 2.20
ExtUtils::MakeMaker 7.70
ExtUtils::Manifest 1.73
ExtUtils::ParseXS 3.51
File::Spec 3.84
JSON 4.10
JSON::PP 4.15
Module::Build 0.4234
Module::Signature n/a
Parse::CPAN::Meta 2.150010
Test::Harness 3.47
Test::More 1.302195
YAML 1.30
YAML::Syck 1.34
version 0.9929
--
Summary of my perl5 (revision 5 version 36 subversion 0) configuration:
Platform:
osname=freebsd
osvers=13.1-stable
archname=amd64-freebsd-ld
uname='freebsd cloud10.bbbike.org 13.1-stable freebsd 13.1-stable #1 stable13-249d205cb: thu may 5 07:39:11 utc 2022 root@cloud10.bbbike.org:usrobjusrhomeprojectsfreebsd-srcamd64.amd64sysgeneric amd64 '
config_args='-ds -e -Dprefix=/usr/perl5.36.0Dp -Duselongdouble -Dcf_email=srezic@cpan.org -Doptimize=-O2 -pipe'
hint=recommended
useposix=true
d_sigaction=define
useithreads=undef
usemultiplicity=undef
use64bitint=define
use64bitall=define
uselongdouble=define
usemymalloc=n
default_inc_excludes_dot=define
Compiler:
cc='cc'
ccflags ='-DHAS_FPSETMASK -DHAS_FLOATINGPOINT_H -fno-strict-aliasing -pipe -fstack-protector-strong -I/usr/local/include'
optimize='-O2 -pipe'
cppflags='-DHAS_FPSETMASK -DHAS_FLOATINGPOINT_H -fno-strict-aliasing -pipe -fstack-protector-strong -I/usr/local/include'
ccversion=''
gccversion='FreeBSD Clang 13.0.0 (git@github.com:llvm/llvm-project.git llvmorg-13.0.0-0-gd7b669b3a303)'
gccosandvers=''
intsize=4
longsize=8
ptrsize=8
doublesize=8
byteorder=12345678
doublekind=3
d_longlong=define
longlongsize=8
d_longdbl=define
longdblsize=16
longdblkind=3
ivtype='long'
ivsize=8
nvtype='long double'
nvsize=16
Off_t='off_t'
lseeksize=8
alignbytes=16
prototype=define
Linker and Libraries:
ld='cc'
ldflags ='-pthread -Wl,-E -fstack-protector-strong -L/usr/local/lib'
libpth=/usr/lib /usr/local/lib /usr/lib/clang/13.0.0/lib
libs=-lpthread -lgdbm -ldl -lm -lcrypt -lutil -lc
perllibs=-lpthread -ldl -lm -lcrypt -lutil -lc
libc=
so=so
useshrplib=false
libperl=libperl.a
gnulibc_version=''
Dynamic Linking:
dlsrc=dl_dlopen.xs
dlext=so
d_dlsymun=undef
ccdlflags=' '
cccdlflags='-DPIC -fPIC'
lddlflags='-shared -L/usr/local/lib -fstack-protector-strong'
Characteristics of this binary (from libperl):
Compile-time options:
HAS_TIMES
PERLIO_LAYERS
PERL_COPY_ON_WRITE
PERL_DONT_CREATE_GVSV
PERL_MALLOC_WRAP
PERL_OP_PARENT
PERL_PRESERVE_IVUV
USE_64_BIT_ALL
USE_64_BIT_INT
USE_LARGE_FILES
USE_LOCALE
USE_LOCALE_COLLATE
USE_LOCALE_CTYPE
USE_LOCALE_NUMERIC
USE_LOCALE_TIME
USE_LONG_DOUBLE
USE_PERLIO
USE_PERL_ATOF
Built under freebsd
Compiled at May 31 2022 04:58:10
%ENV:
PERL5LIB=""
PERL5OPT=""
PERL5_CPANPLUS_IS_RUNNING="51841"
PERL5_CPAN_IS_RUNNING="51841"
PERL5_CPAN_IS_RUNNING_IN_RECURSION="50683,51841"
PERL_BATCH="yes"
PERL_CANARY_STABILITY_NOPROMPT="1"
PERL_CPAN_REPORTER_CONFIG="/var/tmp/cpansmoker-1023/2023090410/cpanreporter_000_config.ini"
PERL_EXTUTILS_AUTOINSTALL="--defaultdeps"
PERL_USE_UNSAFE_INC="1"
@INC:
/usr/perl5.36.0Dp/lib/site_perl/5.36.0/amd64-freebsd-ld
/usr/perl5.36.0Dp/lib/site_perl/5.36.0
/usr/perl5.36.0Dp/lib/5.36.0/amd64-freebsd-ld
/usr/perl5.36.0Dp/lib/5.36.0
.