Report for Shell-Guess-0.06

Back
From: metabase:user:30f4dfbe-2aae-11df-837a-5e0a49663a4f
Subject: PASS Shell-Guess-0.06 v5.21.9 GNU/Linux
Date: 2015-04-11T23:27:18Z

This distribution has been tested as part of the CPAN Testers
project, supporting the Perl programming language.  See
http://wiki.cpantesters.org/ for more information or email
questions to cpan-testers-discuss@perl.org


--
Dear Graham Ollis,

This is a computer-generated report for Shell-Guess-0.06
on perl 5.21.9, created by CPAN-Reporter-1.2011.

Thank you for uploading your work to CPAN.  Congratulations!
All tests were successful.

Sections of this report:

    * Tester comments
    * Program output
    * Prerequisites
    * Environment and other context

------------------------------
TESTER COMMENTS
------------------------------

Additional comments from tester:

this report is from an automated smoke testing program
and was not reviewed by a human for accuracy

------------------------------
PROGRAM OUTPUT
------------------------------

Output from './Build test':

Useless use of getppid in void context at inc/My/ModuleBuild.pm line 12.
# 
# 
# 
# HARNESS_ACTIVE=1
# HARNESS_VERSION=3.35
# LANG=en_GB.UTF-8
# PERL5LIB=/home/njh/.cpan/build/Shell-Guess-0.06-jcaigc/blib/lib:/home/njh/.cpan/build/Shell-Guess-0.06-jcaigc/blib/arch:inc:/home/njh/.cpan/build/List-MoreUtils-0.410-pvmh2o/blib/arch:/home/njh/.cpan/build/List-MoreUtils-0.410-pvmh2o/blib/lib:/home/njh/.cpan/build/Exporter-Tiny-0.042-mcdYaX/blib/arch:/home/njh/.cpan/build/Exporter-Tiny-0.042-mcdYaX/blib/lib:/home/njh/.cpan/build/Archive-Extract-0.74-3LomTn/blib/arch:/home/njh/.cpan/build/Archive-Extract-0.74-3LomTn/blib/lib:/home/njh/.cpan/build/FFI-CheckLib-0.11-M5mBdp/blib/arch:/home/njh/.cpan/build/FFI-CheckLib-0.11-M5mBdp/blib/lib:/home/njh/.cpan/build/List-MoreUtils-0.410-pvmh2o/blib/arch:/home/njh/.cpan/build/List-MoreUtils-0.410-pvmh2o/blib/lib:/home/njh/.cpan/build/Exporter-Tiny-0.042-mcdYaX/blib/arch:/home/njh/.cpan/build/Exporter-Tiny-0.042-mcdYaX/blib/lib:/home/njh/.cpan/build/Archive-Extract-0.74-3LomTn/blib/arch:/home/njh/.cpan/build/Archive-Extract-0.74-3LomTn/blib/lib:/home/njh/.cpan/build/FFI-CheckLib-0.11-M5mBdp/blib/arch:/home/njh/.cpan/build/FFI-CheckLib-0.11-M5mBdp/blib/lib
# PERL5OPT=
# PERL5_CPANPLUS_IS_RUNNING=6813
# PERL5_CPAN_IS_RUNNING=6813
# PERL5_MINISMOKEBOX=0.58
# PERLBREW_BASHRC_VERSION=0.71
# PERLBREW_HOME=/home/njh/.perlbrew
# PERLBREW_LIB=
# PERLBREW_MANPATH=/home/njh/perl5/perlbrew/perls/perl-5.21.9/man
# PERLBREW_PATH=/home/njh/perl5/perlbrew/bin:/home/njh/perl5/perlbrew/perls/perl-5.21.9/bin
# PERLBREW_PERL=perl-5.21.9
# PERLBREW_ROOT=/home/njh/perl5/perlbrew
# PERLBREW_VERSION=0.71
# PERL_DL_NONLAZY=1
# PERL_EXTUTILS_AUTOINSTALL=--defaultdeps
# PERL_LOCAL_LIB_ROOT=
# PERL_MM_USE_DEFAULT=1
# SHELL=/bin/bash
# 
# 
# 
# PERL5LIB path
# /home/njh/.cpan/build/Shell-Guess-0.06-jcaigc/blib/lib
# /home/njh/.cpan/build/Shell-Guess-0.06-jcaigc/blib/arch
# inc
# /home/njh/.cpan/build/List-MoreUtils-0.410-pvmh2o/blib/arch
# /home/njh/.cpan/build/List-MoreUtils-0.410-pvmh2o/blib/lib
# /home/njh/.cpan/build/Exporter-Tiny-0.042-mcdYaX/blib/arch
# /home/njh/.cpan/build/Exporter-Tiny-0.042-mcdYaX/blib/lib
# /home/njh/.cpan/build/Archive-Extract-0.74-3LomTn/blib/arch
# /home/njh/.cpan/build/Archive-Extract-0.74-3LomTn/blib/lib
# /home/njh/.cpan/build/FFI-CheckLib-0.11-M5mBdp/blib/arch
# /home/njh/.cpan/build/FFI-CheckLib-0.11-M5mBdp/blib/lib
# /home/njh/.cpan/build/List-MoreUtils-0.410-pvmh2o/blib/arch
# /home/njh/.cpan/build/List-MoreUtils-0.410-pvmh2o/blib/lib
# /home/njh/.cpan/build/Exporter-Tiny-0.042-mcdYaX/blib/arch
# /home/njh/.cpan/build/Exporter-Tiny-0.042-mcdYaX/blib/lib
# /home/njh/.cpan/build/Archive-Extract-0.74-3LomTn/blib/arch
# /home/njh/.cpan/build/Archive-Extract-0.74-3LomTn/blib/lib
# /home/njh/.cpan/build/FFI-CheckLib-0.11-M5mBdp/blib/arch
# /home/njh/.cpan/build/FFI-CheckLib-0.11-M5mBdp/blib/lib
# 
# 
# 
# perl                 v5.21.9
# Module::Build        0.4211
# Test::More           1.301001098
# Unix::Process        -
# Win32::Getppid       -
# Win32::Process::List -
# 
# 
# 
t/00_diag.t ........ ok
t/guess_login.t .... ok
t/guess_running.t .. ok
t/os_dos.t ......... skipped: DOS only test
t/os_proc.t ........ skipped: test requires c shell in /bin/csh
t/os_vms.t ......... skipped: VMS only test
t/os_win32.t ....... skipped: windows only test
t/shell_bash.t ..... ok
t/shell_bourne.t ... ok
t/shell_c.t ........ ok
t/shell_cmd.t ...... ok
t/shell_command.t .. ok
t/shell_dcl.t ...... ok
t/shell_fish.t ..... ok
t/shell_korn.t ..... ok
t/shell_power.t .... ok
t/shell_tc.t ....... ok
t/shell_z.t ........ ok
t/use.t ............ ok
All tests successful.
Files=19, Tests=182,  9 wallclock secs ( 0.39 usr  0.13 sys +  7.31 cusr  0.61 csys =  8.44 CPU)
Result: PASS

------------------------------
PREREQUISITES
------------------------------

Prerequisite modules loaded:

requires:

    Module        Need  Have        
    ------------- ----- ------------
    perl          5.006 5.021009    

build_requires:

    Module        Need  Have        
    ------------- ----- ------------
    Module::Build 0.28  0.4211      
    perl          5.006 5.021009    
    Test::More    0.94  1.301001_098

configure_requires:

    Module        Need  Have        
    ------------- ----- ------------
    Module::Build 0.28  0.4211      
    perl          5.006 5.021009    


------------------------------
ENVIRONMENT AND OTHER CONTEXT
------------------------------

Environment variables:

    AUTOMATED_TESTING = 1
    LANG = en_GB.UTF-8
    LD_LIBRARY_PATH = /usr/local/lib:
    PATH = /home/njh/perl5/perlbrew/bin:/home/njh/perl5/perlbrew/perls/perl-5.21.9/bin:/home/njh/perl5/perlbrew/bin:/home/njh/bin:/usr/local/sbin:/usr/local/bin:/usr/sbin:/usr/bin:/sbin:/bin:/usr/local/games:/usr/games
    PERL5LIB = /home/njh/.cpan/build/List-MoreUtils-0.410-pvmh2o/blib/arch:/home/njh/.cpan/build/List-MoreUtils-0.410-pvmh2o/blib/lib:/home/njh/.cpan/build/Exporter-Tiny-0.042-mcdYaX/blib/arch:/home/njh/.cpan/build/Exporter-Tiny-0.042-mcdYaX/blib/lib:/home/njh/.cpan/build/Archive-Extract-0.74-3LomTn/blib/arch:/home/njh/.cpan/build/Archive-Extract-0.74-3LomTn/blib/lib:/home/njh/.cpan/build/FFI-CheckLib-0.11-M5mBdp/blib/arch:/home/njh/.cpan/build/FFI-CheckLib-0.11-M5mBdp/blib/lib
    PERL5OPT = 
    PERL5_CPANPLUS_IS_RUNNING = 6813
    PERL5_CPAN_IS_RUNNING = 6813
    PERL5_MINISMOKEBOX = 0.58
    PERLBREW_BASHRC_VERSION = 0.71
    PERLBREW_HOME = /home/njh/.perlbrew
    PERLBREW_LIB = 
    PERLBREW_MANPATH = /home/njh/perl5/perlbrew/perls/perl-5.21.9/man
    PERLBREW_PATH = /home/njh/perl5/perlbrew/bin:/home/njh/perl5/perlbrew/perls/perl-5.21.9/bin
    PERLBREW_PERL = perl-5.21.9
    PERLBREW_ROOT = /home/njh/perl5/perlbrew
    PERLBREW_VERSION = 0.71
    PERL_EXTUTILS_AUTOINSTALL = --defaultdeps
    PERL_LOCAL_LIB_ROOT = 
    PERL_MM_USE_DEFAULT = 1
    SHELL = /bin/bash
    TERM = xterm

Perl special variables (and OS-specific diagnostics, for MSWin32):

    $^X = /home/njh/perl5/perlbrew/perls/perl-5.21.9/bin/perl5.21.9
    $UID/$EUID = 1000 / 1000
    $GID = 1000 4 24 25 29 30 44 46 200 1000
    $EGID = 1000 4 24 25 29 30 44 46 200 1000

Perl module toolchain versions installed:

    Module              Have        
    ------------------- ------------
    CPAN                2.10        
    CPAN::Meta          2.150001    
    Cwd                 3.54        
    ExtUtils::CBuilder  0.280221    
    ExtUtils::Command   1.20        
    ExtUtils::Install   2.04        
    ExtUtils::MakeMaker 7.04        
    ExtUtils::Manifest  1.70        
    ExtUtils::ParseXS   3.27        
    File::Spec          3.53        
    JSON                n/a         
    JSON::PP            2.27300     
    Module::Build       0.4211      
    Module::Signature   n/a         
    Parse::CPAN::Meta   1.4414      
    Test::Harness       3.35        
    Test::More          1.301001_098
    YAML                1.14        
    YAML::Syck          1.29        
    version             0.9912      


--

Summary of my perl5 (revision 5 version 21 subversion 9) configuration:
   
  Platform:
    osname=linux, osvers=3.18.7-v7+, archname=armv7l-linux-thread-multi
    uname='linux pi2.bandsman.co.uk 3.18.7-v7+ #755 smp preempt thu feb 12 17:20:48 gmt 2015 armv7l gnulinux '
    config_args='-de -Dprefix=/home/njh/perl5/perlbrew/perls/perl-5.21.9 -Duseithreads -Dusemultiplicity -Dusedevel -Dusedevel -Accflags= -Aeval:scriptdir=/home/njh/perl5/perlbrew/perls/perl-5.21.9/bin'
    hint=recommended, useposix=true, d_sigaction=define
    useithreads=define, usemultiplicity=define
    use64bitint=undef, use64bitall=undef, uselongdouble=undef
    usemymalloc=n, bincompat5005=undef
  Compiler:
    cc='cc', ccflags ='-D_REENTRANT -D_GNU_SOURCE -fwrapv -fno-strict-aliasing -pipe -fstack-protector -I/usr/local/include -D_LARGEFILE_SOURCE -D_FILE_OFFSET_BITS=64 -D_FORTIFY_SOURCE=2',
    optimize='-O2',
    cppflags='-D_REENTRANT -D_GNU_SOURCE -fwrapv -fno-strict-aliasing -pipe -fstack-protector -I/usr/local/include'
    ccversion='', gccversion='4.6.3', gccosandvers=''
    intsize=4, longsize=4, ptrsize=4, doublesize=8, byteorder=1234, doublekind=3
    d_longlong=define, longlongsize=8, d_longdbl=define, longdblsize=8, longdblkind=0
    ivtype='long', ivsize=4, nvtype='double', nvsize=8, Off_t='off_t', lseeksize=8
    alignbytes=8, prototype=define
  Linker and Libraries:
    ld='cc', ldflags =' -fstack-protector -L/usr/local/lib'
    libpth=/usr/local/lib /usr/lib/gcc/arm-linux-gnueabihf/4.6/include-fixed /usr/include/arm-linux-gnueabihf /usr/lib /lib/arm-linux-gnueabihf /lib /usr/lib/arm-linux-gnueabihf
    libs=-lpthread -lnsl -lgdbm -ldb -ldl -lm -lcrypt -lutil -lc -lgdbm_compat
    perllibs=-lpthread -lnsl -ldl -lm -lcrypt -lutil -lc
    libc=libc-2.13.so, so=so, useshrplib=false, libperl=libperl.a
    gnulibc_version='2.13'
  Dynamic Linking:
    dlsrc=dl_dlopen.xs, dlext=so, d_dlsymun=undef, ccdlflags='-Wl,-E'
    cccdlflags='-fPIC', lddlflags='-shared -O2 -L/usr/local/lib -fstack-protector'


Characteristics of this binary (from libperl): 
  Compile-time options: HAS_TIMES MULTIPLICITY PERLIO_LAYERS
                        PERL_DONT_CREATE_GVSV
                        PERL_HASH_FUNC_ONE_AT_A_TIME_HARD
                        PERL_IMPLICIT_CONTEXT PERL_MALLOC_WRAP
                        PERL_NEW_COPY_ON_WRITE PERL_PRESERVE_IVUV
                        PERL_USE_DEVEL USE_ITHREADS USE_LARGE_FILES
                        USE_LOCALE USE_LOCALE_COLLATE USE_LOCALE_CTYPE
                        USE_LOCALE_NUMERIC USE_LOCALE_TIME USE_PERLIO
                        USE_PERL_ATOF USE_REENTRANT_API
  Built under linux
  Compiled at Mar 22 2015 00:41:17
  %ENV:
    PERL5LIB="/home/njh/.cpan/build/List-MoreUtils-0.410-pvmh2o/blib/arch:/home/njh/.cpan/build/List-MoreUtils-0.410-pvmh2o/blib/lib:/home/njh/.cpan/build/Exporter-Tiny-0.042-mcdYaX/blib/arch:/home/njh/.cpan/build/Exporter-Tiny-0.042-mcdYaX/blib/lib:/home/njh/.cpan/build/Archive-Extract-0.74-3LomTn/blib/arch:/home/njh/.cpan/build/Archive-Extract-0.74-3LomTn/blib/lib:/home/njh/.cpan/build/FFI-CheckLib-0.11-M5mBdp/blib/arch:/home/njh/.cpan/build/FFI-CheckLib-0.11-M5mBdp/blib/lib"
    PERL5OPT=""
    PERL5_CPANPLUS_IS_RUNNING="6813"
    PERL5_CPAN_IS_RUNNING="6813"
    PERL5_MINISMOKEBOX="0.58"
    PERLBREW_BASHRC_VERSION="0.71"
    PERLBREW_HOME="/home/njh/.perlbrew"
    PERLBREW_LIB=""
    PERLBREW_MANPATH="/home/njh/perl5/perlbrew/perls/perl-5.21.9/man"
    PERLBREW_PATH="/home/njh/perl5/perlbrew/bin:/home/njh/perl5/perlbrew/perls/perl-5.21.9/bin"
    PERLBREW_PERL="perl-5.21.9"
    PERLBREW_ROOT="/home/njh/perl5/perlbrew"
    PERLBREW_VERSION="0.71"
    PERL_EXTUTILS_AUTOINSTALL="--defaultdeps"
    PERL_LOCAL_LIB_ROOT=""
    PERL_MM_USE_DEFAULT="1"
  @INC:
    /home/njh/.cpan/build/List-MoreUtils-0.410-pvmh2o/blib/arch
    /home/njh/.cpan/build/List-MoreUtils-0.410-pvmh2o/blib/lib
    /home/njh/.cpan/build/Exporter-Tiny-0.042-mcdYaX/blib/arch
    /home/njh/.cpan/build/Exporter-Tiny-0.042-mcdYaX/blib/lib
    /home/njh/.cpan/build/Archive-Extract-0.74-3LomTn/blib/arch
    /home/njh/.cpan/build/Archive-Extract-0.74-3LomTn/blib/lib
    /home/njh/.cpan/build/FFI-CheckLib-0.11-M5mBdp/blib/arch
    /home/njh/.cpan/build/FFI-CheckLib-0.11-M5mBdp/blib/lib
    /home/njh/perl5/perlbrew/perls/perl-5.21.9/lib/site_perl/5.21.9/armv7l-linux-thread-multi
    /home/njh/perl5/perlbrew/perls/perl-5.21.9/lib/site_perl/5.21.9
    /home/njh/perl5/perlbrew/perls/perl-5.21.9/lib/5.21.9/armv7l-linux-thread-multi
    /home/njh/perl5/perlbrew/perls/perl-5.21.9/lib/5.21.9
    .