Crypt-OpenSSL-PKCS10 v0.34 Perl 5 v5.22.3 OpenBSD.amd64-openbsd
- Status
- Pass
- From
- Chris Williams (BINGOS)
- Dist
-
Crypt-OpenSSL-PKCS10 v0.34
- Platform
- Perl 5 v5.22.3 OpenBSD.amd64-openbsd
- Date
- 2025-01-28 18:25:47
- ID
- 4b51faf8-dda5-11ef-98b0-b3c3213a625c
This distribution has been tested as part of the CPAN Testers
project, supporting the Perl programming language. See
http://wiki.cpantesters.org/ for more information or email
questions to cpan-testers-discuss@perl.org
--
Dear TIMLEGGE,
This is a computer-generated error report created automatically by
CPANPLUS, version 0.9914. Testers personal comments may appear
at the end of this report.
Thank you for uploading your work to CPAN. Congratulations!
All tests were successful.
TEST RESULTS:
Below is the error stack from stage 'make test':
"/home/cpan/pit/bare/perl-5.22.3/bin/perl" -MExtUtils::Command::MM -e 'cp_nonempty' -- PKCS10.bs blib/arch/auto/Crypt/OpenSSL/PKCS10/PKCS10.bs 644
PERL_DL_NONLAZY=1 "/home/cpan/pit/bare/perl-5.22.3/bin/perl" "-MExtUtils::Command::MM" "-MTest::Harness" "-e" "undef *Test::Harness::Switches; test_harness(0, 'blib/lib', 'blib/arch')" t/*.t
# LibreSSL 3.7.2
t/00-openssl-version.t .. ok
t/10-rsa-keys.t ......... ok
t/20-ec.t ............... ok
t/30-ec-keys.t .......... ok
t/author-pod-spell.t .... skipped: these tests are for testing by the author
t/author-pod-syntax.t ... skipped: these tests are for testing by the author
-----BEGIN CERTIFICATE REQUEST-----
MIIBPzCBqQIBADAAMIGfMA0GCSqGSIb3DQEBAQUAA4GNADCBiQKBgQDQkA5LxVCY
LUUhoN2bY9JupRl2e5cgroWxxlEU+0MAb9D4czryVo86wynIullSgiFhyZi28ptk
oqgjSMaHekPOjEBHzl+csRpPIbxzMtyBcnKoPCYGIA2MaqhKTT3o/g35L+PMINco
RkfqyCW+jCfcTxgLqH/ZhR/La7HoGkfxiwIDAQABoAAwDQYJKoZIhvcNAQELBQAD
gYEAtMuZcJB3hZkfiu+pLRFlxQ40LOFAJ3iyfTDtPYjSxXc4VhqYzxvtwafTbuVD
lMxJgM8QxqpBpDKrWbeMvdnq0jm1eVZWebM6hRcjmoM7sqoaLBi9sJ1/LikbOmEK
KRIIUn6zgmbGMmoAVkc3emRwdX7sbWNGRg51hQXz9U78ZMs=
-----END CERTIFICATE REQUEST-----
-----BEGIN PRIVATE KEY-----
MIICdwIBADANBgkqhkiG9w0BAQEFAASCAmEwggJdAgEAAoGBANCQDkvFUJgtRSGg
3Ztj0m6lGXZ7lyCuhbHGURT7QwBv0PhzOvJWjzrDKci6WVKCIWHJmLbym2SiqCNI
xod6Q86MQEfOX5yxGk8hvHMy3IFycqg8JgYgDYxqqEpNPej+Dfkv48wg1yhGR+rI
Jb6MJ9xPGAuof9mFH8trsegaR/GLAgMBAAECgYAmWCXYtmkv4TrRiPLVS8/3ebEp
wGUzpAJ+gbiMg/l4jhY8Z2sR/OoOYq0+80vSyIv8n4TNNeNt6B3DhvDBHbBzZvY3
xTU34GVOOVR6KRjd4i52gI6i+8thCKx/80VP9PwjRc863v76STaTma9FoL4wzBJg
PuOfPDecmZMHmdiwIQJBAPHQ83Pi/GYZZ12PLJtC2gfVHM4wMLFRHU6FP2W6tRt5
wIIJfKJ+J3Ve1cMxpiEdnCjMN6HdEKUHUkJFAFgbpBsCQQDcy8dv51McxGHFm1KV
lMn2XjcfaKOD49QtwpzEWAZY65/VFaNDlTXCKxPzk5Y4AnZ+JamiJHMri6I0zNnj
GV9RAkEAmIcOKNjSD6yScIcwwbZHRI1+H+hxrkbVz4No28gLGIuRi/Rj8zLTvMrW
1spoWZcNuwYlSSnhp9aYYkiX0PuOZQJBAJrLGsUvTitq2ojpPdq0d2sL3mVcvNZo
UYbLW5Cjjb+lYWbIRq/I2emIvfIUVEpsH5qM2QJdv4iV2mBeBZubXCECQGHmJA9E
7K352vJP0vBfagMXzQY8CyercKxTu8Y3caF5kzglJdcmq81kJ4gT1pH/ZIPeLCbF
iToa1SRrySOzc1M=
-----END PRIVATE KEY-----
RSA Public-Key: (1024 bit)
Modulus:
-----BEGIN CERTIFICATE REQUEST-----
MIIBPzCBqQIBADAAMIGfMA0GCSqGSIb3DQEBAQUAA4GNADCBiQKBgQCd26EOVVzz
b++NXASekFMu54IBw0dR+Cfnt9YcCy0hQy2JRVBShifTG63O2mdl4wgI8fu47QyQ
CfuC1jgCciShz97TtZLt3FH7iPHepOFo/z5aErGH9Fto+0UX4FYIgcqQoNvHK0bo
xgpom2guOccZTsnEpnU0/KoNR6P3loUgkwIDAQABoAAwDQYJKoZIhvcNAQELBQAD
gYEAMvaapFtNRpNoRF/z3/btot7OlzWFLZhTpiOARz4kFVbn6tJtIsB1g7Y5aJbS
QUBx8+JWSuUcXVSGVyHI0q+KgG2pyia48SuLX8mU+9dvLXgTaibqqsQ5ceGJynT1
WL5tdOfeX3JfLY0AvTzFvmKW4r3u+zE+30clqqzxLDYSybw=
-----END CERTIFICATE REQUEST-----
RSA Public-Key: (1024 bit)
Modulus:
rsa
-----BEGIN PUBLIC KEY-----
MIGfMA0GCSqGSIb3DQEBAQUAA4GNADCBiQKBgQCd26EOVVzzb++NXASekFMu54IB
w0dR+Cfnt9YcCy0hQy2JRVBShifTG63O2mdl4wgI8fu47QyQCfuC1jgCciShz97T
tZLt3FH7iPHepOFo/z5aErGH9Fto+0UX4FYIgcqQoNvHK0boxgpom2guOccZTsnE
pnU0/KoNR6P3loUgkwIDAQAB
-----END PUBLIC KEY-----
-----BEGIN CERTIFICATE REQUEST-----
MIIBPzCBqQIBADAAMIGfMA0GCSqGSIb3DQEBAQUAA4GNADCBiQKBgQCtqV/70g63
KuXZVMUNVmkkYbL+4lKekSVdLl/lr32J3Pb9RmcHEBf9gJ/CjEQt91q+5V5ECQ01
8bBZPc2awu22MoXTGSCLflLjcs6VUa+cLM97ExRDHcbJ9jKkUeRcooz6lLV3uEbC
nfG/wuVKOK0Mn+GQIN1XfEmOiXodSsrEPQIDAQABoAAwDQYJKoZIhvcNAQEMBQAD
gYEAYR9EmP7JhX79qbL761bImeCNBybGTYRGxkAYvVdErNccjqvhkUpAr/hDKill
Up/uq8SVcUWQlREd47yVR5RXAYZ5jl5nX18jej8lxT8EVrIjG9hsFFe20jZdskG0
pylWdbm5mJtH9nJzTSl4iywVJVzCI4w8mHjF8RtY+4q8jUk=
-----END CERTIFICATE REQUEST-----
RSA Public-Key: (1024 bit)
Modulus:
rsa
-----BEGIN PUBLIC KEY-----
MIGfMA0GCSqGSIb3DQEBAQUAA4GNADCBiQKBgQCtqV/70g63KuXZVMUNVmkkYbL+
4lKekSVdLl/lr32J3Pb9RmcHEBf9gJ/CjEQt91q+5V5ECQ018bBZPc2awu22MoXT
GSCLflLjcs6VUa+cLM97ExRDHcbJ9jKkUeRcooz6lLV3uEbCnfG/wuVKOK0Mn+GQ
IN1XfEmOiXodSsrEPQIDAQAB
-----END PUBLIC KEY-----
-----BEGIN CERTIFICATE REQUEST-----
MIICJzCCAZACAQAwKTELMAkGA1UEBhMCUk8xDDAKBgNVBAoMA1VUSTEMMAoGA1UE
CwwDc3NpMIGfMA0GCSqGSIb3DQEBAQUAA4GNADCBiQKBgQDCXqpEtlCYW4urD1Yt
dmMY1lRmziEDWLumUikciX4YeIDrM0JSaJUSZj3fTySAgvt6ltUq/6Lk5dfgzmUg
WIUGBiy/pFTdlHYAdd065FBI+ckOjCShqmuK2bWccd75/qZ619RwRXv3qZN4hMFZ
OonxYzQZvJw5FBse58VZHt7KAQIDAQABoIG9MIG6BgkqhkiG9w0BCQ4xgawwgakw
DgYDVR0PAQH/BAQDAgWgMC4GA1UdJQQnMCUGCCsGAQUFBwMBBglghkgBhvhCBAEG
CisGAQQBgjcKAwMGAisEMBwGA1UdEQQVMBOBEXN0ZXZlQG9wZW5zc2wub3JnMB0G
A1UdDgQWBBSicrbpmMDIN3CTSippP8Ed4Hob7DAZBgMqAwMEEhYQTXkgbmV3IGV4
dGVuc2lvbjAPBgMqAwQECB4GAGEAYgBjMA0GCSqGSIb3DQEBCwUAA4GBALwB7Cb2
3ZeHY3sMZOPqeejO4+bNuKl+s8M4JTpqwvIR462NXUCokfNq8xq93A4pKvVeSp+d
aKrmasMNQ/zFEp/oB3lIVpePiZG7gZ13UwpRoDQwk+iitc6l9Msa3nk5E9+JYqZ5
xckraurz0eEro61n9GNROW7nPAEsSmACOZRd
-----END CERTIFICATE REQUEST-----
RSA Public-Key: (1024 bit)
Modulus:
-----BEGIN PUBLIC KEY-----
MIGfMA0GCSqGSIb3DQEBAQUAA4GNADCBiQKBgQDCXqpEtlCYW4urD1YtdmMY1lRm
ziEDWLumUikciX4YeIDrM0JSaJUSZj3fTySAgvt6ltUq/6Lk5dfgzmUgWIUGBiy/
pFTdlHYAdd065FBI+ckOjCShqmuK2bWccd75/qZ619RwRXv3qZN4hMFZOonxYzQZ
vJw5FBse58VZHt7KAQIDAQAB
-----END PUBLIC KEY-----
t/Mytest.t .............. ok
t/release-kwalitee.t .... skipped: these tests are for release candidate testing
t/release-meta-json.t ... skipped: these tests are for release candidate testing
All tests successful.
Files=9, Tests=150, 8 wallclock secs ( 0.07 usr 0.04 sys + 6.49 cusr 0.81 csys = 7.41 CPU)
Result: PASS
PREREQUISITES:
Here is a list of prerequisites you specified and versions we
managed to load:
Module Name Have Want
Crypt::OpenSSL::Guess 0.15 0.11
Crypt::OpenSSL::RSA 0.33 0
Exporter 5.72 0
File::Slurper 0.014 0
File::Spec::Functions 3.75 0
File::Temp 0.2311 0
Import::Into 1.002005 0
Test::Lib 0.003 0
Test::More 1.302200 0
XSLoader 0.20_01 0
Perl module toolchain versions installed:
Module Name Have
CPANPLUS 0.9914
CPANPLUS::Dist::Build 0.90
Cwd 3.75
ExtUtils::CBuilder 0.280236
ExtUtils::Command 7.70
ExtUtils::Install 2.22
ExtUtils::MakeMaker 7.70
ExtUtils::Manifest 1.75
ExtUtils::ParseXS 3.51
File::Spec 3.75
Module::Build 0.4234
Pod::Parser 1.63
Pod::Simple 3.29
Test2 1.302200
Test::Harness 3.48
Test::More 1.302200
version 0.9932
******************************** NOTE ********************************
The comments above are created mechanically, possibly without manual
checking by the sender. As there are many people performing automatic
tests on each upload to CPAN, it is likely that you will receive
identical messages about the same problem.
If you believe that the message is mistaken, please reply to the first
one with correction and/or additional informations, and do not take
it personally. We appreciate your patience. :)
**********************************************************************
Additional comments:
This report was machine-generated by CPANPLUS::Dist::YACSmoke 1.08.
Powered by minismokebox version 0.68
CPANPLUS is prefering Build.PL
------------------------------
ENVIRONMENT AND OTHER CONTEXT
------------------------------
Environment variables:
AUTOMATED_TESTING = 1
NONINTERACTIVE_TESTING = 1
PATH = /home/cpan/bin:/bin:/sbin:/usr/bin:/usr/sbin:/usr/X11R6/bin:/usr/local/bin:/usr/local/sbin
PERL5LIB = /home/cpan/pit/jail/Cmgr4M_mex/lib/perl5:/home/cpan/pit/bare/conf/perl-5.22.3/.cpanplus/5.22.3/build/bBLoU_iz_W/Crypt-OpenSSL-PKCS10-0.34/blib/lib:/home/cpan/pit/bare/conf/perl-5.22.3/.cpanplus/5.22.3/build/bBLoU_iz_W/Crypt-OpenSSL-PKCS10-0.34/blib/arch
PERL5_CPANPLUS_IS_RUNNING = 35292
PERL5_CPANPLUS_IS_VERSION = 0.9914
PERL5_MINISMOKEBOX = 0.68
PERL5_YACSMOKE_BASE = /home/cpan/pit/bare/conf/perl-5.22.3
PERL_EXTUTILS_AUTOINSTALL = --defaultdeps
PERL_LOCAL_LIB_ROOT = /home/cpan/pit/jail/Cmgr4M_mex
PERL_MB_OPT = --install_base "/home/cpan/pit/jail/Cmgr4M_mex"
PERL_MM_OPT = INSTALL_BASE=/home/cpan/pit/jail/Cmgr4M_mex
PERL_MM_USE_DEFAULT = 1
SHELL = /usr/local/bin/bash
TERM = screen.xterm-256color
Perl special variables (and OS-specific diagnostics, for MSWin32):
Perl: $^X = /home/cpan/pit/bare/perl-5.22.3/bin/perl
UID: $< = 1001
EUID: $> = 1001
GID: $( = 1001 1001
EGID: $) = 1001 1001
-------------------------------
--
Summary of my perl5 (revision 5 version 22 subversion 3) configuration:
Platform:
osname=openbsd, osvers=7.3, archname=OpenBSD.amd64-openbsd
uname='openbsd overture.bingosnet.co.uk 7.3 generic#1072 amd64 '
config_args='-des -Dprefix=/home/cpan/pit/bare/perl-5.22.3'
hint=recommended, useposix=true, d_sigaction=define
useithreads=undef, usemultiplicity=undef
use64bitint=define, use64bitall=define, uselongdouble=undef
usemymalloc=n, bincompat5005=undef
Compiler:
cc='cc', ccflags ='-fno-strict-aliasing -pipe -fstack-protector-strong -I/usr/local/include',
optimize='-O2',
cppflags='-fno-strict-aliasing -pipe -fstack-protector-strong -I/usr/local/include'
ccversion='', gccversion='OpenBSD Clang 13.0.0', gccosandvers=''
intsize=4, longsize=8, ptrsize=8, doublesize=8, byteorder=12345678, doublekind=3
d_longlong=define, longlongsize=8, d_longdbl=define, longdblsize=16, longdblkind=3
ivtype='long', ivsize=8, nvtype='double', nvsize=8, Off_t='off_t', lseeksize=8
alignbytes=8, prototype=define
Linker and Libraries:
ld='cc', ldflags ='-Wl,-E -fstack-protector-strong -L/usr/local/lib'
libpth=/usr/lib/clang/13.0.0/lib /usr/lib /usr/local/lib
libs=-lpthread -lgdbm -lm -lutil -lc
perllibs=-lpthread -lm -lutil -lc
libc=/usr/lib/libc.so.97.0, so=so, useshrplib=false, libperl=libperl.a
gnulibc_version=''
Dynamic Linking:
dlsrc=dl_dlopen.xs, dlext=so, d_dlsymun=undef, ccdlflags=' '
cccdlflags='-DPIC -fPIC ', lddlflags='-shared -fPIC -L/usr/local/lib -fstack-protector-strong'
Characteristics of this binary (from libperl):
Compile-time options: HAS_TIMES PERLIO_LAYERS PERL_DONT_CREATE_GVSV
PERL_HASH_FUNC_ONE_AT_A_TIME_HARD PERL_MALLOC_WRAP
PERL_NEW_COPY_ON_WRITE PERL_PRESERVE_IVUV
USE_64_BIT_ALL USE_64_BIT_INT USE_LARGE_FILES
USE_LOCALE USE_LOCALE_COLLATE USE_LOCALE_CTYPE
USE_LOCALE_NUMERIC USE_LOCALE_TIME USE_PERLIO
USE_PERL_ATOF
Locally applied patches:
Devel::PatchPerl 2.08
Built under openbsd
Compiled at May 29 2023 20:45:19
%ENV:
PERL5LIB="/home/cpan/pit/jail/Cmgr4M_mex/lib/perl5:/home/cpan/pit/bare/conf/perl-5.22.3/.cpanplus/5.22.3/build/bBLoU_iz_W/Crypt-OpenSSL-PKCS10-0.34/blib/lib:/home/cpan/pit/bare/conf/perl-5.22.3/.cpanplus/5.22.3/build/bBLoU_iz_W/Crypt-OpenSSL-PKCS10-0.34/blib/arch"
PERL5_CPANPLUS_IS_RUNNING="35292"
PERL5_CPANPLUS_IS_VERSION="0.9914"
PERL5_MINISMOKEBOX="0.68"
PERL5_YACSMOKE_BASE="/home/cpan/pit/bare/conf/perl-5.22.3"
PERL_EXTUTILS_AUTOINSTALL="--defaultdeps"
PERL_LOCAL_LIB_ROOT="/home/cpan/pit/jail/Cmgr4M_mex"
PERL_MB_OPT="--install_base "/home/cpan/pit/jail/Cmgr4M_mex""
PERL_MM_OPT="INSTALL_BASE=/home/cpan/pit/jail/Cmgr4M_mex"
PERL_MM_USE_DEFAULT="1"
@INC:
/home/cpan/pit/jail/Cmgr4M_mex/lib/perl5/5.22.3/OpenBSD.amd64-openbsd
/home/cpan/pit/jail/Cmgr4M_mex/lib/perl5/5.22.3
/home/cpan/pit/jail/Cmgr4M_mex/lib/perl5/OpenBSD.amd64-openbsd
/home/cpan/pit/jail/Cmgr4M_mex/lib/perl5
/home/cpan/pit/bare/conf/perl-5.22.3/.cpanplus/5.22.3/build/bBLoU_iz_W/Crypt-OpenSSL-PKCS10-0.34/blib/lib
/home/cpan/pit/bare/conf/perl-5.22.3/.cpanplus/5.22.3/build/bBLoU_iz_W/Crypt-OpenSSL-PKCS10-0.34/blib/arch
/home/cpan/pit/bare/perl-5.22.3/lib/site_perl/5.22.3/OpenBSD.amd64-openbsd
/home/cpan/pit/bare/perl-5.22.3/lib/site_perl/5.22.3
/home/cpan/pit/bare/perl-5.22.3/lib/5.22.3/OpenBSD.amd64-openbsd
/home/cpan/pit/bare/perl-5.22.3/lib/5.22.3
.