PlugAuth-Plugin-LDAP v0.09 Perl 5 v5.22.4 x86_64-linux
- Status
- Pass
- From
- Slaven Rezić (SREZIC)
- Dist
-
PlugAuth-Plugin-LDAP v0.09
- Platform
- Perl 5 v5.22.4 x86_64-linux
- Date
- 2018-03-11 18:59:15
- ID
- 4b526a6c-255e-11e8-acea-8bccb4c07f8d
This distribution has been tested as part of the CPAN Testers
project, supporting the Perl programming language. See
http://wiki.cpantesters.org/ for more information or email
questions to cpan-testers-discuss@perl.org
--
Dear Graham Ollis,
This is a computer-generated report for PlugAuth-Plugin-LDAP-0.09
on perl 5.22.4, created by CPAN-Reporter-1.2018.
Thank you for uploading your work to CPAN. Congratulations!
All tests were successful.
Sections of this report:
* Tester comments
* Program output
* Prerequisites
* Environment and other context
------------------------------
TESTER COMMENTS
------------------------------
Additional comments from tester:
none provided
------------------------------
PROGRAM OUTPUT
------------------------------
Output from '/usr/bin/make test':
PERL_DL_NONLAZY=1 "/opt/perl-5.22.4/bin/perl" "-MExtUtils::Command::MM" "-MTest::Harness" "-e" "undef *Test::Harness::Switches; test_harness(0, 'blib/lib', 'blib/arch')" t/*.t
#
#
#
# HARNESS_ACTIVE=1
# HARNESS_VERSION=3.39
# LANG=C
# PERL5LIB=/home/cpansand/.cpan/build/2018031118/PlugAuth-Plugin-LDAP-0.09-2/blib/lib:/home/cpansand/.cpan/build/2018031118/PlugAuth-Plugin-LDAP-0.09-2/blib/arch:/home/cpansand/.cpan/build/2018031118/Clustericious-1.29-2/blib/arch:/home/cpansand/.cpan/build/2018031118/Clustericious-1.29-2/blib/lib:/home/cpansand/.cpan/build/2018031118/Clustericious-1.29-2/blib/arch:/home/cpansand/.cpan/build/2018031118/Clustericious-1.29-2/blib/lib
# PERL5OPT=
# PERL5_CPANPLUS_IS_RUNNING=11055
# PERL5_CPAN_IS_RUNNING=11055
# PERL5_CPAN_IS_RUNNING_IN_RECURSION=32645,11055
# PERLDOC=-MPod::Perldoc::ToTextOverstrike
# PERL_BATCH=yes
# PERL_CANARY_STABILITY_NOPROMPT=1
# PERL_CPAN_REPORTER_CONFIG=/var/tmp/cpansmoker-1023/2018031118/cpanreporter_001_config.ini
# PERL_DL_NONLAZY=1
# PERL_EXTUTILS_AUTOINSTALL=--defaultdeps
# PERL_USE_UNSAFE_INC=1
# SHELL=/usr/bin/zsh
#
#
#
# PERL5LIB path
# /home/cpansand/.cpan/build/2018031118/PlugAuth-Plugin-LDAP-0.09-2/blib/lib
# /home/cpansand/.cpan/build/2018031118/PlugAuth-Plugin-LDAP-0.09-2/blib/arch
# /home/cpansand/.cpan/build/2018031118/Clustericious-1.29-2/blib/arch
# /home/cpansand/.cpan/build/2018031118/Clustericious-1.29-2/blib/lib
# /home/cpansand/.cpan/build/2018031118/Clustericious-1.29-2/blib/arch
# /home/cpansand/.cpan/build/2018031118/Clustericious-1.29-2/blib/lib
#
#
#
# perl 5.022004
# Clustericious 1.29
# ExtUtils::MakeMaker 7.32
# Log::Log4perl 1.49
# Mojolicious 7.70
# Net::LDAP 0.65
# PlugAuth 0.35
# Role::Tiny 2.000005
# Test::Clustericious::Cluster 0.37
# Test::More 1.302130
#
#
#
t/00_diag.t ............... ok
t/01_use.t ................ ok
t/plugauth_plugin_ldap.t .. ok
All tests successful.
Files=3, Tests=18, 0 wallclock secs ( 0.03 usr 0.00 sys + 0.74 cusr 0.13 csys = 0.90 CPU)
Result: PASS
------------------------------
PREREQUISITES
------------------------------
Prerequisite modules loaded:
requires:
Module Need Have
---------------------------- ------- --------
Log::Log4perl 0 1.49
Net::LDAP 0 0.65
perl 5.010 5.022004
PlugAuth 0.31 0.35
Role::Tiny 0 2.000005
build_requires:
Module Need Have
---------------------------- ------- --------
ExtUtils::MakeMaker 0 7.32
Test::Clustericious::Cluster 0.31 0.37
Test::More 0.94 1.302130
configure_requires:
Module Need Have
---------------------------- ------- --------
ExtUtils::MakeMaker 0 7.32
perl v5.10.0 5.022004
------------------------------
ENVIRONMENT AND OTHER CONTEXT
------------------------------
Environment variables:
LANG = C
PATH = /usr/local/bin:/usr/bin:/bin:/usr/local/sbin:/usr/sbin:/sbin:/home/cpansand/bin/linux-gnu:/home/cpansand/bin/sh:/home/cpansand/bin:/usr/games:/home/cpansand/devel:/home/eserte/src/srezic-misc/scripts
PERL5LIB = /home/cpansand/.cpan/build/2018031118/Clustericious-1.29-2/blib/arch:/home/cpansand/.cpan/build/2018031118/Clustericious-1.29-2/blib/lib
PERL5OPT =
PERL5_CPANPLUS_IS_RUNNING = 11055
PERL5_CPAN_IS_RUNNING = 11055
PERL5_CPAN_IS_RUNNING_IN_RECURSION = 32645,11055
PERLDOC = -MPod::Perldoc::ToTextOverstrike
PERL_BATCH = yes
PERL_CANARY_STABILITY_NOPROMPT = 1
PERL_CPAN_REPORTER_CONFIG = /var/tmp/cpansmoker-1023/2018031118/cpanreporter_001_config.ini
PERL_EXTUTILS_AUTOINSTALL = --defaultdeps
PERL_USE_UNSAFE_INC = 1
SHELL = /usr/bin/zsh
TERM = screen
TMPDIR = /var/tmp/cpansmoker-1023/2018031118
Perl special variables (and OS-specific diagnostics, for MSWin32):
$^X = /opt/perl-5.22.4/bin/perl
$UID/$EUID = 1023 / 1023
$GID = 1023 1023
$EGID = 1023 1023
Perl module toolchain versions installed:
Module Have
------------------- --------
CPAN 2.16
CPAN::Meta 2.150010
Cwd 3.62
ExtUtils::CBuilder 0.280230
ExtUtils::Command 7.32
ExtUtils::Install 2.06
ExtUtils::MakeMaker 7.32
ExtUtils::Manifest 1.70
ExtUtils::ParseXS 3.35
File::Spec 3.62
JSON 2.97001
JSON::PP 2.95
Module::Build 0.4224
Module::Signature 0.81
Parse::CPAN::Meta 2.150010
Test::Harness 3.39
Test::More 1.302130
YAML 1.24
YAML::Syck 1.30
version 0.9918
--
Summary of my perl5 (revision 5 version 22 subversion 4) configuration:
Platform:
osname=linux, osvers=4.9.0-3-amd64, archname=x86_64-linux
uname='linux debian9 4.9.0-3-amd64 #1 smp debian 4.9.30-2+deb9u2 (2017-06-26) x86_64 gnulinux '
config_args='-ds -e -Dprefix=/opt/perl-5.22.4 -Dcf_email=srezic@cpan.org'
hint=recommended, useposix=true, d_sigaction=define
useithreads=undef, usemultiplicity=undef
use64bitint=define, use64bitall=define, uselongdouble=undef
usemymalloc=n, bincompat5005=undef
Compiler:
cc='cc', ccflags ='-fwrapv -fno-strict-aliasing -pipe -fstack-protector-strong -I/usr/local/include -D_LARGEFILE_SOURCE -D_FILE_OFFSET_BITS=64',
optimize='-O2',
cppflags='-fwrapv -fno-strict-aliasing -pipe -fstack-protector-strong -I/usr/local/include'
ccversion='', gccversion='6.3.0 20170516', gccosandvers=''
intsize=4, longsize=8, ptrsize=8, doublesize=8, byteorder=12345678, doublekind=3
d_longlong=define, longlongsize=8, d_longdbl=define, longdblsize=16, longdblkind=3
ivtype='long', ivsize=8, nvtype='double', nvsize=8, Off_t='off_t', lseeksize=8
alignbytes=8, prototype=define
Linker and Libraries:
ld='cc', ldflags =' -fstack-protector-strong -L/usr/local/lib'
libpth=/usr/local/lib /usr/lib/gcc/x86_64-linux-gnu/6/include-fixed /usr/include/x86_64-linux-gnu /usr/lib /lib/x86_64-linux-gnu /lib/../lib /usr/lib/x86_64-linux-gnu /usr/lib/../lib /lib
libs=-lpthread -lnsl -lgdbm -ldb -ldl -lm -lcrypt -lutil -lc -lgdbm_compat
perllibs=-lpthread -lnsl -ldl -lm -lcrypt -lutil -lc
libc=libc-2.24.so, so=so, useshrplib=false, libperl=libperl.a
gnulibc_version='2.24'
Dynamic Linking:
dlsrc=dl_dlopen.xs, dlext=so, d_dlsymun=undef, ccdlflags='-Wl,-E'
cccdlflags='-fPIC', lddlflags='-shared -O2 -L/usr/local/lib -fstack-protector-strong'
Characteristics of this binary (from libperl):
Compile-time options: HAS_TIMES PERLIO_LAYERS PERL_DONT_CREATE_GVSV
PERL_HASH_FUNC_ONE_AT_A_TIME_HARD PERL_MALLOC_WRAP
PERL_NEW_COPY_ON_WRITE PERL_PRESERVE_IVUV
USE_64_BIT_ALL USE_64_BIT_INT USE_LARGE_FILES
USE_LOCALE USE_LOCALE_COLLATE USE_LOCALE_CTYPE
USE_LOCALE_NUMERIC USE_LOCALE_TIME USE_PERLIO
USE_PERL_ATOF
Locally applied patches:
Devel::PatchPerl 1.48
Built under linux
Compiled at Jul 16 2017 05:24:52
%ENV:
PERL5LIB="/home/cpansand/.cpan/build/2018031118/Clustericious-1.29-2/blib/arch:/home/cpansand/.cpan/build/2018031118/Clustericious-1.29-2/blib/lib"
PERL5OPT=""
PERL5_CPANPLUS_IS_RUNNING="11055"
PERL5_CPAN_IS_RUNNING="11055"
PERL5_CPAN_IS_RUNNING_IN_RECURSION="32645,11055"
PERLDOC="-MPod::Perldoc::ToTextOverstrike"
PERL_BATCH="yes"
PERL_CANARY_STABILITY_NOPROMPT="1"
PERL_CPAN_REPORTER_CONFIG="/var/tmp/cpansmoker-1023/2018031118/cpanreporter_001_config.ini"
PERL_EXTUTILS_AUTOINSTALL="--defaultdeps"
PERL_USE_UNSAFE_INC="1"
@INC:
/home/cpansand/.cpan/build/2018031118/Clustericious-1.29-2/blib/arch
/home/cpansand/.cpan/build/2018031118/Clustericious-1.29-2/blib/lib
/opt/perl-5.22.4/lib/site_perl/5.22.4/x86_64-linux
/opt/perl-5.22.4/lib/site_perl/5.22.4
/opt/perl-5.22.4/lib/5.22.4/x86_64-linux
/opt/perl-5.22.4/lib/5.22.4
.