Report for OAuth-Consumer-0.03

Back
From: metabase:user:3198cbe2-2aae-11df-837a-5e0a49663a4f
Subject: PASS OAuth-Consumer-0.03 v5.18.1 GNU/Linux
Date: 2013-11-08T17:00:39Z

This distribution has been tested as part of the CPAN Testers
project, supporting the Perl programming language.  See
http://wiki.cpantesters.org/ for more information or email
questions to cpan-testers-discuss@perl.org


--
Dear Mathias Kende,

This is a computer-generated report for OAuth-Consumer-0.03
on perl 5.18.1, created by CPAN-Reporter-1.2010.

Thank you for uploading your work to CPAN.  Congratulations!
All tests were successful.

Sections of this report:

    * Tester comments
    * Program output
    * Prerequisites
    * Environment and other context

------------------------------
TESTER COMMENTS
------------------------------

Additional comments from tester:

this report is from an automated smoke testing program
and was not reviewed by a human for accuracy

------------------------------
PROGRAM OUTPUT
------------------------------

Output from '/usr/bin/make test':

PERL_DL_NONLAZY=1 /home/graham/perls/perl-5.18.1-thread/bin/perl "-MExtUtils::Command::MM" "-MTest::Harness" "-e" "undef *Test::Harness::Switches; test_harness(0, 'blib/lib', 'blib/arch')" t/*.t
given is experimental at /home/graham/perls/perl-5.18.1-thread/lib/site_perl/5.18.1/Test/Subs.pm line 324.
when is experimental at /home/graham/perls/perl-5.18.1-thread/lib/site_perl/5.18.1/Test/Subs.pm line 325.
when is experimental at /home/graham/perls/perl-5.18.1-thread/lib/site_perl/5.18.1/Test/Subs.pm line 329.
when is experimental at /home/graham/perls/perl-5.18.1-thread/lib/site_perl/5.18.1/Test/Subs.pm line 333.
given is experimental at /home/graham/perls/caches/perl-5.18.1-thread/build/OAuth-Consumer-0.03-HU4TAy/blib/lib/OAuth/Consumer.pm line 326.
when is experimental at /home/graham/perls/caches/perl-5.18.1-thread/build/OAuth-Consumer-0.03-HU4TAy/blib/lib/OAuth/Consumer.pm line 327.
when is experimental at /home/graham/perls/caches/perl-5.18.1-thread/build/OAuth-Consumer-0.03-HU4TAy/blib/lib/OAuth/Consumer.pm line 328.
given is experimental at /home/graham/perls/caches/perl-5.18.1-thread/build/OAuth-Consumer-0.03-HU4TAy/blib/lib/OAuth/Consumer.pm line 471.
when is experimental at /home/graham/perls/caches/perl-5.18.1-thread/build/OAuth-Consumer-0.03-HU4TAy/blib/lib/OAuth/Consumer.pm line 472.
when is experimental at /home/graham/perls/caches/perl-5.18.1-thread/build/OAuth-Consumer-0.03-HU4TAy/blib/lib/OAuth/Consumer.pm line 476.
when is experimental at /home/graham/perls/caches/perl-5.18.1-thread/build/OAuth-Consumer-0.03-HU4TAy/blib/lib/OAuth/Consumer.pm line 480.
given is experimental at /home/graham/perls/caches/perl-5.18.1-thread/build/OAuth-Consumer-0.03-HU4TAy/blib/lib/OAuth/Consumer.pm line 519.
when is experimental at /home/graham/perls/caches/perl-5.18.1-thread/build/OAuth-Consumer-0.03-HU4TAy/blib/lib/OAuth/Consumer.pm line 520.
when is experimental at /home/graham/perls/caches/perl-5.18.1-thread/build/OAuth-Consumer-0.03-HU4TAy/blib/lib/OAuth/Consumer.pm line 523.
when is experimental at /home/graham/perls/caches/perl-5.18.1-thread/build/OAuth-Consumer-0.03-HU4TAy/blib/lib/OAuth/Consumer.pm line 526.
Running tests in DEBUG mode
t/sandbox.t ......... ok
given is experimental at /home/graham/perls/perl-5.18.1-thread/lib/site_perl/5.18.1/Test/Subs.pm line 324.
when is experimental at /home/graham/perls/perl-5.18.1-thread/lib/site_perl/5.18.1/Test/Subs.pm line 325.
when is experimental at /home/graham/perls/perl-5.18.1-thread/lib/site_perl/5.18.1/Test/Subs.pm line 329.
when is experimental at /home/graham/perls/perl-5.18.1-thread/lib/site_perl/5.18.1/Test/Subs.pm line 333.
given is experimental at /home/graham/perls/caches/perl-5.18.1-thread/build/OAuth-Consumer-0.03-HU4TAy/blib/lib/OAuth/Consumer.pm line 326.
when is experimental at /home/graham/perls/caches/perl-5.18.1-thread/build/OAuth-Consumer-0.03-HU4TAy/blib/lib/OAuth/Consumer.pm line 327.
when is experimental at /home/graham/perls/caches/perl-5.18.1-thread/build/OAuth-Consumer-0.03-HU4TAy/blib/lib/OAuth/Consumer.pm line 328.
given is experimental at /home/graham/perls/caches/perl-5.18.1-thread/build/OAuth-Consumer-0.03-HU4TAy/blib/lib/OAuth/Consumer.pm line 471.
when is experimental at /home/graham/perls/caches/perl-5.18.1-thread/build/OAuth-Consumer-0.03-HU4TAy/blib/lib/OAuth/Consumer.pm line 472.
when is experimental at /home/graham/perls/caches/perl-5.18.1-thread/build/OAuth-Consumer-0.03-HU4TAy/blib/lib/OAuth/Consumer.pm line 476.
when is experimental at /home/graham/perls/caches/perl-5.18.1-thread/build/OAuth-Consumer-0.03-HU4TAy/blib/lib/OAuth/Consumer.pm line 480.
given is experimental at /home/graham/perls/caches/perl-5.18.1-thread/build/OAuth-Consumer-0.03-HU4TAy/blib/lib/OAuth/Consumer.pm line 519.
when is experimental at /home/graham/perls/caches/perl-5.18.1-thread/build/OAuth-Consumer-0.03-HU4TAy/blib/lib/OAuth/Consumer.pm line 520.
when is experimental at /home/graham/perls/caches/perl-5.18.1-thread/build/OAuth-Consumer-0.03-HU4TAy/blib/lib/OAuth/Consumer.pm line 523.
when is experimental at /home/graham/perls/caches/perl-5.18.1-thread/build/OAuth-Consumer-0.03-HU4TAy/blib/lib/OAuth/Consumer.pm line 526.
Running tests in DEBUG mode
t/sandbox_thread.t .. ok
given is experimental at /home/graham/perls/perl-5.18.1-thread/lib/site_perl/5.18.1/Test/Subs.pm line 324.
when is experimental at /home/graham/perls/perl-5.18.1-thread/lib/site_perl/5.18.1/Test/Subs.pm line 325.
when is experimental at /home/graham/perls/perl-5.18.1-thread/lib/site_perl/5.18.1/Test/Subs.pm line 329.
when is experimental at /home/graham/perls/perl-5.18.1-thread/lib/site_perl/5.18.1/Test/Subs.pm line 333.
given is experimental at /home/graham/perls/caches/perl-5.18.1-thread/build/OAuth-Consumer-0.03-HU4TAy/blib/lib/OAuth/Consumer.pm line 326.
when is experimental at /home/graham/perls/caches/perl-5.18.1-thread/build/OAuth-Consumer-0.03-HU4TAy/blib/lib/OAuth/Consumer.pm line 327.
when is experimental at /home/graham/perls/caches/perl-5.18.1-thread/build/OAuth-Consumer-0.03-HU4TAy/blib/lib/OAuth/Consumer.pm line 328.
given is experimental at /home/graham/perls/caches/perl-5.18.1-thread/build/OAuth-Consumer-0.03-HU4TAy/blib/lib/OAuth/Consumer.pm line 471.
when is experimental at /home/graham/perls/caches/perl-5.18.1-thread/build/OAuth-Consumer-0.03-HU4TAy/blib/lib/OAuth/Consumer.pm line 472.
when is experimental at /home/graham/perls/caches/perl-5.18.1-thread/build/OAuth-Consumer-0.03-HU4TAy/blib/lib/OAuth/Consumer.pm line 476.
when is experimental at /home/graham/perls/caches/perl-5.18.1-thread/build/OAuth-Consumer-0.03-HU4TAy/blib/lib/OAuth/Consumer.pm line 480.
given is experimental at /home/graham/perls/caches/perl-5.18.1-thread/build/OAuth-Consumer-0.03-HU4TAy/blib/lib/OAuth/Consumer.pm line 519.
when is experimental at /home/graham/perls/caches/perl-5.18.1-thread/build/OAuth-Consumer-0.03-HU4TAy/blib/lib/OAuth/Consumer.pm line 520.
when is experimental at /home/graham/perls/caches/perl-5.18.1-thread/build/OAuth-Consumer-0.03-HU4TAy/blib/lib/OAuth/Consumer.pm line 523.
when is experimental at /home/graham/perls/caches/perl-5.18.1-thread/build/OAuth-Consumer-0.03-HU4TAy/blib/lib/OAuth/Consumer.pm line 526.
t/simple.t .......... ok
given is experimental at /home/graham/perls/perl-5.18.1-thread/lib/site_perl/5.18.1/Test/Subs.pm line 324.
when is experimental at /home/graham/perls/perl-5.18.1-thread/lib/site_perl/5.18.1/Test/Subs.pm line 325.
when is experimental at /home/graham/perls/perl-5.18.1-thread/lib/site_perl/5.18.1/Test/Subs.pm line 329.
when is experimental at /home/graham/perls/perl-5.18.1-thread/lib/site_perl/5.18.1/Test/Subs.pm line 333.
given is experimental at /home/graham/perls/caches/perl-5.18.1-thread/build/OAuth-Consumer-0.03-HU4TAy/blib/lib/OAuth/Consumer.pm line 326.
when is experimental at /home/graham/perls/caches/perl-5.18.1-thread/build/OAuth-Consumer-0.03-HU4TAy/blib/lib/OAuth/Consumer.pm line 327.
when is experimental at /home/graham/perls/caches/perl-5.18.1-thread/build/OAuth-Consumer-0.03-HU4TAy/blib/lib/OAuth/Consumer.pm line 328.
given is experimental at /home/graham/perls/caches/perl-5.18.1-thread/build/OAuth-Consumer-0.03-HU4TAy/blib/lib/OAuth/Consumer.pm line 471.
when is experimental at /home/graham/perls/caches/perl-5.18.1-thread/build/OAuth-Consumer-0.03-HU4TAy/blib/lib/OAuth/Consumer.pm line 472.
when is experimental at /home/graham/perls/caches/perl-5.18.1-thread/build/OAuth-Consumer-0.03-HU4TAy/blib/lib/OAuth/Consumer.pm line 476.
when is experimental at /home/graham/perls/caches/perl-5.18.1-thread/build/OAuth-Consumer-0.03-HU4TAy/blib/lib/OAuth/Consumer.pm line 480.
given is experimental at /home/graham/perls/caches/perl-5.18.1-thread/build/OAuth-Consumer-0.03-HU4TAy/blib/lib/OAuth/Consumer.pm line 519.
when is experimental at /home/graham/perls/caches/perl-5.18.1-thread/build/OAuth-Consumer-0.03-HU4TAy/blib/lib/OAuth/Consumer.pm line 520.
when is experimental at /home/graham/perls/caches/perl-5.18.1-thread/build/OAuth-Consumer-0.03-HU4TAy/blib/lib/OAuth/Consumer.pm line 523.
when is experimental at /home/graham/perls/caches/perl-5.18.1-thread/build/OAuth-Consumer-0.03-HU4TAy/blib/lib/OAuth/Consumer.pm line 526.
t/timeout.t ......... ok
All tests successful.
Files=4, Tests=41, 13 wallclock secs ( 0.05 usr  0.01 sys +  1.69 cusr  0.14 csys =  1.89 CPU)
Result: PASS

------------------------------
PREREQUISITES
------------------------------

Prerequisite modules loaded:

requires:

    Module              Need     Have    
    ------------------- -------- --------
    Carp                0        1.32    
    Encode              0        2.55    
    HTML::Entities      0        3.69    
    HTTP::Response      0        6.04    
    IO::Socket::INET    0        1.33    
    LWP::Authen::OAuth  0        1.02    
    perl                5.008000 5.018001
    URI::Escape         0        3.31    

build_requires:

    Module              Need     Have    
    ------------------- -------- --------
    LWP::UserAgent      0        6.05    
    Test::Subs          0.07     0.08    
    WWW::Mechanize      0        1.73    

configure_requires:

    Module              Need     Have    
    ------------------- -------- --------
    ExtUtils::MakeMaker 6.3002   6.82    


------------------------------
ENVIRONMENT AND OTHER CONTEXT
------------------------------

Environment variables:

    AUTOMATED_TESTING = 1
    LANG = en_GB.UTF-8
    PATH = /home/graham/perls/perl-5.18.1-thread/bin:/usr/local/sbin:/usr/local/bin:/usr/bin:/usr/bin/vendor_perl:/usr/bin/core_perl
    PERL5LIB = 
    PERL5OPT = 
    PERL5_CPANPLUS_IS_RUNNING = 11850
    PERL5_CPAN_IS_RUNNING = 11850
    PERL5_CPAN_IS_RUNNING_IN_RECURSION = 360,11850
    PERL_CR_SMOKER_CURRENT = OAuth-Consumer-0.03
    PERL_EXTUTILS_AUTOINSTALL = --defaultdeps
    PERL_MM_USE_DEFAULT = 1
    SHELL = /bin/bash
    TERM = xterm

Perl special variables (and OS-specific diagnostics, for MSWin32):

    $^X = /home/graham/perls/perl-5.18.1-thread/bin/perl
    $UID/$EUID = 1000 / 1000
    $GID = 100 10 95 98 100
    $EGID = 100 10 95 98 100

Perl module toolchain versions installed:

    Module              Have    
    ------------------- --------
    CPAN                2.00    
    CPAN::Meta          2.132830
    Cwd                 3.40    
    ExtUtils::CBuilder  0.280212
    ExtUtils::Command   1.18    
    ExtUtils::Install   1.59    
    ExtUtils::MakeMaker 6.82    
    ExtUtils::Manifest  1.63    
    ExtUtils::ParseXS   3.22    
    File::Spec          3.40    
    JSON                2.90    
    JSON::PP            2.27203 
    Module::Build       0.4003  
    Module::Signature   0.73    
    Parse::CPAN::Meta   1.4409  
    Test::Harness       3.29    
    Test::More          1.001002
    YAML                0.84    
    YAML::Syck          1.27    
    version             0.9904  


--

Summary of my perl5 (revision 5 version 18 subversion 1) configuration:
   
  Platform:
    osname=linux, osvers=3.11.4-1-arch, archname=x86_64-linux-thread-multi
    uname='linux grosics 3.11.4-1-arch #1 smp preempt sat oct 5 21:22:51 cest 2013 x86_64 gnulinux '
    config_args=''
    hint=recommended, useposix=true, d_sigaction=define
    useithreads=define, usemultiplicity=define
    useperlio=define, d_sfio=undef, uselargefiles=define, usesocks=undef
    use64bitint=define, use64bitall=define, uselongdouble=undef
    usemymalloc=n, bincompat5005=undef
  Compiler:
    cc='cc', ccflags ='-D_REENTRANT -D_GNU_SOURCE -fno-strict-aliasing -pipe -fstack-protector -I/usr/local/include -D_LARGEFILE_SOURCE -D_FILE_OFFSET_BITS=64',
    optimize='-O2',
    cppflags='-D_REENTRANT -D_GNU_SOURCE -fno-strict-aliasing -pipe -fstack-protector -I/usr/local/include'
    ccversion='', gccversion='4.8.1 20130725 (prerelease)', gccosandvers=''
    intsize=4, longsize=8, ptrsize=8, doublesize=8, byteorder=12345678
    d_longlong=define, longlongsize=8, d_longdbl=define, longdblsize=16
    ivtype='long', ivsize=8, nvtype='double', nvsize=8, Off_t='off_t', lseeksize=8
    alignbytes=8, prototype=define
  Linker and Libraries:
    ld='cc', ldflags =' -fstack-protector -L/usr/local/lib'
    libpth=/usr/local/lib /lib/../lib /usr/lib/../lib /lib /usr/lib /lib64 /usr/lib64
    libs=-lnsl -lgdbm -ldb -ldl -lm -lcrypt -lutil -lpthread -lc -lgdbm_compat
    perllibs=-lnsl -ldl -lm -lcrypt -lutil -lpthread -lc
    libc=/lib/libc-2.18.so, so=so, useshrplib=false, libperl=libperl.a
    gnulibc_version='2.18'
  Dynamic Linking:
    dlsrc=dl_dlopen.xs, dlext=so, d_dlsymun=undef, ccdlflags='-Wl,-E'
    cccdlflags='-fPIC', lddlflags='-shared -O2 -L/usr/local/lib -fstack-protector'


Characteristics of this binary (from libperl): 
  Compile-time options: HAS_TIMES MULTIPLICITY PERLIO_LAYERS
                        PERL_DONT_CREATE_GVSV
                        PERL_HASH_FUNC_ONE_AT_A_TIME_HARD
                        PERL_IMPLICIT_CONTEXT PERL_MALLOC_WRAP
                        PERL_PRESERVE_IVUV PERL_SAWAMPERSAND USE_64_BIT_ALL
                        USE_64_BIT_INT USE_ITHREADS USE_LARGE_FILES
                        USE_LOCALE USE_LOCALE_COLLATE USE_LOCALE_CTYPE
                        USE_LOCALE_NUMERIC USE_PERLIO USE_PERL_ATOF
                        USE_REENTRANT_API
  Built under linux
  Compiled at Oct 29 2013 14:01:45
  %ENV:
    PERL5LIB=""
    PERL5OPT=""
    PERL5_CPANPLUS_IS_RUNNING="11850"
    PERL5_CPAN_IS_RUNNING="11850"
    PERL5_CPAN_IS_RUNNING_IN_RECURSION="360,11850"
    PERL_CR_SMOKER_CURRENT="OAuth-Consumer-0.03"
    PERL_EXTUTILS_AUTOINSTALL="--defaultdeps"
    PERL_MM_USE_DEFAULT="1"
  @INC:
    /home/graham/perls/perl-5.18.1-thread/lib/site_perl/5.18.1/x86_64-linux-thread-multi
    /home/graham/perls/perl-5.18.1-thread/lib/site_perl/5.18.1
    /home/graham/perls/perl-5.18.1-thread/lib/5.18.1/x86_64-linux-thread-multi
    /home/graham/perls/perl-5.18.1-thread/lib/5.18.1
    .