Promise-ES6 v0.24_02 Perl 5 v5.22.4 x86_64-linux-thread-multi

Status
Pass
From
David Cantrell (DCANTRELL)
Dist
Promise-ES6 v0.24_02
Platform
Perl 5 v5.22.4 x86_64-linux-thread-multi
Date
2021-02-23 21:44:24
ID
4b7c3d54-7620-11eb-a73a-a026761e3400
This distribution has been tested as part of the CPAN Testers
project, supporting the Perl programming language.  See
http://wiki.cpantesters.org/ for more information or email
questions to cpan-testers-discuss@perl.org


--
Dear Felipe Gasper,

This is a computer-generated report for Promise-ES6-0.24_02
on perl 5.22.4, created by CPAN-Reporter-1.2018.

Thank you for uploading your work to CPAN.  Congratulations!
All tests were successful.

Sections of this report:

    * Tester comments
    * Program output
    * Prerequisites
    * Environment and other context

------------------------------
TESTER COMMENTS
------------------------------

Additional comments from tester:

this report is from an automated smoke testing program
and was not reviewed by a human for accuracy

------------------------------
PROGRAM OUTPUT
------------------------------

Output from '/usr/bin/make test':

PERL_DL_NONLAZY=1 "/home/david/cpantesting/perl-5.22.4/bin/perl" "-MExtUtils::Command::MM" "-MTest::Harness" "-e" "undef *Test::Harness::Switches; test_harness(0, 'blib/lib', 'blib/arch')" t/*.t
# Devel::GlobalDestruction isn’t available, but ${^GLOBAL_PHASE} exists.
t/all.t ........................... ok
# Devel::GlobalDestruction isn’t available, but ${^GLOBAL_PHASE} exists.
t/all_async.t ..................... ok
# Devel::GlobalDestruction isn’t available, but ${^GLOBAL_PHASE} exists.
t/allsettled.t .................... ok
t/anyevent.t ...................... ok
t/async_await.t ................... skipped: Can’t run test: Can't locate Test/Future/AsyncAwait/Awaitable.pm in @INC (you may need to install the Test::Future::AsyncAwait::Awaitable module) (@INC contains: /home/david/cpantesting/perl-5.22.4/.cpan/build/Promise-ES6-0.24_02-gbLhgj/blib/lib /home/david/cpantesting/perl-5.22.4/.cpan/build/Promise-ES6-0.24_02-gbLhgj/blib/arch /home/david/cpantesting/perl-5.22.4/lib/site_perl/5.22.4/x86_64-linux-thread-multi /home/david/cpantesting/perl-5.22.4/lib/site_perl/5.22.4 /home/david/cpantesting/perl-5.22.4/lib/5.22.4/x86_64-linux-thread-multi /home/david/cpantesting/perl-5.22.4/lib/5.22.4 .) at (eval 5) line 1.
t/async_await_hold_ref.t .......... skipped: No Future::AsyncAwait
# Devel::GlobalDestruction isn’t available, but ${^GLOBAL_PHASE} exists.
t/await.t ......................... ok
# Devel::GlobalDestruction isn’t available, but ${^GLOBAL_PHASE} exists.
# MASTER PID: 6196
t/await_then_with_async.t ......... ok
# Devel::GlobalDestruction isn’t available, but ${^GLOBAL_PHASE} exists.
t/await_with_async.t .............. ok
# Devel::GlobalDestruction isn’t available, but ${^GLOBAL_PHASE} exists.
t/catch.t ......................... ok
# Devel::GlobalDestruction isn’t available, but ${^GLOBAL_PHASE} exists.
t/catch_asyncreject.t ............. ok
# Devel::GlobalDestruction isn’t available, but ${^GLOBAL_PHASE} exists.
t/finally.t ....................... ok
t/future.t ........................ ok
Promise::ES6=HASH(0x55e8f8a5c2a0): Unhandled rejection: abc at -e line 1.
 at -e line 0.
# [
#   ''
# ]
t/global_destruction.t ............ ok
t/ioasync.t ....................... ok
# Devel::GlobalDestruction isn’t available, but ${^GLOBAL_PHASE} exists.
t/memory_leaks.t .................. ok
t/mojo.t .......................... ok
# Devel::GlobalDestruction isn’t available, but ${^GLOBAL_PHASE} exists.
t/multi_then.t .................... ok
t/no_leak_stashed_ref.t ........... ok
# Devel::GlobalDestruction isn’t available, but ${^GLOBAL_PHASE} exists.
t/race.t .......................... ok
# Devel::GlobalDestruction isn’t available, but ${^GLOBAL_PHASE} exists.
t/race_async.t .................... ok
# Devel::GlobalDestruction isn’t available, but ${^GLOBAL_PHASE} exists.
t/race_fail.t ..................... ok
# Devel::GlobalDestruction isn’t available, but ${^GLOBAL_PHASE} exists.
t/race_success.t .................. ok
# Devel::GlobalDestruction isn’t available, but ${^GLOBAL_PHASE} exists.
t/reject.t ........................ ok
# Devel::GlobalDestruction isn’t available, but ${^GLOBAL_PHASE} exists.
t/resolve.t ....................... ok
# Devel::GlobalDestruction isn’t available, but ${^GLOBAL_PHASE} exists.
t/then.t .......................... ok
# Devel::GlobalDestruction isn’t available, but ${^GLOBAL_PHASE} exists.
t/then_catch.t .................... ok
# Devel::GlobalDestruction isn’t available, but ${^GLOBAL_PHASE} exists.
t/then_promise.t .................. ok
# Devel::GlobalDestruction isn’t available, but ${^GLOBAL_PHASE} exists.
# PID: 7311
t/then_success.t .................. ok
# Devel::GlobalDestruction isn’t available, but ${^GLOBAL_PHASE} exists.
t/then_success_with_no_handler.t .. ok
# Devel::GlobalDestruction isn’t available, but ${^GLOBAL_PHASE} exists.
t/unhandled_rejection.t ........... ok
t/use_event_anyevent.t ............ ok
t/use_event_ioasync.t ............. ok
t/use_event_mojolicious.t ......... ok
All tests successful.
Files=34, Tests=143, 39 wallclock secs ( 0.35 usr  0.09 sys + 14.23 cusr  1.93 csys = 16.60 CPU)
Result: PASS

------------------------------
PREREQUISITES
------------------------------

Prerequisite modules loaded:

build_requires:

    Module              Need     Have    
    ------------------- -------- --------
    autodie             0        2.26    
    ExtUtils::MakeMaker 0        7.04_02 
    FindBin             0        1.51    
    Test::Class         0        0.52    
    Test::Deep          0        1.128   
    Test::FailWarnings  0        0.008   
    Test::Fatal         0        0.014   
    Test::More          1.302103 1.302183

configure_requires:

    Module              Need     Have    
    ------------------- -------- --------
    ExtUtils::MakeMaker 0        7.04_02 


------------------------------
ENVIRONMENT AND OTHER CONTEXT
------------------------------

Environment variables:

    AUTOMATED_TESTING = 1
    LANG = en_GB.UTF-8
    LANGUAGE = en_GB:en
    LC_TERMINAL = iTerm2
    LC_TERMINAL_VERSION = 3.4.4
    NONINTERACTIVE_TESTING = 1
    PATH = /home/david/perl5/perlbrew/bin:/home/david/perl5/perlbrew/perls/perl-5.30.2/bin:/usr/local/bin:/usr/bin:/bin:/usr/local/games:/usr/games
    PERL = 5.22.4
    PERL5LIB = 
    PERL5OPT = 
    PERL5_CPANPLUS_IS_RUNNING = 4837
    PERL5_CPAN_IS_RUNNING = 4837
    PERLBREW_HOME = /home/david/.perlbrew
    PERLBREW_MANPATH = /home/david/perl5/perlbrew/perls/perl-5.30.2/man
    PERLBREW_PATH = /home/david/perl5/perlbrew/bin:/home/david/perl5/perlbrew/perls/perl-5.30.2/bin
    PERLBREW_PERL = perl-5.30.2
    PERLBREW_ROOT = /home/david/perl5/perlbrew
    PERLBREW_SHELLRC_VERSION = 0.89
    PERLBREW_VERSION = 0.89
    PERLVER = 5.22.4
    PERL_INLINE_DIRECTORY = /home/david/.Inline-5.22.4
    PERL_MM_USE_DEFAULT = 1
    PERL_USE_UNSAFE_INC = 0
    SHELL = /bin/bash
    TERM = screen

Perl special variables (and OS-specific diagnostics, for MSWin32):

    $^X = /home/david/cpantesting/perl-5.22.4/bin/perl
    $UID/$EUID = 1000 / 1000
    $GID = 1000 24 25 27 29 30 44 46 109 1000
    $EGID = 1000 24 25 27 29 30 44 46 109 1000

Perl module toolchain versions installed:

    Module              Have      
    ------------------- ----------
    CPAN                2.11_01   
    CPAN::Meta          2.150001  
    Cwd                 3.56_02   
    ExtUtils::CBuilder  0.280221  
    ExtUtils::Command   1.20_01   
    ExtUtils::Install   2.04      
    ExtUtils::MakeMaker 7.04_02   
    ExtUtils::Manifest  1.70      
    ExtUtils::ParseXS   3.35      
    File::Spec          3.56_02   
    JSON                4.03      
    JSON::PP            2.27300_01
    Module::Build       0.4231    
    Module::Signature   n/a       
    Parse::CPAN::Meta   1.4414_001
    Test::Harness       3.35_01   
    Test::More          1.302183  
    YAML                n/a       
    YAML::Syck          n/a       
    version             0.9909    


--

Summary of my perl5 (revision 5 version 22 subversion 4) configuration:
   
  Platform:
    osname=linux, osvers=4.9.0-8-amd64, archname=x86_64-linux-thread-multi
    uname='linux pigsty 4.9.0-8-amd64 #1 smp debian 4.9.144-3 (2019-02-02) x86_64 gnulinux '
    config_args='-de -Duse64bitall -Dusethreads -Dprefix=/home/david/cpantesting/perl-5.22.4'
    hint=recommended, useposix=true, d_sigaction=define
    useithreads=define, usemultiplicity=define
    use64bitint=define, use64bitall=define, uselongdouble=undef
    usemymalloc=n, bincompat5005=undef
  Compiler:
    cc='cc', ccflags ='-D_REENTRANT -D_GNU_SOURCE -fwrapv -fno-strict-aliasing -pipe -fstack-protector-strong -I/usr/local/include -D_LARGEFILE_SOURCE -D_FILE_OFFSET_BITS=64',
    optimize='-O2',
    cppflags='-D_REENTRANT -D_GNU_SOURCE -fwrapv -fno-strict-aliasing -pipe -fstack-protector-strong -I/usr/local/include'
    ccversion='', gccversion='6.3.0 20170516', gccosandvers=''
    intsize=4, longsize=8, ptrsize=8, doublesize=8, byteorder=12345678, doublekind=3
    d_longlong=define, longlongsize=8, d_longdbl=define, longdblsize=16, longdblkind=3
    ivtype='long', ivsize=8, nvtype='double', nvsize=8, Off_t='off_t', lseeksize=8
    alignbytes=8, prototype=define
  Linker and Libraries:
    ld='cc', ldflags =' -fstack-protector-strong -L/usr/local/lib'
    libpth=/usr/local/lib /usr/lib/gcc/x86_64-linux-gnu/6/include-fixed /usr/include/x86_64-linux-gnu /usr/lib /lib/x86_64-linux-gnu /lib/../lib /usr/lib/x86_64-linux-gnu /usr/lib/../lib /lib
    libs=-lpthread -lnsl -ldb -ldl -lm -lcrypt -lutil -lc
    perllibs=-lpthread -lnsl -ldl -lm -lcrypt -lutil -lc
    libc=libc-2.24.so, so=so, useshrplib=false, libperl=libperl.a
    gnulibc_version='2.24'
  Dynamic Linking:
    dlsrc=dl_dlopen.xs, dlext=so, d_dlsymun=undef, ccdlflags='-Wl,-E'
    cccdlflags='-fPIC', lddlflags='-shared -O2 -L/usr/local/lib -fstack-protector-strong'


Characteristics of this binary (from libperl): 
  Compile-time options: HAS_TIMES MULTIPLICITY PERLIO_LAYERS
                        PERL_DONT_CREATE_GVSV
                        PERL_HASH_FUNC_ONE_AT_A_TIME_HARD
                        PERL_IMPLICIT_CONTEXT PERL_MALLOC_WRAP
                        PERL_NEW_COPY_ON_WRITE PERL_PRESERVE_IVUV
                        USE_64_BIT_ALL USE_64_BIT_INT USE_ITHREADS
                        USE_LARGE_FILES USE_LOCALE USE_LOCALE_COLLATE
                        USE_LOCALE_CTYPE USE_LOCALE_NUMERIC USE_LOCALE_TIME
                        USE_PERLIO USE_PERL_ATOF USE_REENTRANT_API
  Locally applied patches:
	Devel::PatchPerl 1.56
  Built under linux
  Compiled at Apr 25 2019 12:09:05
  %ENV:
    PERL="5.22.4"
    PERL5LIB=""
    PERL5OPT=""
    PERL5_CPANPLUS_IS_RUNNING="4837"
    PERL5_CPAN_IS_RUNNING="4837"
    PERLBREW_HOME="/home/david/.perlbrew"
    PERLBREW_MANPATH="/home/david/perl5/perlbrew/perls/perl-5.30.2/man"
    PERLBREW_PATH="/home/david/perl5/perlbrew/bin:/home/david/perl5/perlbrew/perls/perl-5.30.2/bin"
    PERLBREW_PERL="perl-5.30.2"
    PERLBREW_ROOT="/home/david/perl5/perlbrew"
    PERLBREW_SHELLRC_VERSION="0.89"
    PERLBREW_VERSION="0.89"
    PERLVER="5.22.4"
    PERL_INLINE_DIRECTORY="/home/david/.Inline-5.22.4"
    PERL_MM_USE_DEFAULT="1"
    PERL_USE_UNSAFE_INC="0"
  @INC:
    /home/david/cpantesting/perl-5.22.4/lib/site_perl/5.22.4/x86_64-linux-thread-multi
    /home/david/cpantesting/perl-5.22.4/lib/site_perl/5.22.4
    /home/david/cpantesting/perl-5.22.4/lib/5.22.4/x86_64-linux-thread-multi
    /home/david/cpantesting/perl-5.22.4/lib/5.22.4
    .