Report for PadWalker-1.98

Back
From: metabase:user:69a3e5b8-b0a9-11df-aa52-0477ddc61c6c
Subject: PASS PadWalker-1.98 v5.16.1 GNU/Linux
Date: 2013-12-08T17:08:01Z

This distribution has been tested as part of the CPAN Testers
project, supporting the Perl programming language.  See
http://wiki.cpantesters.org/ for more information or email
questions to cpan-testers-discuss@perl.org


--

Dear Robin Houston,

This is a computer-generated error report created automatically by
CPANPLUS, version 0.9142. Testers personal comments may appear
at the end of this report.


Thank you for uploading your work to CPAN.  Congratulations!
All tests were successful.

TEST RESULTS:

Below is the error stack from stage 'make test':

Running Mkbootstrap for PadWalker ()
chmod 644 PadWalker.bs
PERL_DL_NONLAZY=1 /opt/perl-5.16.1/bin/perl "-MExtUtils::Command::MM" "-MTest::Harness" "-e" "undef *Test::Harness::Switches; test_harness(0, 'blib/lib', 'blib/arch')" t/*.t
t/closure.t ... ok
t/dm.t ........ ok
t/foo.t ....... ok
t/our.t ....... ok
t/recurse.t ... ok
t/sub.t ....... ok
t/test.t ...... ok
t/tt.t ........ ok
t/var_name.t .. ok
All tests successful.
Files=9, Tests=81,  0 wallclock secs ( 0.04 usr  0.02 sys +  0.08 cusr  0.04 csys =  0.18 CPU)
Result: PASS


PREREQUISITES:

Here is a list of prerequisites you specified and versions we
managed to load:

	  Module Name                        Have     Want
	  ExtUtils::MakeMaker                6.84        0

Perl module toolchain versions installed:
	Module Name                        Have
	CPANPLUS                         0.9142
	CPANPLUS::Dist::Build              0.74
	Cwd                                3.40
	ExtUtils::CBuilder             0.280212
	ExtUtils::Command                  1.18
	ExtUtils::Install                  1.58
	ExtUtils::MakeMaker                6.84
	ExtUtils::Manifest                 1.63
	ExtUtils::ParseXS                  3.22
	File::Spec                         3.40
	Module::Build                    0.4203
	Pod::Parser                        1.61
	Pod::Simple                        3.28
	Test::Harness                      3.30
	Test::More                     1.001002
	version                          0.9904

******************************** NOTE ********************************
The comments above are created mechanically, possibly without manual
checking by the sender.  As there are many people performing automatic
tests on each upload to CPAN, it is likely that you will receive
identical messages about the same problem.

If you believe that the message is mistaken, please reply to the first
one with correction and/or additional informations, and do not take
it personally.  We appreciate your patience. :)
**********************************************************************

Additional comments:


--

Summary of my perl5 (revision 5 version 16 subversion 1) configuration:
  Commit id: 06d742c02d396d6515581002f376b55ab1972c1b
  Platform:
    osname=linux, osvers=3.2.0-27-generic, archname=x86_64-linux-thread-multi-ld
    uname='linux brad-desktop-x58 3.2.0-27-generic #43-ubuntu smp fri jul 6 14:25:57 utc 2012 x86_64 x86_64 x86_64 gnulinux '
    config_args=''
    hint=recommended, useposix=true, d_sigaction=define
    useithreads=define, usemultiplicity=define
    useperlio=define, d_sfio=undef, uselargefiles=define, usesocks=undef
    use64bitint=define, use64bitall=define, uselongdouble=define
    usemymalloc=n, bincompat5005=undef
  Compiler:
    cc='cc', ccflags ='-D_REENTRANT -D_GNU_SOURCE -fno-strict-aliasing -pipe -fstack-protector -I/usr/local/include -D_LARGEFILE_SOURCE -D_FILE_OFFSET_BITS=64',
    optimize='-O2',
    cppflags='-D_REENTRANT -D_GNU_SOURCE -fno-strict-aliasing -pipe -fstack-protector -I/usr/local/include'
    ccversion='', gccversion='4.6.3', gccosandvers=''
    intsize=4, longsize=8, ptrsize=8, doublesize=8, byteorder=12345678
    d_longlong=define, longlongsize=8, d_longdbl=define, longdblsize=16
    ivtype='long', ivsize=8, nvtype='long double', nvsize=16, Off_t='off_t', lseeksize=8
    alignbytes=16, prototype=define
  Linker and Libraries:
    ld='cc', ldflags =' -fstack-protector -L/usr/local/lib'
    libpth=/usr/local/lib /lib/x86_64-linux-gnu /lib/../lib /usr/lib/x86_64-linux-gnu /usr/lib/../lib /lib /usr/lib
    libs=-lnsl -ldl -lm -lcrypt -lutil -lpthread -lc
    perllibs=-lnsl -ldl -lm -lcrypt -lutil -lpthread -lc
    libc=, so=so, useshrplib=false, libperl=libperl.a
    gnulibc_version='2.15'
  Dynamic Linking:
    dlsrc=dl_dlopen.xs, dlext=so, d_dlsymun=undef, ccdlflags='-Wl,-E'
    cccdlflags='-fPIC', lddlflags='-shared -O2 -L/usr/local/lib -fstack-protector'


Characteristics of this binary (from libperl): 
  Compile-time options: HAS_TIMES MULTIPLICITY PERLIO_LAYERS
                        PERL_DONT_CREATE_GVSV PERL_IMPLICIT_CONTEXT
                        PERL_MALLOC_WRAP PERL_PRESERVE_IVUV USE_64_BIT_ALL
                        USE_64_BIT_INT USE_FAST_STDIO USE_ITHREADS
                        USE_LARGE_FILES USE_LOCALE USE_LOCALE_COLLATE
                        USE_LOCALE_CTYPE USE_LOCALE_NUMERIC USE_LONG_DOUBLE
                        USE_PERLIO USE_PERL_ATOF USE_REENTRANT_API
  Built under linux
  Compiled at Aug  8 2012 21:22:55
  %ENV:
    PERL5LIB=":/home/brad/.cpanplus/5.16.1/build/Hash-FieldHash-0.14/blib/lib:/home/brad/.cpanplus/5.16.1/build/Hash-FieldHash-0.14/blib/arch:/home/brad/.cpanplus/5.16.1/build/Object-ID-v0.1.2/blib/lib:/home/brad/.cpanplus/5.16.1/build/Object-ID-v0.1.2/blib/arch:/home/brad/.cpanplus/5.16.1/build/PadWalker-1.98/blib/lib:/home/brad/.cpanplus/5.16.1/build/PadWalker-1.98/blib/arch"
    PERL5_CPANPLUS_IS_RUNNING="3466"
    PERL5_CPANPLUS_IS_VERSION="0.9142"
    PERL_READLINE_NOWARN="1"
  @INC:
    /home/brad/.cpanplus/5.16.1/build/Hash-FieldHash-0.14/blib/lib
    /home/brad/.cpanplus/5.16.1/build/Hash-FieldHash-0.14/blib/arch
    /home/brad/.cpanplus/5.16.1/build/Object-ID-v0.1.2/blib/lib
    /home/brad/.cpanplus/5.16.1/build/Object-ID-v0.1.2/blib/arch
    /home/brad/.cpanplus/5.16.1/build/PadWalker-1.98/blib/lib
    /home/brad/.cpanplus/5.16.1/build/PadWalker-1.98/blib/arch
    /opt/perl-5.16.1/lib/site_perl/5.16.1/x86_64-linux-thread-multi-ld
    /opt/perl-5.16.1/lib/site_perl/5.16.1
    /opt/perl-5.16.1/lib/5.16.1/x86_64-linux-thread-multi-ld
    /opt/perl-5.16.1/lib/5.16.1
    /opt/perl/lib
    .