Report for WebAPI-DBIC-0.004002

Back
From: metabase:user:320bfe00-2aae-11df-837a-5e0a49663a4f
Subject: PASS WebAPI-DBIC-0.004002 v5.18.4 GNU/Linux
Date: 2015-05-25T08:08:58Z

This distribution has been tested as part of the CPAN Testers
project, supporting the Perl programming language.  See
http://wiki.cpantesters.org/ for more information or email
questions to cpan-testers-discuss@perl.org


--
Dear Tim Bunce,

This is a computer-generated report for WebAPI-DBIC-0.004002
on perl 5.18.4, created by CPAN-Reporter-1.2014.

Thank you for uploading your work to CPAN.  Congratulations!
All tests were successful.

Sections of this report:

    * Tester comments
    * Program output
    * Prerequisites
    * Environment and other context

------------------------------
TESTER COMMENTS
------------------------------

Additional comments from tester:

this report is from an automated smoke testing program
and was not reviewed by a human for accuracy

------------------------------
PROGRAM OUTPUT
------------------------------

Output from '/usr/bin/make test':

PERL_DL_NONLAZY=1 "/home/sand/src/perl/repoperls/installed-perls/perl/v5.18.4/9980/bin/perl" "-MExtUtils::Command::MM" "-MTest::Harness" "-e" "undef *Test::Harness::Switches; test_harness(0, 'blib/lib', 'blib/arch')" t/*.t t/media-active-model/*.t t/media-hal/*.t t/media-jsonapi/*.t
Can't locate Alien/Web/HalBrowser.pm in @INC (you may need to install the Alien::Web::HalBrowser module) (@INC contains: blib/lib /tmp/loop_over_bdir-5720-uhxo7c/WebAPI-DBIC-0.004002-SDsaly/blib/lib /tmp/loop_over_bdir-5720-uhxo7c/WebAPI-DBIC-0.004002-SDsaly/blib/arch /home/sand/src/perl/repoperls/installed-perls/perl/v5.18.4/9980/lib/site_perl/5.18.4/x86_64-linux-thread-multi /home/sand/src/perl/repoperls/installed-perls/perl/v5.18.4/9980/lib/site_perl/5.18.4/x86_64-linux-thread-multi /home/sand/src/perl/repoperls/installed-perls/perl/v5.18.4/9980/lib/site_perl/5.18.4 /home/sand/src/perl/repoperls/installed-perls/perl/v5.18.4/9980/lib/5.18.4/x86_64-linux-thread-multi /home/sand/src/perl/repoperls/installed-perls/perl/v5.18.4/9980/lib/5.18.4/x86_64-linux-thread-multi /home/sand/src/perl/repoperls/installed-perls/perl/v5.18.4/9980/lib/5.18.4 . /tmp/loop_over_bdir-5720-uhxo7c/WebAPI-DBIC-0.004002-SDsaly/blib/lib /tmp/loop_over_bdir-5720-uhxo7c/WebAPI-DBIC-0.004002-SDsaly/blib/arch /home/sand/src/perl/repoperls/installed-perls/perl/v5.18.4/9980/lib/site_perl/5.18.4/x86_64-linux-thread-multi /home/sand/src/perl/repoperls/installed-perls/perl/v5.18.4/9980/lib/site_perl/5.18.4 /home/sand/src/perl/repoperls/installed-perls/perl/v5.18.4/9980/lib/5.18.4/x86_64-linux-thread-multi /home/sand/src/perl/repoperls/installed-perls/perl/v5.18.4/9980/lib/5.18.4 .) at webapi-dbic-any.psgi line 29.
BEGIN failed--compilation aborted at webapi-dbic-any.psgi line 29.
Can't locate Alien/Web/HalBrowser.pm in @INC (you may need to install the Alien::Web::HalBrowser module) (@INC contains: t/lib blib/lib /tmp/loop_over_bdir-5720-uhxo7c/WebAPI-DBIC-0.004002-SDsaly/blib/lib /tmp/loop_over_bdir-5720-uhxo7c/WebAPI-DBIC-0.004002-SDsaly/blib/arch /home/sand/src/perl/repoperls/installed-perls/perl/v5.18.4/9980/lib/site_perl/5.18.4/x86_64-linux-thread-multi /home/sand/src/perl/repoperls/installed-perls/perl/v5.18.4/9980/lib/site_perl/5.18.4 /home/sand/src/perl/repoperls/installed-perls/perl/v5.18.4/9980/lib/5.18.4/x86_64-linux-thread-multi /home/sand/src/perl/repoperls/installed-perls/perl/v5.18.4/9980/lib/5.18.4 .) at webapi-dbic-demo.psgi line 18.
BEGIN failed--compilation aborted at webapi-dbic-demo.psgi line 18.
t/00-compile.t .......................... ok
t/10-basics-req.t ....................... ok
t/11-paging-req.t ....................... ok
t/12-searching-req.t .................... ok
t/13-fields-req.t ....................... ok
t/14-distinct-req.t ..................... ok
t/30-ordering-req.t ..................... ok
t/50-modify-req.t ....................... ok
t/53-put_rel-req.t ...................... ok
Exception: DBIx::Class::Row::get_column(): No such column 'nonesuch' on TestSchema::Result::Artist at /tmp/loop_over_bdir-5720-uhxo7c/WebAPI-DBIC-0.004002-SDsaly/blib/lib/WebAPI/DBIC/Resource/Role/ItemInvoke.pm line 57
t/60-invoke-req.t ....................... ok
t/90-root-req.t ......................... ok
t/media-active-model/10-basics-req.t .... ok
Child result class TestSchema::Result::CD_to_Producer has multiple keys (cd producer) so relations like cd_to_producer won't have links generated.
t/media-active-model/40-prefetch-req.t .. ok
TestSchema::Result::Artist relationship cds_90s has coderef-based condition which is not handled yet - unknown crosstable_cond_key
t/media-hal/10-basics-req.t ............. ok
TestSchema::Result::Artist relationship cds_90s has coderef-based condition which is not handled yet - unknown crosstable_cond_key
t/media-hal/11-paging-req.t ............. ok
TestSchema::Result::Artist relationship cds_90s has coderef-based condition which is not handled yet - unknown crosstable_cond_key
t/media-hal/12-searching-req.t .......... ok
TestSchema::Result::Artist relationship cds_90s has coderef-based condition which is not handled yet - unknown crosstable_cond_key
t/media-hal/13-fields-req.t ............. ok
t/media-hal/14-distinct-req.t ........... ok
t/media-hal/30-ordering-req.t ........... ok
TestSchema::Result::Artist relationship cds_90s has coderef-based condition which is not handled yet - unknown crosstable_cond_key
t/media-hal/40-prefetch-req.t ........... ok
TestSchema::Result::Artist relationship cds_90s has coderef-based condition which is not handled yet - unknown crosstable_cond_key
t/media-hal/50-modify-req.t ............. ok
TestSchema::Result::Track relationship next_tracks has coderef-based condition which is not handled yet - unknown crosstable_cond_key
t/media-hal/52-post_rel-req.t ........... ok
TestSchema::Result::Track relationship next_tracks has coderef-based condition which is not handled yet - unknown crosstable_cond_key
t/media-hal/53-put_rel-req.t ............ ok
t/media-hal/90-root-req.t ............... ok
t/media-jsonapi/10-basics-req.t ......... ok
Result class TestSchema::Result::CD_to_Producer has multiple keys (cd producer) so relations like cd_to_producer won't have links generated.
t/media-jsonapi/40-prefetch-req.t ....... ok
t/release-pod-syntax.t .................. skipped: these tests are for release candidate testing
All tests successful.
Files=27, Tests=151, 68 wallclock secs ( 0.23 usr  0.16 sys + 49.22 cusr  6.57 csys = 56.18 CPU)
Result: PASS

------------------------------
PREREQUISITES
------------------------------

Prerequisite modules loaded:

requires:

    Module                      Need     Have    
    --------------------------- -------- --------
  ! Alien::Web::HalBrowser      0        n/a     
    Data::Dumper::Concise       0        2.022   
    DBD::SQLite                 1.46     1.46    
    DBIx::Class                 0.08250  0.082820
    HTTP::Headers::ActionPack   0        0.09    
    HTTP::Throwable             0        0.019   
    JSON::MaybeXS               0        1.003005
    Lingua::EN::Inflect         1.894    1.899   
    Lingua::EN::Inflect::Number 1.11     1.11    
    List::MoreUtils             0.408    0.410   
    List::Util                  0        1.42    
    Module::Runtime             0        0.014   
    Moo                         1.001000 2.000001
    MooX::StrictConstructor     0.006    0.008   
    namespace::clean            0.25     0.25    
    parent                      0        0.233   
    Path::Router                0.14     0.14    
    perl                        5.010    5.018004
    Plack                       1.0033   1.0034  
    Plack::App::File            0        0       
    Plack::App::Path::Router    0.08     0.08    
    Safe::Isa                   0        1.000005
    Scalar::Util                0        1.42    
    SQL::Translator             0.11018  0.11021 
    String::CamelCase           0        0.02    
    Sub::Exporter               0        0.987   
    Sub::Quote                  0        2.000001
    Sub::Util                   0        1.42    
    Try::Tiny                   0        0.22    
    URI                         0        1.67    
    Web::Machine                0.15     0.15    

build_requires:

    Module                      Need     Have    
    --------------------------- -------- --------
    autodie                     0        2.26    
    Cpanel::JSON::XS            0        3.0115  
    Data::Printer               0        0.35    
    DBIx::Class::Fixtures       1.001025 1.001028
    ExtUtils::MakeMaker         0        7.04    
    Module::Pluggable           0        5.1     
    Sort::Key                   0        1.33    
    Test::Compile               v1.1.0   v1.2.1  
    Test::DBIx::Class           0.43     0.43    
    Test::HTTP::Response        0        0.06    
    Test::More                  0.98     1.001014
    Test::Most                  0        0.34    
    Test::Pod                   0        1.49    
    ToolSet                     0        1.01    

configure_requires:

    Module                      Need     Have    
    --------------------------- -------- --------
    ExtUtils::MakeMaker         0        7.04    


------------------------------
ENVIRONMENT AND OTHER CONTEXT
------------------------------

Environment variables:

    AUTOMATED_TESTING = 1
    LANG = en_US.UTF-8
    LANGUAGE = en_US:en
    PATH = /home/sand/bin:/usr/local/bin:/usr/bin:/bin:/usr/games:/usr/local/perl/bin:/usr/X11/bin:/sbin:/usr/sbin
    PERL5LIB = 
    PERL5OPT = 
    PERL5_CPANPLUS_IS_RUNNING = 5721
    PERL5_CPAN_IS_RUNNING = 5721
    PERL_MM_USE_DEFAULT = 1
    SHELL = /usr/bin/zsh
    TERM = screen

Perl special variables (and OS-specific diagnostics, for MSWin32):

    $^X = /home/sand/src/perl/repoperls/installed-perls/perl/v5.18.4/9980/bin/perl
    $UID/$EUID = 1005 / 1005
    $GID = 1005 1005
    $EGID = 1005 1005

Perl module toolchain versions installed:

    Module              Have    
    ------------------- --------
    CPAN                2.10    
    CPAN::Meta          2.150004
    Cwd                 3.47    
    ExtUtils::CBuilder  0.280220
    ExtUtils::Command   1.17    
    ExtUtils::Install   1.59    
    ExtUtils::MakeMaker 7.04    
    ExtUtils::Manifest  1.70    
    ExtUtils::ParseXS   3.24    
    File::Spec          3.47    
    JSON                2.90    
    JSON::PP            2.27203 
    Module::Build       0.4211  
    Module::Signature   0.79    
    Parse::CPAN::Meta   1.4416  
    Test::Harness       3.35    
    Test::More          1.001014
    YAML                1.15    
    YAML::Syck          1.29    
    version             0.9912  


--

Summary of my perl5 (revision 5 version 18 subversion 4) configuration:
  Commit id: 51202371ba68f3f52f13124a3ea1bc3c171e0ee2
  Platform:
    osname=linux, osvers=4.0.0-1-amd64, archname=x86_64-linux-thread-multi
    uname='linux k83 4.0.0-1-amd64 #1 smp debian 4.0.2-1 (2015-05-11) x86_64 gnulinux '
    config_args='-Dprefix=/home/sand/src/perl/repoperls/installed-perls/perl/v5.18.4/9980 -Dmyhostname=k83 -Dinstallusrbinperl=n -Uversiononly -Dusedevel -des -Ui_db -Duseithreads -Uuselongdouble -DDEBUGGING=-g'
    hint=recommended, useposix=true, d_sigaction=define
    useithreads=define, usemultiplicity=define
    useperlio=define, d_sfio=undef, uselargefiles=define, usesocks=undef
    use64bitint=define, use64bitall=define, uselongdouble=undef
    usemymalloc=n, bincompat5005=undef
  Compiler:
    cc='cc', ccflags ='-D_REENTRANT -D_GNU_SOURCE -fno-strict-aliasing -pipe -fstack-protector -I/usr/local/include -D_LARGEFILE_SOURCE -D_FILE_OFFSET_BITS=64',
    optimize='-O2 -g',
    cppflags='-D_REENTRANT -D_GNU_SOURCE -fno-strict-aliasing -pipe -fstack-protector -I/usr/local/include'
    ccversion='', gccversion='4.9.2', gccosandvers=''
    intsize=4, longsize=8, ptrsize=8, doublesize=8, byteorder=12345678
    d_longlong=define, longlongsize=8, d_longdbl=define, longdblsize=16
    ivtype='long', ivsize=8, nvtype='double', nvsize=8, Off_t='off_t', lseeksize=8
    alignbytes=8, prototype=define
  Linker and Libraries:
    ld='cc', ldflags =' -fstack-protector -L/usr/local/lib'
    libpth=/usr/local/lib /lib/x86_64-linux-gnu /lib/../lib /usr/lib/x86_64-linux-gnu /usr/lib/../lib /lib /usr/lib
    libs=-lnsl -lgdbm -ldb -ldl -lm -lcrypt -lutil -lpthread -lc -lgdbm_compat
    perllibs=-lnsl -ldl -lm -lcrypt -lutil -lpthread -lc
    libc=, so=so, useshrplib=false, libperl=libperl.a
    gnulibc_version='2.19'
  Dynamic Linking:
    dlsrc=dl_dlopen.xs, dlext=so, d_dlsymun=undef, ccdlflags='-Wl,-E'
    cccdlflags='-fPIC', lddlflags='-shared -O2 -g -L/usr/local/lib -fstack-protector'


Characteristics of this binary (from libperl): 
  Compile-time options: HAS_TIMES MULTIPLICITY PERLIO_LAYERS
                        PERL_DONT_CREATE_GVSV
                        PERL_HASH_FUNC_ONE_AT_A_TIME_HARD
                        PERL_IMPLICIT_CONTEXT PERL_MALLOC_WRAP
                        PERL_PRESERVE_IVUV PERL_SAWAMPERSAND PERL_USE_DEVEL
                        USE_64_BIT_ALL USE_64_BIT_INT USE_ITHREADS
                        USE_LARGE_FILES USE_LOCALE USE_LOCALE_COLLATE
                        USE_LOCALE_CTYPE USE_LOCALE_NUMERIC USE_PERLIO
                        USE_PERL_ATOF USE_REENTRANT_API
  Built under linux
  Compiled at May 13 2015 15:50:06
  %ENV:
    PERL5LIB=""
    PERL5OPT=""
    PERL5_CPANPLUS_IS_RUNNING="5721"
    PERL5_CPAN_IS_RUNNING="5721"
    PERL_MM_USE_DEFAULT="1"
  @INC:
    /home/sand/src/perl/repoperls/installed-perls/perl/v5.18.4/9980/lib/site_perl/5.18.4/x86_64-linux-thread-multi
    /home/sand/src/perl/repoperls/installed-perls/perl/v5.18.4/9980/lib/site_perl/5.18.4
    /home/sand/src/perl/repoperls/installed-perls/perl/v5.18.4/9980/lib/5.18.4/x86_64-linux-thread-multi
    /home/sand/src/perl/repoperls/installed-perls/perl/v5.18.4/9980/lib/5.18.4
    .