Redis-JobQueue v1.19 Perl 5 v5.27.8 x86_64-linux

Status
Pass
From
Slaven Rezić (SREZIC)
Dist
Redis-JobQueue v1.19
Platform
Perl 5 v5.27.8 x86_64-linux
Date
2018-01-21 06:21:20
ID
4baa1ff8-fe73-11e7-812c-fd6a46fd1e9d
This distribution has been tested as part of the CPAN Testers
project, supporting the Perl programming language.  See
http://wiki.cpantesters.org/ for more information or email
questions to cpan-testers-discuss@perl.org


--
Dear Sergey Gladkov,

This is a computer-generated report for Redis-JobQueue-1.19
on perl 5.27.8, created by CPAN-Reporter-1.2018.

Thank you for uploading your work to CPAN.  Congratulations!
All tests were successful.

Sections of this report:

    * Tester comments
    * Program output
    * Prerequisites
    * Environment and other context

------------------------------
TESTER COMMENTS
------------------------------

Additional comments from tester:

none provided

------------------------------
PROGRAM OUTPUT
------------------------------

Output from '/usr/bin/make test':

PERL_DL_NONLAZY=1 "/opt/perl-5.27.8/bin/perl5.27.8" "-MExtUtils::Command::MM" "-MTest::Harness" "-e" "undef *Test::Harness::Switches; test_harness(0, 'blib/lib', 'blib/arch')" t/00_compile.t t/00_Job/00_compile.t t/00_Job/01_new.t t/00_Job/02_accessor.t t/00_Job/03_modified.t t/00_Job/04_job_attributes.t t/00_Job/05_meta_data.t t/01_JobQueue/00_compile.t t/01_JobQueue/01_new.t t/01_JobQueue/02_add_job.t t/01_JobQueue/04_load_job.t t/01_JobQueue/05_get_next_job.t t/01_JobQueue/06_update_job.t t/01_JobQueue/07_delete_job.t t/01_JobQueue/08_get_job_ids.t t/01_JobQueue/09_quit.t t/01_JobQueue/10_max_datasize.t t/01_JobQueue/11_last_errorcode.t t/01_JobQueue/12_timeout.t t/01_JobQueue/13_get_job_meta_fields.t t/01_JobQueue/14_get_job_data.t t/01_JobQueue/15_queue_status.t t/01_JobQueue/16_utf8.t
t/00_compile.t .......................... ok
t/00_Job/00_compile.t ................... ok
t/00_Job/01_new.t ....................... ok
t/00_Job/02_accessor.t .................. ok
t/00_Job/03_modified.t .................. ok
t/00_Job/04_job_attributes.t ............ ok
t/00_Job/05_meta_data.t ................. ok
t/01_JobQueue/00_compile.t .............. ok
# redis-server version: 3.2.6
t/01_JobQueue/01_new.t .................. ok
t/01_JobQueue/02_add_job.t .............. ok
t/01_JobQueue/04_load_job.t ............. ok
t/01_JobQueue/05_get_next_job.t ......... ok
t/01_JobQueue/06_update_job.t ........... ok
t/01_JobQueue/07_delete_job.t ........... ok
t/01_JobQueue/08_get_job_ids.t .......... ok
t/01_JobQueue/09_quit.t ................. ok
t/01_JobQueue/10_max_datasize.t ......... ok
t/01_JobQueue/11_last_errorcode.t ....... ok
t/01_JobQueue/12_timeout.t .............. ok
t/01_JobQueue/13_get_job_meta_fields.t .. ok
t/01_JobQueue/14_get_job_data.t ......... ok
t/01_JobQueue/15_queue_status.t ......... ok
t/01_JobQueue/16_utf8.t ................. ok
All tests successful.
Files=23, Tests=1331, 33 wallclock secs ( 0.12 usr  0.10 sys +  4.88 cusr  3.44 csys =  8.54 CPU)
Result: PASS

------------------------------
PREREQUISITES
------------------------------

Prerequisite modules loaded:

requires:

    Module              Need  Have    
    ------------------- ----- --------
    Data::UUID          1.217 1.221   
    Digest::SHA1        2.13  2.13    
    List::MoreUtils     0.33  0.428   
    Mouse               0     v2.5.1  
    Params::Util        1.07  1.07    
    perl                5.010 5.027008
    Redis               1.976 1.991   
    Storable            2.18  2.65    
    Try::Tiny           0.18  0.30    

build_requires:

    Module              Need  Have    
    ------------------- ----- --------
    ExtUtils::MakeMaker 0     7.30    
    Test::Deep          0.109 1.127   
    Test::Exception     0.31  0.43    
    Test::NoWarnings    1.04  1.04    
    Test::RedisServer   0.04  0.21    
    Test::TCP           2.11  2.19    

configure_requires:

    Module              Need  Have    
    ------------------- ----- --------
    ExtUtils::MakeMaker 0     7.30    


------------------------------
ENVIRONMENT AND OTHER CONTEXT
------------------------------

Environment variables:

    LANG = C
    LC_ALL = de_DE.UTF-8
    PATH = /usr/local/bin:/usr/bin:/bin:/usr/local/sbin:/usr/sbin:/sbin:/home/cpansand/bin/linux-gnu:/home/cpansand/bin/sh:/home/cpansand/bin:/usr/games:/home/cpansand/devel:/home/eserte/src/srezic-misc/scripts
    PERL5LIB = 
    PERL5OPT = 
    PERL5_CPANPLUS_IS_RUNNING = 16336
    PERL5_CPAN_IS_RUNNING = 16336
    PERL5_CPAN_IS_RUNNING_IN_RECURSION = 29813,16336
    PERLDOC = -MPod::Perldoc::ToTextOverstrike
    PERL_BATCH = yes
    PERL_CANARY_STABILITY_NOPROMPT = 1
    PERL_CPAN_REPORTER_CONFIG = /var/tmp/cpansmoker-1023/2018012100/cpanreporter_000_config.ini
    PERL_EXTUTILS_AUTOINSTALL = --defaultdeps
    PERL_PARALLEL_SMOKER = yes
    PERL_USE_UNSAFE_INC = 1
    SHELL = /usr/bin/zsh
    TERM = screen
    TMPDIR = /var/tmp/cpansmoker-1023/2018012100

Perl special variables (and OS-specific diagnostics, for MSWin32):

    $^X = /opt/perl-5.27.8/bin/perl5.27.8
    $UID/$EUID = 1023 / 1023
    $GID = 1023 1023
    $EGID = 1023 1023

Perl module toolchain versions installed:

    Module              Have    
    ------------------- --------
    CPAN                2.16    
    CPAN::Meta          2.150010
    Cwd                 3.72    
    ExtUtils::CBuilder  0.280230
    ExtUtils::Command   7.30    
    ExtUtils::Install   2.14    
    ExtUtils::MakeMaker 7.30    
    ExtUtils::Manifest  1.70    
    ExtUtils::ParseXS   3.36    
    File::Spec          3.72    
    JSON                2.97001 
    JSON::PP            2.97001 
    Module::Build       0.4224  
    Module::Signature   0.81    
    Parse::CPAN::Meta   2.150010
    Test::Harness       3.39    
    Test::More          1.302120
    YAML                1.24    
    YAML::Syck          1.30    
    version             0.9918  


--

Summary of my perl5 (revision 5 version 27 subversion 8) configuration:
   
  Platform:
    osname=linux
    osvers=4.9.0-3-amd64
    archname=x86_64-linux
    uname='linux debian9 4.9.0-3-amd64 #1 smp debian 4.9.30-2+deb9u5 (2017-09-19) x86_64 gnulinux '
    config_args='-ds -e -Dprefix=/opt/perl-5.27.8 -Dusedevel -Dusemallocwrap=no -Dcf_email=srezic@cpan.org'
    hint=recommended
    useposix=true
    d_sigaction=define
    useithreads=undef
    usemultiplicity=undef
    use64bitint=define
    use64bitall=define
    uselongdouble=undef
    usemymalloc=n
    default_inc_excludes_dot=define
    bincompat5005=undef
  Compiler:
    cc='cc'
    ccflags ='-fwrapv -fno-strict-aliasing -pipe -fstack-protector-strong -I/usr/local/include -D_LARGEFILE_SOURCE -D_FILE_OFFSET_BITS=64 -D_FORTIFY_SOURCE=2'
    optimize='-O2'
    cppflags='-fwrapv -fno-strict-aliasing -pipe -fstack-protector-strong -I/usr/local/include'
    ccversion=''
    gccversion='6.3.0 20170516'
    gccosandvers=''
    intsize=4
    longsize=8
    ptrsize=8
    doublesize=8
    byteorder=12345678
    doublekind=3
    d_longlong=define
    longlongsize=8
    d_longdbl=define
    longdblsize=16
    longdblkind=3
    ivtype='long'
    ivsize=8
    nvtype='double'
    nvsize=8
    Off_t='off_t'
    lseeksize=8
    alignbytes=8
    prototype=define
  Linker and Libraries:
    ld='cc'
    ldflags =' -fstack-protector-strong -L/usr/local/lib'
    libpth=/usr/local/lib /usr/lib/gcc/x86_64-linux-gnu/6/include-fixed /usr/include/x86_64-linux-gnu /usr/lib /lib/x86_64-linux-gnu /lib/../lib /usr/lib/x86_64-linux-gnu /usr/lib/../lib /lib
    libs=-lpthread -lnsl -lgdbm -ldb -ldl -lm -lcrypt -lutil -lc -lgdbm_compat
    perllibs=-lpthread -lnsl -ldl -lm -lcrypt -lutil -lc
    libc=libc-2.24.so
    so=so
    useshrplib=false
    libperl=libperl.a
    gnulibc_version='2.24'
  Dynamic Linking:
    dlsrc=dl_dlopen.xs
    dlext=so
    d_dlsymun=undef
    ccdlflags='-Wl,-E'
    cccdlflags='-fPIC'
    lddlflags='-shared -O2 -L/usr/local/lib -fstack-protector-strong'


Characteristics of this binary (from libperl): 
  Compile-time options:
    HAS_TIMES
    PERLIO_LAYERS
    PERL_COPY_ON_WRITE
    PERL_DONT_CREATE_GVSV
    PERL_OP_PARENT
    PERL_PRESERVE_IVUV
    PERL_USE_DEVEL
    USE_64_BIT_ALL
    USE_64_BIT_INT
    USE_LARGE_FILES
    USE_LOCALE
    USE_LOCALE_COLLATE
    USE_LOCALE_CTYPE
    USE_LOCALE_NUMERIC
    USE_LOCALE_TIME
    USE_PERLIO
    USE_PERL_ATOF
  Built under linux
  Compiled at Jan 20 2018 08:22:29
  %ENV:
    PERL5LIB=""
    PERL5OPT=""
    PERL5_CPANPLUS_IS_RUNNING="16336"
    PERL5_CPAN_IS_RUNNING="16336"
    PERL5_CPAN_IS_RUNNING_IN_RECURSION="29813,16336"
    PERLDOC="-MPod::Perldoc::ToTextOverstrike"
    PERL_BATCH="yes"
    PERL_CANARY_STABILITY_NOPROMPT="1"
    PERL_CPAN_REPORTER_CONFIG="/var/tmp/cpansmoker-1023/2018012100/cpanreporter_000_config.ini"
    PERL_EXTUTILS_AUTOINSTALL="--defaultdeps"
    PERL_PARALLEL_SMOKER="yes"
    PERL_USE_UNSAFE_INC="1"
  @INC:
    /opt/perl-5.27.8/lib/site_perl/5.27.8/x86_64-linux
    /opt/perl-5.27.8/lib/site_perl/5.27.8
    /opt/perl-5.27.8/lib/5.27.8/x86_64-linux
    /opt/perl-5.27.8/lib/5.27.8
    .