Back
From: metabase:user:e099aa30-bf4f-11e0-b0bb-a7aeb748a6a7
Subject: PASS Spreadsheet-ParseExcel-Stream-0.10 v5.16.3 Mac OS X
Date: 2013-08-12T16:14:42Z
This distribution has been tested as part of the CPAN Testers
project, supporting the Perl programming language. See
http://wiki.cpantesters.org/ for more information or email
questions to cpan-testers-discuss@perl.org
--
Dear Douglas Wilson,
This is a computer-generated report for Spreadsheet-ParseExcel-Stream-0.10
on perl 5.16.3, created by CPAN-Reporter-1.2010.
Thank you for uploading your work to CPAN. Congratulations!
All tests were successful.
Sections of this report:
* Tester comments
* Program output
* Prerequisites
* Environment and other context
------------------------------
TESTER COMMENTS
------------------------------
Additional comments from tester:
none provided
------------------------------
PROGRAM OUTPUT
------------------------------
Output from '/usr/bin/make test':
PERL_DL_NONLAZY=1 /usr/local/bin/perl "-MExtUtils::Command::MM" "-e" "test_harness(0, 'blib/lib', 'blib/arch')" t/*.t
t/00-base.t .......... ok
t/01-nulls.t ......... ok
t/02-trim.t .......... ok
t/03-trim_more.t ..... ok
t/04-unformatted.t ... ok
t/05-cell_objects.t .. ok
t/06-bind.t .......... ok
t/07-skip_sheet.t .... ok
All tests successful.
Files=8, Tests=41, 1 wallclock secs ( 0.05 usr 0.02 sys + 0.60 cusr 0.08 csys = 0.75 CPU)
Result: PASS
------------------------------
PREREQUISITES
------------------------------
Prerequisite modules loaded:
requires:
Module Need Have
----------------------- ---- ----
Coro 0 6.31
Spreadsheet::ParseExcel 0 0.59
build_requires:
Module Need Have
----------------------- ---- ----
ExtUtils::MakeMaker 0 6.72
configure_requires:
Module Need Have
----------------------- ---- ----
ExtUtils::MakeMaker 0 6.72
------------------------------
ENVIRONMENT AND OTHER CONTEXT
------------------------------
Environment variables:
PATH = /usr/local/apache/bin:/usr/local/bin:/Developer/usr/bin:/usr/bin:/bin:/usr/sbin:/sbin:/usr/local/bin:/opt/X11/bin
PERL5LIB =
PERL5OPT =
PERL5_CPANPLUS_IS_RUNNING = 51406
PERL5_CPAN_IS_RUNNING = 51406
PERL5_CPAN_IS_RUNNING_IN_RECURSION = 36715,51406
SHELL = /bin/tcsh
TERM = xterm
Perl special variables (and OS-specific diagnostics, for MSWin32):
$^X = /usr/local/bin/perl
$UID/$EUID = 0 / 0
$GID = 0 0 1 2 3 4 5 8 9 12 20 29 61 80
$EGID = 0 0 1 2 3 4 5 8 9 12 20 29 61 80
Perl module toolchain versions installed:
Module Have
------------------- --------
CPAN 2.00
CPAN::Meta 2.131560
Cwd 3.40
ExtUtils::CBuilder 0.280206
ExtUtils::Command 1.17
ExtUtils::Install 1.58
ExtUtils::MakeMaker 6.72
ExtUtils::Manifest 1.61
ExtUtils::ParseXS 3.18_04
File::Spec 3.40
JSON 2.59
JSON::PP 2.27202
Module::Build 0.4005
Module::Signature 0.73
Parse::CPAN::Meta 1.4404
Test::Harness 3.28
Test::More 0.98_05
YAML 0.84
YAML::Syck 1.27
version 0.9902
--
Summary of my perl5 (revision 5 version 16 subversion 3) configuration:
Platform:
osname=darwin, osvers=12.2.0, archname=darwin-2level
uname='darwin tucumcari.local 12.2.0 darwin kernel version 12.2.0: sat aug 25 00:48:52 pdt 2012; root:xnu-2050.18.24~1release_x86_64 x86_64 '
config_args='-Dprefix=/usr/local'
hint=recommended, useposix=true, d_sigaction=define
useithreads=undef, usemultiplicity=undef
useperlio=define, d_sfio=undef, uselargefiles=define, usesocks=undef
use64bitint=define, use64bitall=define, uselongdouble=undef
usemymalloc=n, bincompat5005=undef
Compiler:
cc='gcc', ccflags ='-fno-common -DPERL_DARWIN -fno-strict-aliasing -pipe -fstack-protector -I/usr/local/include -I/opt/local/include',
optimize='-O3',
cppflags='-fno-common -DPERL_DARWIN -fno-strict-aliasing -pipe -fstack-protector -I/usr/local/include -I/opt/local/include'
ccversion='', gccversion='4.2.1 (Based on Apple Inc. build 5658) (LLVM build 2336.11.00)', gccosandvers=''
intsize=4, longsize=8, ptrsize=8, doublesize=8, byteorder=12345678
d_longlong=define, longlongsize=8, d_longdbl=define, longdblsize=16
ivtype='long', ivsize=8, nvtype='double', nvsize=8, Off_t='off_t', lseeksize=8
alignbytes=8, prototype=define
Linker and Libraries:
ld='env MACOSX_DEPLOYMENT_TARGET=10.3 cc', ldflags =' -fstack-protector -L/usr/local/lib -L/opt/local/lib'
libpth=/usr/local/lib /opt/local/lib /usr/lib
libs=-lgdbm -ldbm -ldl -lm -lutil -lc
perllibs=-ldl -lm -lutil -lc
libc=, so=dylib, useshrplib=false, libperl=libperl.a
gnulibc_version=''
Dynamic Linking:
dlsrc=dl_dlopen.xs, dlext=bundle, d_dlsymun=undef, ccdlflags=' '
cccdlflags=' ', lddlflags=' -bundle -undefined dynamic_lookup -L/usr/local/lib -L/opt/local/lib -fstack-protector'
Characteristics of this binary (from libperl):
Compile-time options: HAS_TIMES PERLIO_LAYERS PERL_DONT_CREATE_GVSV
PERL_MALLOC_WRAP PERL_PRESERVE_IVUV USE_64_BIT_ALL
USE_64_BIT_INT USE_LARGE_FILES USE_LOCALE
USE_LOCALE_COLLATE USE_LOCALE_CTYPE
USE_LOCALE_NUMERIC USE_PERLIO USE_PERL_ATOF
Built under darwin
Compiled at Mar 12 2013 23:34:14
%ENV:
PERL5LIB=""
PERL5OPT=""
PERL5_CPANPLUS_IS_RUNNING="51406"
PERL5_CPAN_IS_RUNNING="51406"
PERL5_CPAN_IS_RUNNING_IN_RECURSION="36715,51406"
@INC:
/usr/local/lib/perl5/site_perl/5.16.3/darwin-2level
/usr/local/lib/perl5/site_perl/5.16.3
/usr/local/lib/perl5/5.16.3/darwin-2level
/usr/local/lib/perl5/5.16.3
.