DBIx-Class-Helpers v2.036000 Perl 5 v5.18.2 MSWin32-x86-multi-thread-64int

Status
Pass
From
Alexandr Ciornii (CHORNY)
Dist
DBIx-Class-Helpers v2.036000
Platform
Perl 5 v5.18.2 MSWin32-x86-multi-thread-64int
Date
2020-03-28 22:35:05
ID
4bca8194-6c06-1014-ac6c-263ff3162e0c
This distribution has been tested as part of the CPAN Testers
project, supporting the Perl programming language.  See
http://wiki.cpantesters.org/ for more information or email
questions to cpan-testers-discuss@perl.org


--
Dear Arthur Axel 'fREW' Schmidt,

This is a computer-generated report for DBIx-Class-Helpers-2.036000
on perl 5.18.2, created by CPAN-Reporter-1.2018.

Thank you for uploading your work to CPAN.  Congratulations!
All tests were successful.

Sections of this report:

    * Tester comments
    * Program output
    * Prerequisites
    * Environment and other context

------------------------------
TESTER COMMENTS
------------------------------

Additional comments from tester:

this report is from an automated smoke testing program
and was not reviewed by a human for accuracy

------------------------------
PROGRAM OUTPUT
------------------------------

Output from 'C:\strawberry182\c\bin\dmake.exe test':

C:\strawberry182\perl\bin\perl.exe "-MExtUtils::Command::MM" "-MTest::Harness" "-e" "undef *Test::Harness::Switches; test_harness(0, 'blib\lib', 'blib\arch')" t/*.t t/ResultClass/*.t t/ResultSet/*.t t/ResultSet/DateMethods1/*.t t/ResultSet/RemoveColumns/*.t t/ResultSet/Shortcut/*.t t/ResultSet/Shortcut/Search/*.t t/Row/*.t t/Schema/*.t t/Schema/Verifier/*.t
t/author-pod-syntax.t ........................ skipped: these tests are for testing by the author
t/bug-1.t .................................... ok
t/ResultClass/Tee.t .......................... ok
t/ResultSet/Bare.t ........................... ok
t/ResultSet/CorrelateRelationship.t .......... ok
t/ResultSet/DateMethods1/bugs.t .............. ok
Use of uninitialized value in string eq at C:/strawberry182/perl/lib/Test/More.pm line 1297.
skip() needs to know $how_many tests are in the block at t/lib/A/ResultSet/DateMethods1.pm line 404
t/ResultSet/DateMethods1/mssql.t ............. ok
t/ResultSet/DateMethods1/mysql.t ............. ok
Use of uninitialized value in string eq at C:/strawberry182/perl/lib/Test/More.pm line 1297.
skip() needs to know $how_many tests are in the block at t/lib/A/ResultSet/DateMethods1.pm line 404
t/ResultSet/DateMethods1/oracle.t ............ ok
t/ResultSet/DateMethods1/pg.t ................ ok
t/ResultSet/DateMethods1/sqlite.t ............ ok
t/ResultSet/Errors.t ......................... ok
t/ResultSet/Explain.t ........................ ok
t/ResultSet/IgnoreWantarray.t ................ ok
t/ResultSet/Me.t ............................. ok
t/ResultSet/NoColumns.t ...................... ok
t/ResultSet/OneRow.t ......................... ok
t/ResultSet/Random.t ......................... ok
t/ResultSet/RemoveColumns.t .................. ok
t/ResultSet/RemoveColumns/_resolved_attrs.t .. ok
t/ResultSet/ResultClassDWIM.t ................ ok
t/ResultSet/SearchOr.t ....................... ok
t/ResultSet/SetOperations.t .................. ok
t/ResultSet/Shortcut/AddColumns.t ............ ok
t/ResultSet/Shortcut/Columns.t ............... ok
t/ResultSet/Shortcut/Distinct.t .............. ok
t/ResultSet/Shortcut/GroupBy.t ............... ok
t/ResultSet/Shortcut/HasRows.t ............... ok
t/ResultSet/Shortcut/HRI.t ................... ok
t/ResultSet/Shortcut/Limit.t ................. ok
t/ResultSet/Shortcut/LimitedPage.t ........... ok
t/ResultSet/Shortcut/OrderBy.t ............... ok
t/ResultSet/Shortcut/OrderByMagic.t .......... ok
t/ResultSet/Shortcut/Prefetch.t .............. ok
t/ResultSet/Shortcut/RemoveColumns.t ......... ok
t/ResultSet/Shortcut/ResultsExist.t .......... ok
t/ResultSet/Shortcut/Rows.t .................. ok
t/ResultSet/Shortcut/Search/Base.t ........... ok
t/ResultSet/Shortcut/Search/Like.t ........... ok
t/ResultSet/Shortcut/Search/NotLike.t ........ ok
t/ResultSet/Shortcut/Search/NotNull.t ........ ok
t/ResultSet/Shortcut/Search/Null.t ........... ok
t/Row/CleanResultSet.t ....................... ok
t/Row/JoinTable.t ............................ ok
t/Row/NumifyGet.t ............................ ok
t/Row/OnColumnChange.t ....................... ok
t/Row/OnColumnMissing.t ...................... ok
t/Row/ProxyResultSetMethod.t ................. ok
t/Row/ProxyResultSetUpdate.t ................. ok
t/Row/RelationshipDWIM.t ..................... ok
t/Row/SelfResultSet.t ........................ ok
t/Row/StorageValues.t ........................ ok
t/Row/SubClass.t ............................. ok
t/Row/ToJSON.t ............................... ok
t/Schema/DateTime.t .......................... ok
t/Schema/DidYouMean.t ........................ ok
t/Schema/GenerateSource.t .................... ok
t/Schema/LintContents.t ...................... ok
t/Schema/Verifier.t .......................... ok
t/Schema/Verifier/C3.t ....................... ok
t/Schema/Verifier/ColumnInfo.t ............... ok
t/Schema/Verifier/Parent.t ................... ok
t/Schema/Verifier/RelationshipColumnName.t ... ok
t/utilities.t ................................ ok
All tests successful.
Files=64, Tests=230, 76 wallclock secs ( 0.37 usr +  0.18 sys =  0.55 CPU)
Result: PASS

------------------------------
PREREQUISITES
------------------------------

Prerequisite modules loaded:

requires:

    Module                     Need     Have    
    -------------------------- -------- --------
    Carp::Clan                 6.04     6.04    
    DBIx::Class                0.0826   0.08270 
    DBIx::Class::Candy         0.003001 0.005003
    DBIx::Introspector         0.001002 0.001002
    Lingua::EN::Inflect        0        1.895   
    List::Util                 0        1.38    
    Module::Runtime            0        0.014   
    Moo                        2        2.003006
    namespace::clean           0.23     0.24    
    parent                     0        0.228   
    Safe::Isa                  0        1.000004
    Sub::Exporter::Progressive 0.001006 0.001011
    Text::Brew                 0        0.02    
    Try::Tiny                  0        0.18    

build_requires:

    Module                     Need     Have    
    -------------------------- -------- --------
    aliased                    0.34     0.34    
    DateTime::Format::SQLite   0        0.11    
    DBD::SQLite                0        1.40    
    ExtUtils::MakeMaker        0        6.84    
    Test::Deep                 0        0.112   
    Test::Fatal                0.006    0.013   
    Test::More                 0.94     1.001002
    Test::Roo                  1.003    1.004   

configure_requires:

    Module                     Need     Have    
    -------------------------- -------- --------
    ExtUtils::MakeMaker        0        6.84    


------------------------------
ENVIRONMENT AND OTHER CONTEXT
------------------------------

Environment variables:

    AUTOMATED_TESTING = 1
    COMSPEC = C:\WINDOWS\system32\cmd.exe
    NUMBER_OF_PROCESSORS = 1
    PATH = C:\WINDOWS\system32;C:\WINDOWS;C:\WINDOWS\System32\Wbem;C:\strawberry182\c\bin;C:\strawberry182\perl\site\bin;C:\strawberry182\perl\bin
    PERL5LIB = C:\strawberry182\cpan\build\aliased-0.34-0/blib/arch;C:\strawberry182\cpan\build\aliased-0.34-0/blib/lib;C:\strawberry182\cpan\build\Module-Build-Tiny-0.039-0/blib/arch;C:\strawberry182\cpan\build\Module-Build-Tiny-0.039-0/blib/lib;C:\strawberry182\cpan\build\Text-Brew-0.02-0/blib/arch;C:\strawberry182\cpan\build\Text-Brew-0.02-0/blib/lib;C:\strawberry182\cpan\build\Test-Roo-1.004-0/blib/arch;C:\strawberry182\cpan\build\Test-Roo-1.004-0/blib/lib;C:\strawberry182\cpan\build\Moo-2.003006-0/blib/arch;C:\strawberry182\cpan\build\Moo-2.003006-0/blib/lib;C:\strawberry182\cpan\build\Sub-Quote-2.006006-0/blib/arch;C:\strawberry182\cpan\build\Sub-Quote-2.006006-0/blib/lib;C:\strawberry182\cpan\build\Role-Tiny-2.001004-0/blib/arch;C:\strawberry182\cpan\build\Role-Tiny-2.001004-0/blib/lib;C:\strawberry182\cpan\build\DBIx-Class-Candy-0.005003-0/blib/arch;C:\strawberry182\cpan\build\DBIx-Class-Candy-0.005003-0/blib/lib
    PERL5OPT = 
    PERL5_CPANPLUS_IS_RUNNING = 868
    PERL5_CPAN_IS_RUNNING = 868
    PERL5_CPAN_IS_RUNNING_IN_RECURSION = 1552,868
    PERL_CR_SMOKER_CURRENT = DBIx-Class-Helpers-2.036000
    PERL_CR_SMOKER_RUNONCE = 1
    PERL_EXTUTILS_AUTOINSTALL = --defaultdeps
    PERL_HASH_SEED = 0x11111111
    PERL_MM_USE_DEFAULT = 1
    PROCESSOR_IDENTIFIER = x86 Family 18 Model 1 Stepping 0, AuthenticAMD
    TEMP = C:\DOCUME~1\c\LOCALS~1\Temp
    TERM = dumb

Perl special variables (and OS-specific diagnostics, for MSWin32):

    $^X = C:\strawberry182\perl\bin\perl.exe
    $UID/$EUID = 0 / 0
    $GID = 0
    $EGID = 0
    Win32::GetOSName = WinXP/.Net
    Win32::GetOSVersion = Service Pack 3, 5, 1, 2600, 2, 3, 0, 256, 1
    Win32::FsType = NTFS
    Win32::IsAdminUser = 1

Perl module toolchain versions installed:

    Module              Have    
    ------------------- --------
    CPAN                2.16    
    CPAN::Meta          2.133380
    Cwd                 3.40    
    ExtUtils::CBuilder  0.280212
    ExtUtils::Command   1.18    
    ExtUtils::Install   1.59    
    ExtUtils::MakeMaker 6.84    
    ExtUtils::Manifest  1.63    
    ExtUtils::ParseXS   3.22    
    File::Spec          3.40    
    JSON                2.90    
    JSON::PP            2.27203 
    Module::Build       0.4203  
    Module::Signature   n/a     
    Parse::CPAN::Meta   1.4414  
    Test::Harness       3.30    
    Test::More          1.001002
    YAML                0.90    
    YAML::Syck          1.27    
    version             0.9904  


--

Summary of my perl5 (revision 5 version 18 subversion 2) configuration:
   
  Platform:
    osname=MSWin32, osvers=6.2, archname=MSWin32-x86-multi-thread-64int
    uname='Win32 strawberry-perl 5.18.2.1 #1 Tue Jan  7 16:30:36 2014 i386'
    config_args='undef'
    hint=recommended, useposix=true, d_sigaction=undef
    useithreads=define, usemultiplicity=define
    useperlio=define, d_sfio=undef, uselargefiles=define, usesocks=undef
    use64bitint=define, use64bitall=undef, uselongdouble=undef
    usemymalloc=n, bincompat5005=undef
  Compiler:
    cc='gcc', ccflags =' -s -O2 -DWIN32  -DPERL_TEXTMODE_SCRIPTS -DPERL_IMPLICIT_CONTEXT -DPERL_IMPLICIT_SYS -DUSE_PERLIO -fno-strict-aliasing -mms-bitfields',
    optimize='-s -O2',
    cppflags='-DWIN32'
    ccversion='', gccversion='4.7.3', gccosandvers=''
    intsize=4, longsize=4, ptrsize=4, doublesize=8, byteorder=12345678
    d_longlong=define, longlongsize=8, d_longdbl=define, longdblsize=12
    ivtype='long long', ivsize=8, nvtype='double', nvsize=8, Off_t='long long', lseeksize=8
    alignbytes=8, prototype=define
  Linker and Libraries:
    ld='g++', ldflags ='-s -L"C:\strawberry182\perl\lib\CORE" -L"C:\strawberry182\c\lib"'
    libpth=C:\strawberry182\c\lib C:\strawberry182\c\i686-w64-mingw32\lib C:\strawberry182\c\lib\gcc\i686-w64-mingw32\4.7.3
    libs=-lmoldname -lkernel32 -luser32 -lgdi32 -lwinspool -lcomdlg32 -ladvapi32 -lshell32 -lole32 -loleaut32 -lnetapi32 -luuid -lws2_32 -lmpr -lwinmm -lversion -lodbc32 -lodbccp32 -lcomctl32
    perllibs=-lmoldname -lkernel32 -luser32 -lgdi32 -lwinspool -lcomdlg32 -ladvapi32 -lshell32 -lole32 -loleaut32 -lnetapi32 -luuid -lws2_32 -lmpr -lwinmm -lversion -lodbc32 -lodbccp32 -lcomctl32
    libc=, so=dll, useshrplib=true, libperl=libperl518.a
    gnulibc_version=''
  Dynamic Linking:
    dlsrc=dl_win32.xs, dlext=dll, d_dlsymun=undef, ccdlflags=' '
    cccdlflags=' ', lddlflags='-mdll -s -L"C:\strawberry182\perl\lib\CORE" -L"C:\strawberry182\c\lib"'


Characteristics of this binary (from libperl): 
  Compile-time options: HAS_TIMES HAVE_INTERP_INTERN MULTIPLICITY
                        PERLIO_LAYERS PERL_DONT_CREATE_GVSV
                        PERL_HASH_FUNC_ONE_AT_A_TIME_HARD
                        PERL_IMPLICIT_CONTEXT PERL_IMPLICIT_SYS
                        PERL_MALLOC_WRAP PERL_PRESERVE_IVUV PERL_SAWAMPERSAND
                        USE_64_BIT_INT USE_ITHREADS USE_LARGE_FILES
                        USE_LOCALE USE_LOCALE_COLLATE USE_LOCALE_CTYPE
                        USE_LOCALE_NUMERIC USE_PERLIO USE_PERL_ATOF
  Built under MSWin32
  Compiled at Jan  7 2014 16:39:31
  %ENV:
    PERL5LIB="C:\strawberry182\cpan\build\aliased-0.34-0/blib/arch;C:\strawberry182\cpan\build\aliased-0.34-0/blib/lib;C:\strawberry182\cpan\build\Module-Build-Tiny-0.039-0/blib/arch;C:\strawberry182\cpan\build\Module-Build-Tiny-0.039-0/blib/lib;C:\strawberry182\cpan\build\Text-Brew-0.02-0/blib/arch;C:\strawberry182\cpan\build\Text-Brew-0.02-0/blib/lib;C:\strawberry182\cpan\build\Test-Roo-1.004-0/blib/arch;C:\strawberry182\cpan\build\Test-Roo-1.004-0/blib/lib;C:\strawberry182\cpan\build\Moo-2.003006-0/blib/arch;C:\strawberry182\cpan\build\Moo-2.003006-0/blib/lib;C:\strawberry182\cpan\build\Sub-Quote-2.006006-0/blib/arch;C:\strawberry182\cpan\build\Sub-Quote-2.006006-0/blib/lib;C:\strawberry182\cpan\build\Role-Tiny-2.001004-0/blib/arch;C:\strawberry182\cpan\build\Role-Tiny-2.001004-0/blib/lib;C:\strawberry182\cpan\build\DBIx-Class-Candy-0.005003-0/blib/arch;C:\strawberry182\cpan\build\DBIx-Class-Candy-0.005003-0/blib/lib"
    PERL5_CPANPLUS_IS_RUNNING="868"
    PERL5_CPAN_IS_RUNNING="868"
    PERL5_CPAN_IS_RUNNING_IN_RECURSION="1552,868"
    PERL_CR_SMOKER_CURRENT="DBIx-Class-Helpers-2.036000"
    PERL_CR_SMOKER_RUNONCE="1"
    PERL_EXTUTILS_AUTOINSTALL="--defaultdeps"
    PERL_HASH_SEED="0x11111111"
    PERL_MM_USE_DEFAULT="1"
  @INC:
    C:\strawberry182\cpan\build\aliased-0.34-0/blib/arch
    C:\strawberry182\cpan\build\aliased-0.34-0/blib/lib
    C:\strawberry182\cpan\build\Module-Build-Tiny-0.039-0/blib/arch
    C:\strawberry182\cpan\build\Module-Build-Tiny-0.039-0/blib/lib
    C:\strawberry182\cpan\build\Text-Brew-0.02-0/blib/arch
    C:\strawberry182\cpan\build\Text-Brew-0.02-0/blib/lib
    C:\strawberry182\cpan\build\Test-Roo-1.004-0/blib/arch
    C:\strawberry182\cpan\build\Test-Roo-1.004-0/blib/lib
    C:\strawberry182\cpan\build\Moo-2.003006-0/blib/arch
    C:\strawberry182\cpan\build\Moo-2.003006-0/blib/lib
    C:\strawberry182\cpan\build\Sub-Quote-2.006006-0/blib/arch
    C:\strawberry182\cpan\build\Sub-Quote-2.006006-0/blib/lib
    C:\strawberry182\cpan\build\Role-Tiny-2.001004-0/blib/arch
    C:\strawberry182\cpan\build\Role-Tiny-2.001004-0/blib/lib
    C:\strawberry182\cpan\build\DBIx-Class-Candy-0.005003-0/blib/arch
    C:\strawberry182\cpan\build\DBIx-Class-Candy-0.005003-0/blib/lib
    C:/strawberry182/perl/site/lib
    C:/strawberry182/perl/vendor/lib
    C:/strawberry182/perl/lib
    .