WWW-Shorten-Yourls v1.001 Perl 5 v5.27.4 x86_64-linux
- Status
- Pass
- From
- Andreas J. König (ANDK)
- Dist
-
WWW-Shorten-Yourls v1.001
- Platform
- Perl 5 v5.27.4 x86_64-linux
- Date
- 2017-10-05 23:02:44
- ID
- 4be7c688-aa21-11e7-88f0-464896210b79
This distribution has been tested as part of the CPAN Testers
project, supporting the Perl programming language. See
http://wiki.cpantesters.org/ for more information or email
questions to cpan-testers-discuss@perl.org
--
Dear Chase Whitener,
This is a computer-generated report for WWW-Shorten-Yourls-1.001
on perl 5.27.4, created by CPAN-Reporter-1.2018.
Thank you for uploading your work to CPAN. Congratulations!
All tests were successful.
Sections of this report:
* Tester comments
* Program output
* Prerequisites
* Environment and other context
------------------------------
TESTER COMMENTS
------------------------------
Additional comments from tester:
this report is from an automated smoke testing program
and was not reviewed by a human for accuracy
------------------------------
PROGRAM OUTPUT
------------------------------
Output from '/usr/bin/make test':
PERL_DL_NONLAZY=1 "/home/sand/src/perl/repoperls/installed-perls/host/k93msid/v5.27.4/d2d1/bin/perl" "-MExtUtils::Command::MM" "-MTest::Harness" "-e" "undef *Test::Harness::Switches; test_harness(0, 'blib/lib', 'blib/arch')" t/*.t
#
# Versions for all modules listed in MYMETA.json (including optional ones):
#
# === Configure Requires ===
#
# Module Want Have
# ------------------- ---- ----
# ExtUtils::MakeMaker any 7.30
#
# === Build Requires ===
#
# Module Want Have
# ------------------- ---- ----
# ExtUtils::MakeMaker any 7.30
#
# === Test Requires ===
#
# Module Want Have
# ------------------- ---- --------
# ExtUtils::MakeMaker any 7.30
# File::HomeDir 1.00 1.002
# File::Spec any 3.68
# Path::Tiny any 0.104
# Test::More 0.88 1.302096
# Try::Tiny 0.24 0.28
# URI 1.58 1.72
#
# === Test Recommends ===
#
# Module Want Have
# ---------- -------- --------
# CPAN::Meta 2.120900 2.150010
#
# === Runtime Requires ===
#
# Module Want Have
# -------------------- ---- --------
# Carp any 1.43
# Exporter any 5.72
# File::HomeDir 1.00 1.002
# File::Spec any 3.68
# JSON::MaybeXS any 1.003009
# LWP::Protocol::https any 6.07
# Path::Tiny any 0.104
# Scalar::Util any 1.48
# URI 1.58 1.72
# WWW::Shorten 3.09 3.093
# base any 2.26
# constant any 1.33
# strict any 1.11
# warnings any 1.37
#
t/00-report-prereqs.t .. ok
t/01-use.t ............. ok
t/01-use2.t ............ ok
t/02-attrs.t ........... ok
t/02-attrs2.t .......... ok
All tests successful.
Files=5, Tests=58, 3 wallclock secs ( 0.04 usr 0.03 sys + 0.66 cusr 0.13 csys = 0.86 CPU)
Result: PASS
------------------------------
PREREQUISITES
------------------------------
Prerequisite modules loaded:
requires:
Module Need Have
-------------------- -------- --------
base 0 2.26
Carp 0 1.43
constant 0 1.33
Exporter 0 5.72
File::HomeDir 1.00 1.002
File::Spec 0 3.68
JSON::MaybeXS 0 1.003009
LWP::Protocol::https 0 6.07
Path::Tiny 0 0.104
perl 5.008001 5.027004
Scalar::Util 0 1.48
strict 0 1.11
URI 1.58 1.72
warnings 0 1.37
WWW::Shorten 3.09 3.093
build_requires:
Module Need Have
-------------------- -------- --------
ExtUtils::MakeMaker 0 7.30
File::HomeDir 1.00 1.002
File::Spec 0 3.68
Path::Tiny 0 0.104
Test::More 0.88 1.302096
Try::Tiny 0.24 0.28
URI 1.58 1.72
configure_requires:
Module Need Have
-------------------- -------- --------
ExtUtils::MakeMaker 0 7.30
------------------------------
ENVIRONMENT AND OTHER CONTEXT
------------------------------
Environment variables:
AUTOMATED_TESTING = 1
LANG = en_US.UTF-8
PATH = /home/sand/bin:/usr/local/bin:/usr/bin:/bin:/usr/games:/usr/local/perl/bin:/usr/X11/bin:/sbin:/usr/sbin
PERL5LIB = /tmp/loop_over_bdir-23368-zBbKuM/WWW-Shorten-3.093-0/blib/arch:/tmp/loop_over_bdir-23368-zBbKuM/WWW-Shorten-3.093-0/blib/lib
PERL5OPT =
PERL5_CPANPLUS_IS_RUNNING = 23382
PERL5_CPAN_IS_RUNNING = 23382
PERL5_CPAN_IS_RUNNING_IN_RECURSION = 15736,23382
PERL_CANARY_STABILITY_NOPROMPT = 1
PERL_MM_USE_DEFAULT = 1
PERL_USE_UNSAFE_INC = 1
SHELL = /usr/bin/zsh
TERM = screen
Perl special variables (and OS-specific diagnostics, for MSWin32):
$^X = /home/sand/src/perl/repoperls/installed-perls/host/k93msid/v5.27.4/d2d1/bin/perl
$UID/$EUID = 1005 / 1005
$GID = 1005 1005
$EGID = 1005 1005
Perl module toolchain versions installed:
Module Have
------------------- --------
CPAN 2.18
CPAN::Meta 2.150010
Cwd 3.68
ExtUtils::CBuilder 0.280228
ExtUtils::Command 7.30
ExtUtils::Install 2.14
ExtUtils::MakeMaker 7.30
ExtUtils::Manifest 1.70
ExtUtils::ParseXS 3.35
File::Spec 3.68
JSON 2.94
JSON::PP 2.94
Module::Build 0.4224
Module::Signature 0.81
Parse::CPAN::Meta 2.150010
Test::Harness 3.39
Test::More 1.302096
YAML 1.23
YAML::Syck 1.30
version 0.9918
--
Summary of my perl5 (revision 5 version 27 subversion 4) configuration:
Commit id: a8b7548118623521a01940403176f14c40bf1320
Platform:
osname=linux
osvers=4.12.0-2-amd64
archname=x86_64-linux
uname='linux k93msid 4.12.0-2-amd64 #1 smp debian 4.12.13-1 (2017-09-19) x86_64 gnulinux '
config_args='-Dprefix=/home/sand/src/perl/repoperls/installed-perls/host/k93msid/v5.27.4/d2d1 -Dmyhostname=k93msid -Dinstallusrbinperl=n -Uversiononly -Dusedevel -des -Ui_db -Dlibswanted=cl pthread socket inet nsl gdbm dbm malloc dl ld sun m crypt sec util c cposix posix ucb BSD gdbm_compat -Uuseithreads -Uuselongdouble -DDEBUGGING=both'
hint=recommended
useposix=true
d_sigaction=define
useithreads=undef
usemultiplicity=undef
use64bitint=define
use64bitall=define
uselongdouble=undef
usemymalloc=n
default_inc_excludes_dot=define
bincompat5005=undef
Compiler:
cc='cc'
ccflags ='-fwrapv -DDEBUGGING -fno-strict-aliasing -pipe -fstack-protector-strong -I/usr/local/include -D_LARGEFILE_SOURCE -D_FILE_OFFSET_BITS=64 -D_FORTIFY_SOURCE=2'
optimize='-O2 -g'
cppflags='-fwrapv -DDEBUGGING -fno-strict-aliasing -pipe -fstack-protector-strong -I/usr/local/include'
ccversion=''
gccversion='7.2.0'
gccosandvers=''
intsize=4
longsize=8
ptrsize=8
doublesize=8
byteorder=12345678
doublekind=3
d_longlong=define
longlongsize=8
d_longdbl=define
longdblsize=16
longdblkind=3
ivtype='long'
ivsize=8
nvtype='double'
nvsize=8
Off_t='off_t'
lseeksize=8
alignbytes=8
prototype=define
Linker and Libraries:
ld='cc'
ldflags =' -fstack-protector-strong -L/usr/local/lib'
libpth=/usr/local/lib /usr/lib/gcc/x86_64-linux-gnu/7/include-fixed /usr/include/x86_64-linux-gnu /usr/lib /lib/x86_64-linux-gnu /lib/../lib /usr/lib/x86_64-linux-gnu /usr/lib/../lib /lib
libs=-lpthread -lnsl -ldl -lm -lcrypt -lutil -lc
perllibs=-lpthread -lnsl -ldl -lm -lcrypt -lutil -lc
libc=libc-2.24.so
so=so
useshrplib=false
libperl=libperl.a
gnulibc_version='2.24'
Dynamic Linking:
dlsrc=dl_dlopen.xs
dlext=so
d_dlsymun=undef
ccdlflags='-Wl,-E'
cccdlflags='-fPIC'
lddlflags='-shared -O2 -g -L/usr/local/lib -fstack-protector-strong'
Characteristics of this binary (from libperl):
Compile-time options:
DEBUGGING
HAS_TIMES
PERLIO_LAYERS
PERL_COPY_ON_WRITE
PERL_DONT_CREATE_GVSV
PERL_MALLOC_WRAP
PERL_OP_PARENT
PERL_PRESERVE_IVUV
PERL_USE_DEVEL
USE_64_BIT_ALL
USE_64_BIT_INT
USE_LARGE_FILES
USE_LOCALE
USE_LOCALE_COLLATE
USE_LOCALE_CTYPE
USE_LOCALE_NUMERIC
USE_LOCALE_TIME
USE_PERLIO
USE_PERL_ATOF
Built under linux
Compiled at Oct 1 2017 21:17:24
%ENV:
PERL5LIB="/tmp/loop_over_bdir-23368-zBbKuM/WWW-Shorten-3.093-0/blib/arch:/tmp/loop_over_bdir-23368-zBbKuM/WWW-Shorten-3.093-0/blib/lib"
PERL5OPT=""
PERL5_CPANPLUS_IS_RUNNING="23382"
PERL5_CPAN_IS_RUNNING="23382"
PERL5_CPAN_IS_RUNNING_IN_RECURSION="15736,23382"
PERL_CANARY_STABILITY_NOPROMPT="1"
PERL_MM_USE_DEFAULT="1"
PERL_USE_UNSAFE_INC="1"
@INC:
/tmp/loop_over_bdir-23368-zBbKuM/WWW-Shorten-3.093-0/blib/arch
/tmp/loop_over_bdir-23368-zBbKuM/WWW-Shorten-3.093-0/blib/lib
/home/sand/src/perl/repoperls/installed-perls/host/k93msid/v5.27.4/d2d1/lib/site_perl/5.27.4/x86_64-linux
/home/sand/src/perl/repoperls/installed-perls/host/k93msid/v5.27.4/d2d1/lib/site_perl/5.27.4
/home/sand/src/perl/repoperls/installed-perls/host/k93msid/v5.27.4/d2d1/lib/5.27.4/x86_64-linux
/home/sand/src/perl/repoperls/installed-perls/host/k93msid/v5.27.4/d2d1/lib/5.27.4
.