Starman v0.4017 Perl 5 v5.32.1 x86_64-linux-thread-multi-ld
- Status
- Pass
- From
- Andreas J. König (ANDK)
- Dist
-
Starman v0.4017
- Platform
- Perl 5 v5.32.1 x86_64-linux-thread-multi-ld
- Date
- 2024-02-02 12:48:00
- ID
- 4c6026a2-c1c9-11ee-81b5-8d24f039ac2a
This distribution has been tested as part of the CPAN Testers
project, supporting the Perl programming language. See
http://wiki.cpantesters.org/ for more information or email
questions to cpan-testers-discuss@perl.org
--
Dear Tatsuhiko Miyagawa,
This is a computer-generated report for Starman-0.4017
on perl 5.32.1, created by CPAN-Reporter-1.2019.
Thank you for uploading your work to CPAN. Congratulations!
All tests were successful.
Sections of this report:
* Tester comments
* Program output
* Prerequisites
* Environment and other context
------------------------------
TESTER COMMENTS
------------------------------
Additional comments from tester:
this report is from an automated smoke testing program
and was not reviewed by a human for accuracy
------------------------------
PROGRAM OUTPUT
------------------------------
Output from './Build test':
t/00_compile.t ........... ok
t/author-pod-syntax.t .... skipped: these tests are for testing by the author
2024/02/02-13:47:16 Starman::Server (type Net::Server::PreFork) starting! pid(156148)
Binding to TCP port 35113 on host 127.0.0.1 with IPv4
Setting gid to "1005 1005 1005"
2024/02/02-13:47:16 Server closing!
t/chunked_req.t .......... ok
t/chunked_termination.t .. ok
2024/02/02-13:47:16 Starman::Server (type Net::Server::PreFork) starting! pid(156156)
Binding to TCP port 35329 on host 127.0.0.1 with IPv4
Setting gid to "1005 1005 1005"
2024/02/02-13:47:16 Server closing!
t/chunked_zero_length.t .. ok
2024/02/02-13:47:16 Starman::Server (type Net::Server::PreFork) starting! pid(156163)
Binding to TCP port 45083 on host 127.0.0.1 with IPv4
Setting gid to "1005 1005 1005"
2024/02/02-13:47:16 Server closing!
t/early-hints.t .......... ok
2024/02/02-13:47:17 Starman::Server (type Net::Server::PreFork) starting! pid(156170)
Binding to TCP port 35855 on host 127.0.0.1 with IPv4
Setting gid to "1005 1005 1005"
2024/02/02-13:47:18 Server closing!
t/eintr.t ................ ok
2024/02/02-13:47:18 Starman::Server (type Net::Server::PreFork) starting! pid(156178)
Binding to TCP port 34791 on host 127.0.0.1 with IPv4
Setting gid to "1005 1005 1005"
2024/02/02-13:47:18 Server closing!
t/expect.t ............... ok
2024/02/02-13:47:18 Starman::Server (type Net::Server::PreFork) starting! pid(156187)
Binding to TCP port 43597 on host 127.0.0.1 with IPv4
Setting gid to "1005 1005 1005"
2024/02/02-13:47:18 Server closing!
2024/02/02-13:47:18 Starman::Server (type Net::Server::PreFork) starting! pid(156193)
Binding to TCP port 42513 on host 127.0.0.1 with IPv4
Setting gid to "1005 1005 1005"
2024/02/02-13:47:18 Server closing!
Accept failed with 29 tries left: Invalid argument
Accept failed with 28 tries left: Invalid argument
Accept failed with 27 tries left: Invalid argument
Accept failed with 26 tries left: Invalid argument
Accept failed with 25 tries left: Invalid argument
Accept failed with 24 tries left: Invalid argument
Accept failed with 23 tries left: Invalid argument
Accept failed with 22 tries left: Invalid argument
Accept failed with 21 tries left: Invalid argument
Accept failed with 20 tries left: Invalid argument
Accept failed with 19 tries left: Invalid argument
Accept failed with 18 tries left: Invalid argument
Accept failed with 17 tries left: Invalid argument
Accept failed with 16 tries left: Invalid argument
Accept failed with 15 tries left: Invalid argument
Accept failed with 14 tries left: Invalid argument
Accept failed with 13 tries left: Invalid argument
Accept failed with 12 tries left: Invalid argument
Accept failed with 11 tries left: Invalid argument
Accept failed with 10 tries left: Invalid argument
Accept failed with 9 tries left: Invalid argument
Accept failed with 8 tries left: Invalid argument
Accept failed with 7 tries left: Invalid argument
Accept failed with 6 tries left: Invalid argument
Accept failed with 5 tries left: Invalid argument
Accept failed with 4 tries left: Invalid argument
Accept failed with 3 tries left: Invalid argument
Accept failed with 2 tries left: Invalid argument
Accept failed with 1 tries left: Invalid argument
Accept failed with 0 tries left: Invalid argument
Ran out of accept retries!
t/harakiri.t ............. ok
2024/02/02-13:47:49 Starman::Server (type Net::Server::PreFork) starting! pid(156226)
Binding to TCP port 44879 on host 127.0.0.1 with IPv4
Setting gid to "1005 1005 1005"
2024/02/02-13:47:49 Server closing!
t/lf_only_request.t ...... ok
2024/02/02-13:47:49 Starman::Server (type Net::Server::PreFork) starting! pid(156233)
Binding to TCP port 37157 on host 127.0.0.1 with IPv4
Setting gid to "1005 1005 1005"
2024/02/02-13:47:49 Server closing!
t/no_chunked_head.t ...... ok
t/release-findbin.t ...... skipped: these tests are for release candidate testing
t/release-rand.t ......... skipped: these tests are for release candidate testing
2024/02/02-13:47:50 Starman::Server (type Net::Server::PreFork) starting! pid(156242)
Binding to TCP port 40865 on host 127.0.0.1 with IPv4
Setting gid to "1005 1005 1005"
2024/02/02-13:47:50 Server closing!
t/single_zero.t .......... ok
2024/02/02-13:47:50 Starman::Server (type Net::Server::PreFork) starting! pid(156249)
Resolved [localhost]:36919 to [::1]:36919, IPv6
Resolved [localhost]:36919 to [127.0.0.1]:36919, IPv4
Binding to SSL port 36919 on host ::1 with IPv6
Binding to SSL port 36919 on host 127.0.0.1 with IPv4
Setting gid to "1005 1005 1005"
Passed serialize value of none is incompatible with multiple ports - using default serialize
Could not finalize SSL connection with client handle (SSL accept attempt failed error:0A000126:SSL routines::unexpected eof while reading)
Child process 156250 exited with status 255
2024/02/02-13:47:50 Server closing!
t/ssl.t .................. ok
2024/02/02-13:47:51 Starman::Server (type Net::Server::PreFork) starting! pid(156257)
Resolved [localhost]:33473 to [::1]:33473, IPv6
Resolved [localhost]:33473 to [127.0.0.1]:33473, IPv4
Binding to SSL port 33473 on host ::1 with IPv6
Binding to SSL port 33473 on host 127.0.0.1 with IPv4
Setting gid to "1005 1005 1005"
Passed serialize value of none is incompatible with multiple ports - using default serialize
Could not finalize SSL connection with client handle (SSL accept attempt failed error:0A000126:SSL routines::unexpected eof while reading)
Child process 156258 exited with status 255
2024/02/02-13:47:51 Server closing!
t/ssl_largebody.t ........ ok
2024/02/02-13:47:51 Starman::Server (type Net::Server::PreFork) starting! pid(156265)
Binding to TCP port 35215 on host 127.0.0.1 with IPv4
Setting gid to "1005 1005 1005"
2024/02/02-13:47:51 Server closing!
t/suite.t ................ ok
All tests successful.
Files=17, Tests=125, 36 wallclock secs ( 0.06 usr 0.07 sys + 2.69 cusr 0.98 csys = 3.80 CPU)
Result: PASS
------------------------------
PREREQUISITES
------------------------------
Prerequisite modules loaded:
requires:
Module Need Have
------------------- -------- --------
Data::Dump 0 1.25
HTTP::Date 0 6.05
HTTP::Parser::XS 0 0.17
HTTP::Status 0 6.45
Net::Server 2.007 2.014
parent 0 0.241
perl 5.008001 5.032001
Plack 0.9971 1.0051
Test::TCP 2.00 2.22
build_requires:
Module Need Have
------------------- -------- --------
LWP::UserAgent 0 6.68
Test::More 0 1.302195
Test::Requires 0 0.11
configure_requires:
Module Need Have
------------------- -------- --------
Module::Build::Tiny 0.034 0.047
------------------------------
ENVIRONMENT AND OTHER CONTEXT
------------------------------
Environment variables:
AUTOMATED_TESTING = 1
LANG = en_US.UTF-8
LANGUAGE = en_US:en
PATH = /home/sand/bin:/usr/local/bin:/usr/bin:/bin:/usr/games:/usr/local/perl/bin:/usr/X11/bin:/sbin:/usr/sbin
PERL5LIB =
PERL5OPT =
PERL5_CPANPLUS_IS_RUNNING = 155893
PERL5_CPAN_IS_RUNNING = 155893
PERL_CANARY_STABILITY_NOPROMPT = 1
PERL_MM_USE_DEFAULT = 1
PERL_USE_UNSAFE_INC = 1
SHELL = /usr/bin/zsh
TERM = screen
Perl special variables (and OS-specific diagnostics, for MSWin32):
$^X = /home/sand/src/perl/repoperls/installed-perls/host/k93msid/v5.32.1/8854/bin/perl
$UID/$EUID = 1005 / 1005
$GID = 1005 1005
$EGID = 1005 1005
Perl module toolchain versions installed:
Module Have
------------------- --------
CPAN 2.36
CPAN::Meta 2.150010
Cwd 3.78
ExtUtils::CBuilder 0.280236
ExtUtils::Command 7.70
ExtUtils::Install 2.14
ExtUtils::MakeMaker 7.70
ExtUtils::Manifest 1.72
ExtUtils::ParseXS 3.51
File::Spec 3.78
JSON 4.10
JSON::PP 4.17_01
Module::Build 0.4232
Module::Signature 0.88
Parse::CPAN::Meta 2.150010
Test2 1.302195
Test::Harness 3.45_01
Test::More 1.302195
YAML 1.30
YAML::Syck 1.34
version 0.9929
--
Summary of my perl5 (revision 5 version 32 subversion 1) configuration:
Commit id: df9d952d734ef94233ed84af97ca318d7972eed0
Platform:
osname=linux
osvers=6.1.0-5-amd64
archname=x86_64-linux-thread-multi-ld
uname='linux k93msid 6.1.0-5-amd64 #1 smp preempt_dynamic debian 6.1.12-1 (2023-02-15) x86_64 gnulinux '
config_args='-Dprefix=/home/sand/src/perl/repoperls/installed-perls/host/k93msid/v5.32.1/8854 -Dmyhostname=k93msid -Dinstallusrbinperl=n -Uversiononly -Dusedevel -des -Ui_db -Dlibswanted=cl pthread socket inet nsl gdbm dbm malloc dl ld sun m crypt sec util c cposix posix ucb BSD gdbm_compat -Duseithreads -Duselongdouble -DEBUGGING=-g'
hint=recommended
useposix=true
d_sigaction=define
useithreads=define
usemultiplicity=define
use64bitint=define
use64bitall=define
uselongdouble=define
usemymalloc=n
default_inc_excludes_dot=define
bincompat5005=undef
Compiler:
cc='cc'
ccflags ='-D_REENTRANT -D_GNU_SOURCE -fwrapv -fno-strict-aliasing -pipe -fstack-protector-strong -I/usr/local/include -D_LARGEFILE_SOURCE -D_FILE_OFFSET_BITS=64 -D_FORTIFY_SOURCE=2'
optimize='-O2 -g'
cppflags='-D_REENTRANT -D_GNU_SOURCE -fwrapv -fno-strict-aliasing -pipe -fstack-protector-strong -I/usr/local/include'
ccversion=''
gccversion='12.2.0'
gccosandvers=''
intsize=4
longsize=8
ptrsize=8
doublesize=8
byteorder=12345678
doublekind=3
d_longlong=define
longlongsize=8
d_longdbl=define
longdblsize=16
longdblkind=3
ivtype='long'
ivsize=8
nvtype='long double'
nvsize=16
Off_t='off_t'
lseeksize=8
alignbytes=16
prototype=define
Linker and Libraries:
ld='cc'
ldflags =' -fstack-protector-strong -L/usr/local/lib'
libpth=/usr/local/lib /usr/include/x86_64-linux-gnu /usr/lib /lib/x86_64-linux-gnu /lib/../lib /usr/lib/x86_64-linux-gnu /usr/lib/../lib /lib /lib64 /usr/lib64
libs=-lpthread -lnsl -ldl -lm -lcrypt -lutil -lc
perllibs=-lpthread -lnsl -ldl -lm -lcrypt -lutil -lc
libc=/lib/x86_64-linux-gnu/libc.so.6
so=so
useshrplib=false
libperl=libperl.a
gnulibc_version='2.36'
Dynamic Linking:
dlsrc=dl_dlopen.xs
dlext=so
d_dlsymun=undef
ccdlflags='-Wl,-E'
cccdlflags='-fPIC'
lddlflags='-shared -O2 -g -L/usr/local/lib -fstack-protector-strong'
Characteristics of this binary (from libperl):
Compile-time options:
HAS_TIMES
MULTIPLICITY
PERLIO_LAYERS
PERL_COPY_ON_WRITE
PERL_DONT_CREATE_GVSV
PERL_IMPLICIT_CONTEXT
PERL_MALLOC_WRAP
PERL_OP_PARENT
PERL_PRESERVE_IVUV
PERL_USE_DEVEL
USE_64_BIT_ALL
USE_64_BIT_INT
USE_ITHREADS
USE_LARGE_FILES
USE_LOCALE
USE_LOCALE_COLLATE
USE_LOCALE_CTYPE
USE_LOCALE_NUMERIC
USE_LOCALE_TIME
USE_LONG_DOUBLE
USE_PERLIO
USE_PERL_ATOF
USE_REENTRANT_API
USE_THREAD_SAFE_LOCALE
Built under linux
Compiled at Mar 27 2023 05:45:46
%ENV:
PERL5LIB=""
PERL5OPT=""
PERL5_CPANPLUS_IS_RUNNING="155893"
PERL5_CPAN_IS_RUNNING="155893"
PERL_CANARY_STABILITY_NOPROMPT="1"
PERL_MM_USE_DEFAULT="1"
PERL_USE_UNSAFE_INC="1"
@INC:
/home/sand/src/perl/repoperls/installed-perls/host/k93msid/v5.32.1/8854/lib/site_perl/5.32.1/x86_64-linux-thread-multi-ld
/home/sand/src/perl/repoperls/installed-perls/host/k93msid/v5.32.1/8854/lib/site_perl/5.32.1
/home/sand/src/perl/repoperls/installed-perls/host/k93msid/v5.32.1/8854/lib/5.32.1/x86_64-linux-thread-multi-ld
/home/sand/src/perl/repoperls/installed-perls/host/k93msid/v5.32.1/8854/lib/5.32.1
.