Report for Dist-Zilla-Plugin-SpellingCommonMistakesTests-1.001000

Back
From: metabase:user:315f03b2-2aae-11df-837a-5e0a49663a4f
Subject: PASS Dist-Zilla-Plugin-SpellingCommonMistakesTests-1.001000 v5.16.2 SunOS/Solaris
Date: 2012-11-21T15:58:32Z

This distribution has been tested as part of the CPAN Testers
project, supporting the Perl programming language.  See
http://wiki.cpantesters.org/ for more information or email
questions to cpan-testers-discuss@perl.org


--
Dear Adam Lesperance,

This is a computer-generated report for Dist-Zilla-Plugin-SpellingCommonMistakesTests-1.001000
on perl 5.16.2, created by CPAN-Reporter-1.2006.

Thank you for uploading your work to CPAN.  Congratulations!
All tests were successful.

Sections of this report:

    * Tester comments
    * Program output
    * Prerequisites
    * Environment and other context

------------------------------
TESTER COMMENTS
------------------------------

Additional comments from tester:

this report is from an automated smoke testing program
and was not reviewed by a human for accuracy

------------------------------
PROGRAM OUTPUT
------------------------------

Output from './Build test':

t/00-compile.t .................. ok
# 
[Bootstrap::lib] lib added to @INC at (eval 4) line 1.
# 
# perl: v5.16.2 (wanted 5.008) on solaris from /export/home/smoke/perl5/perlbrew/perls/perl-5.16.2/bin/perl5.16.2
# 
# Dist::Zilla::Plugin::Bootstrap::lib           => 0.01023601 (want any version)
# Dist::Zilla::Plugin::InlineFiles              => 4.300028   (want any version)
# English                                       => 1.05       (want any version)
# File::Find                                    => 1.20       (want any version)
# File::Temp                                    => 0.22       (want any version)
# Module::Build                                 => 0.4003     (want 0.3601) 
# Moose                                         => 2.0604     (want any version)
# Pod::Spell::CommonMistakes                    => 1.000      (want any version)
# Test::More                                    => 0.98       (want 0.88)   
# Test::Pod::Spelling::CommonMistakes           => 1.000      (want any version)
# utf8                                          => 1.09       (want any version)
# 
# Thanks for using my code.  I hope it works for you.
# If not, please try and include this output in the bug report.
# That will help me reproduce the issue and solve you problem.
# 
t/000-report-versions-tiny.t .... ok
t/author-critic.t ............... skipped: these tests are for testing by the author
t/release-common_spelling.t ..... skipped: these tests are for release candidate testing
t/release-consistent-version.t .. skipped: these tests are for release candidate testing
t/release-cpan-changes.t ........ skipped: these tests are for release candidate testing
t/release-dist-manifest.t ....... skipped: these tests are for release candidate testing
t/release-distmeta.t ............ skipped: these tests are for release candidate testing
t/release-eol.t ................. skipped: these tests are for release candidate testing
t/release-has-version.t ......... skipped: these tests are for release candidate testing
t/release-kwalitee.t ............ skipped: these tests are for release candidate testing
t/release-minimum-version.t ..... skipped: these tests are for release candidate testing
t/release-no-tabs.t ............. skipped: these tests are for release candidate testing
t/release-pod-coverage.t ........ skipped: these tests are for release candidate testing
t/release-pod-syntax.t .......... skipped: these tests are for release candidate testing
t/release-portability.t ......... skipped: these tests are for release candidate testing
t/release-unused-vars.t ......... skipped: these tests are for release candidate testing
All tests successful.
Files=17, Tests=2,  6 wallclock secs ( 0.24 usr  0.09 sys +  5.06 cusr  0.74 csys =  6.13 CPU)
Result: PASS

------------------------------
PREREQUISITES
------------------------------

Prerequisite modules loaded:

requires:

    Module                              Need   Have      
    ----------------------------------- ------ ----------
    Dist::Zilla::Plugin::InlineFiles    0      4.300028  
    Moose                               0      2.0604    
    perl                                5.008  5.016002  
    Pod::Spell::CommonMistakes          0      1.000     
    Test::Pod::Spelling::CommonMistakes 0      1.000     
    utf8                                0      1.09      

build_requires:

    Module                              Need   Have      
    ----------------------------------- ------ ----------
    Dist::Zilla::Plugin::Bootstrap::lib 0      0.01023601
    English                             0      1.05      
    File::Find                          0      1.20      
    File::Temp                          0      0.22      
    Module::Build                       0.3601 0.4003    
    Test::More                          0.88   0.98      

configure_requires:

    Module                              Need   Have      
    ----------------------------------- ------ ----------
    Module::Build                       0.3601 0.4003    


------------------------------
ENVIRONMENT AND OTHER CONTEXT
------------------------------

Environment variables:

    AUTOMATED_TESTING = 1
    LANG = en_US.UTF-8
    LC_CTYPE = en_US.UTF-8
    PATH = /export/home/smoke/perl5/perlbrew/bin:/export/home/smoke/perl5/perlbrew/perls/perl-5.16.2/bin:/usr/local/bin:/usr/ccs/bin:/usr/bin
    PATH_WITHOUT_PERLBREW = /usr/local/bin:/usr/ccs/bin:/usr/bin
    PERL5LIB = /export/home/smoke/.cpan/build/Dist-Zilla-Util-Test-KENTNL-0.01015822-ds5h7M/blib/arch:/export/home/smoke/.cpan/build/Dist-Zilla-Util-Test-KENTNL-0.01015822-ds5h7M/blib/lib:/export/home/smoke/.cpan/build/Test-CheckDeps-0.002-gle7H0/blib/arch:/export/home/smoke/.cpan/build/Test-CheckDeps-0.002-gle7H0/blib/lib:/export/home/smoke/.cpan/build/CPAN-Meta-Check-0.004-cHaCDe/blib/arch:/export/home/smoke/.cpan/build/CPAN-Meta-Check-0.004-cHaCDe/blib/lib:/export/home/smoke/.cpan/build/CPAN-Meta-2.120921-RchZui/blib/arch:/export/home/smoke/.cpan/build/CPAN-Meta-2.120921-RchZui/blib/lib:/export/home/smoke/.cpan/build/CPAN-Meta-YAML-0.008-HgbRCd/blib/arch:/export/home/smoke/.cpan/build/CPAN-Meta-YAML-0.008-HgbRCd/blib/lib
    PERL5OPT = 
    PERL5_CPANPLUS_IS_RUNNING = 27751
    PERL5_CPAN_IS_RUNNING = 27751
    PERL5_CPAN_IS_RUNNING_IN_RECURSION = 15736,27751
    PERLBREW_PATH = /export/home/smoke/perl5/perlbrew/bin:/export/home/smoke/perl5/perlbrew/perls/perl-5.16.2/bin
    PERLBREW_PERL = perl-5.16.2
    PERLBREW_ROOT = /export/home/smoke/perl5/perlbrew
    PERLBREW_VERSION = 0.22
    PERL_CR_SMOKER_CURRENT = Dist-Zilla-PluginBundle-Author-DBR-0.777
    PERL_EXTUTILS_AUTOINSTALL = --defaultdeps
    PERL_MM_USE_DEFAULT = 1
    SHELL = /usr/bin/bash
    TERM = vt100

Perl special variables (and OS-specific diagnostics, for MSWin32):

    $^X = /export/home/smoke/perl5/perlbrew/perls/perl-5.16.2/bin/perl5.16.2
    $UID/$EUID = 101 / 101
    $GID = 1 1
    $EGID = 1 1

Perl module toolchain versions installed:

    Module              Have    
    ------------------- --------
    CPAN                1.9800  
    CPAN::Meta          2.120921
    Cwd                 3.39_02 
    ExtUtils::CBuilder  0.280206
    ExtUtils::Command   1.17    
    ExtUtils::Install   1.58    
    ExtUtils::MakeMaker 6.63_02 
    ExtUtils::Manifest  1.61    
    ExtUtils::ParseXS   3.18    
    File::Spec          3.39_02 
    JSON                2.53    
    JSON::PP            2.27200 
    Module::Build       0.4003  
    Module::Signature   n/a     
    Parse::CPAN::Meta   1.4404  
    Test::Harness       3.25    
    Test::More          0.98    
    YAML                0.84    
    YAML::Syck          1.21    
    version             0.9901  


--

Summary of my perl5 (revision 5 version 16 subversion 2) configuration:
   
  Platform:
    osname=solaris, osvers=2.10, archname=sun4-solaris-thread-multi-64int
    uname='sunos sparcy 5.10 generic_142909-17 sun4u sparc sunw,a70 '
    config_args='-de -Dprefix=/export/home/smoke/perl5/perlbrew/perls/perl-5.16.2 -Dcc=gcc -Dusethreads -Duse64bitint'
    hint=recommended, useposix=true, d_sigaction=define
    useithreads=define, usemultiplicity=define
    useperlio=define, d_sfio=undef, uselargefiles=define, usesocks=undef
    use64bitint=define, use64bitall=undef, uselongdouble=undef
    usemymalloc=n, bincompat5005=undef
  Compiler:
    cc='gcc', ccflags ='-D_REENTRANT -fno-strict-aliasing -pipe -I/usr/local/include -D_LARGEFILE_SOURCE -D_FILE_OFFSET_BITS=64 -DPERL_USE_SAFE_PUTENV -DPERL_USE_SAFE_PUTENV -DPERL_USE_SAFE_PUTENV -DPERL_USE_SAFE_PUTENV -DPERL_USE_SAFE_PUTENV',
    optimize='-O',
    cppflags='-D_REENTRANT -fno-strict-aliasing -pipe -I/usr/local/include'
    ccversion='', gccversion='3.4.6', gccosandvers='solaris2.10'
    intsize=4, longsize=4, ptrsize=4, doublesize=8, byteorder=87654321
    d_longlong=define, longlongsize=8, d_longdbl=define, longdblsize=16
    ivtype='long long', ivsize=8, nvtype='double', nvsize=8, Off_t='off_t', lseeksize=8
    alignbytes=8, prototype=define
  Linker and Libraries:
    ld='gcc', ldflags =' -L/usr/local/lib '
    libpth=/usr/local/lib /usr/lib /usr/ccs/lib
    libs=-lsocket -lnsl -lgdbm -ldl -lm -lpthread -lc
    perllibs=-lsocket -lnsl -ldl -lm -lpthread -lc
    libc=/lib/libc.so, so=so, useshrplib=false, libperl=libperl.a
    gnulibc_version=''
  Dynamic Linking:
    dlsrc=dl_dlopen.xs, dlext=so, d_dlsymun=undef, ccdlflags=' '
    cccdlflags='-fPIC', lddlflags='-G -L/usr/local/lib'


Characteristics of this binary (from libperl): 
  Compile-time options: HAS_TIMES MULTIPLICITY PERLIO_LAYERS
                        PERL_DONT_CREATE_GVSV PERL_IMPLICIT_CONTEXT
                        PERL_MALLOC_WRAP PERL_PRESERVE_IVUV
                        PERL_USE_SAFE_PUTENV USE_64_BIT_INT USE_ITHREADS
                        USE_LARGE_FILES USE_LOCALE USE_LOCALE_COLLATE
                        USE_LOCALE_CTYPE USE_LOCALE_NUMERIC USE_PERLIO
                        USE_PERL_ATOF USE_REENTRANT_API
  Built under solaris
  Compiled at Nov 15 2012 22:13:56
  %ENV:
    PERL5LIB="/export/home/smoke/.cpan/build/Dist-Zilla-Util-Test-KENTNL-0.01015822-ds5h7M/blib/arch:/export/home/smoke/.cpan/build/Dist-Zilla-Util-Test-KENTNL-0.01015822-ds5h7M/blib/lib:/export/home/smoke/.cpan/build/Test-CheckDeps-0.002-gle7H0/blib/arch:/export/home/smoke/.cpan/build/Test-CheckDeps-0.002-gle7H0/blib/lib:/export/home/smoke/.cpan/build/CPAN-Meta-Check-0.004-cHaCDe/blib/arch:/export/home/smoke/.cpan/build/CPAN-Meta-Check-0.004-cHaCDe/blib/lib:/export/home/smoke/.cpan/build/CPAN-Meta-2.120921-RchZui/blib/arch:/export/home/smoke/.cpan/build/CPAN-Meta-2.120921-RchZui/blib/lib:/export/home/smoke/.cpan/build/CPAN-Meta-YAML-0.008-HgbRCd/blib/arch:/export/home/smoke/.cpan/build/CPAN-Meta-YAML-0.008-HgbRCd/blib/lib"
    PERL5OPT=""
    PERL5_CPANPLUS_IS_RUNNING="27751"
    PERL5_CPAN_IS_RUNNING="27751"
    PERL5_CPAN_IS_RUNNING_IN_RECURSION="15736,27751"
    PERLBREW_PATH="/export/home/smoke/perl5/perlbrew/bin:/export/home/smoke/perl5/perlbrew/perls/perl-5.16.2/bin"
    PERLBREW_PERL="perl-5.16.2"
    PERLBREW_ROOT="/export/home/smoke/perl5/perlbrew"
    PERLBREW_VERSION="0.22"
    PERL_CR_SMOKER_CURRENT="Dist-Zilla-PluginBundle-Author-DBR-0.777"
    PERL_EXTUTILS_AUTOINSTALL="--defaultdeps"
    PERL_MM_USE_DEFAULT="1"
  @INC:
    /export/home/smoke/.cpan/build/Dist-Zilla-Util-Test-KENTNL-0.01015822-ds5h7M/blib/arch
    /export/home/smoke/.cpan/build/Dist-Zilla-Util-Test-KENTNL-0.01015822-ds5h7M/blib/lib
    /export/home/smoke/.cpan/build/Test-CheckDeps-0.002-gle7H0/blib/arch
    /export/home/smoke/.cpan/build/Test-CheckDeps-0.002-gle7H0/blib/lib
    /export/home/smoke/.cpan/build/CPAN-Meta-Check-0.004-cHaCDe/blib/arch
    /export/home/smoke/.cpan/build/CPAN-Meta-Check-0.004-cHaCDe/blib/lib
    /export/home/smoke/.cpan/build/CPAN-Meta-2.120921-RchZui/blib/arch
    /export/home/smoke/.cpan/build/CPAN-Meta-2.120921-RchZui/blib/lib
    /export/home/smoke/.cpan/build/CPAN-Meta-YAML-0.008-HgbRCd/blib/arch
    /export/home/smoke/.cpan/build/CPAN-Meta-YAML-0.008-HgbRCd/blib/lib
    /export/home/smoke/perl5/perlbrew/perls/perl-5.16.2/lib/site_perl/5.16.2/sun4-solaris-thread-multi-64int
    /export/home/smoke/perl5/perlbrew/perls/perl-5.16.2/lib/site_perl/5.16.2
    /export/home/smoke/perl5/perlbrew/perls/perl-5.16.2/lib/5.16.2/sun4-solaris-thread-multi-64int
    /export/home/smoke/perl5/perlbrew/perls/perl-5.16.2/lib/5.16.2
    .