Report for Test-AutoBuild-1.2.4

Back
From: metabase:user:9820532a-708b-1014-9a05-b18a96298da1
Subject: PASS Test-AutoBuild-1.2.4 v5.8.9 GNU/Linux
Date: 2011-10-18T06:34:58Z

This distribution has been tested as part of the CPAN Testers
project, supporting the Perl programming language.  See
http://wiki.cpantesters.org/ for more information or email
questions to cpan-testers-discuss@perl.org


--
Dear Daniel P. Berrange,

This is a computer-generated report for Test-AutoBuild-1.2.4
on perl 5.8.9, created by CPAN-Reporter-1.2002.

Thank you for uploading your work to CPAN.  Congratulations!
All tests were successful.

Sections of this report:

    * Tester comments
    * Program output
    * Prerequisites
    * Environment and other context

------------------------------
TESTER COMMENTS
------------------------------

Additional comments from tester:

this report is from an automated smoke testing program
and was not reviewed by a human for accuracy

------------------------------
PROGRAM OUTPUT
------------------------------

Output from '/usr/bin/make test':

if [ -d "/usr/share/selinux/devel" -a "0" = "1" ] ; then make -C conf/selinux ; fi
PERL_DL_NONLAZY=1 /home/test/perl5/perlbrew/perls/perl-5.8.9-th-ld/bin/perl "-MExtUtils::Command::MM" "-e" "test_harness(0, 'blib/lib', 'blib/arch')" t/*.t
t/005-pod.t .................... ok
t/008-meta.t ................... ok
t/010-pod-coverage.t ........... skipped: Disable coverage testing until POD is more complete
t/030-Platform.t ............... ok
t/040-Monitor.t ................ ok
t/050-Runtime.t ................ ok
t/060-Result.t ................. ok
t/061-Archive.t ................ ok
t/062-ArchiveManager.t ......... ok
t/063-Archive-File.t ........... ok
t/064-ArchiveManager-File.t .... ok
t/070-Lib.t .................... ok
t/080-PackageType.t ............ ok
t/090-Package.t ................ ok
t/100-Module.t ................. ok
t/105-Module-Archiving.t ....... ok
t/107-Module-Build.t ........... ok
t/110-Repository-Bzr.t ......... ok
t/110-Repository-CVS.t ......... ok
t/110-Repository-Darcs.t ....... ok
t/110-Repository-Disk.t ........ ok
t/110-Repository-Git.t ......... ok
t/110-Repository-GNUArch.t ..... ok
t/110-Repository-Mercurial.t ... ok
t/110-Repository-Monotone.t .... ok
t/110-Repository-Perforce.t .... ok
t/110-Repository-SVN.t ......... ok
t/110-Repository.t ............. ok
t/120-Monitor-Command.t ........ ok
t/120-Monitor-Log4perl.t ....... ok
t/120-Monitor-Pipe.t ........... ok
t/130-Publisher.t .............. ok
t/131-Publisher-Copy.t ......... ok
t/140-Lock.t ................... ok
t/145-Stage.t .................. ok
t/150-Stage-Apt.t .............. ok
t/150-Stage-ArtifactCopier.t ... ok
t/150-Stage-Build.t ............ ok
t/150-Stage-CleanBuildRoots.t .. ok
t/150-Stage-CleanPackages.t .... ok
# Test zero
# Global one
# Global two
# Global three
# Global four
# Global five
# Global six
# Global seven
# Module one
# Module two
# Module three
# Module four
# Module five
# Module six
# Module seven
t/150-Stage-EmailAlert.t ....... ok
t/150-Stage-GetSource.t ........ ok
t/150-Stage-Group.t ............ ok
t/150-Stage-HTMLStatus.t ....... ok
t/150-Stage-ISOBuilder.t ....... ok
t/150-Stage-Iterator.t ......... ok
t/150-Stage-LogCopier.t ........ ok
t/150-Stage-PackageCopier.t .... ok
t/150-Stage-SetNice.t .......... ok
t/150-Stage-Test.t ............. ok
t/200-AutoBuild.t .............. ok
All tests successful.
Files=51, Tests=956, 41 wallclock secs ( 0.34 usr  0.13 sys +  7.68 cusr  2.12 csys = 10.27 CPU)
Result: PASS

------------------------------
PREREQUISITES
------------------------------

Prerequisite modules loaded:

requires:

    Module              Need   Have   
    ------------------- ------ -------
    BSD::Resource       1.10   1.2904 
    Carp                0      1.23   
    Class::MethodMaker  0      2.18   
    Config              0      0      
    Config::Record      v1.1.0 1.1.2  
    Cwd                 0      3.33   
    Data::Dumper        0      2.131  
    Date::Manip         0      6.25   
    Digest::MD5         0      2.51   
    Fcntl               0      1.06   
    File::Copy          0      2.13   
    File::Find          0      1.13   
    File::Glob          0      1.06   
    File::Path          0      2.08   
    File::ReadBackwards 0      1.05   
    File::Spec          0      3.33   
    File::stat          0      1.01   
    IO::File            0      1.14   
    IO::Scalar          0      2.110  
    List::Util          0      1.23   
    Log::Log4perl       0      1.33   
    Net::SMTP           2.15   2.31   
    POSIX               0      1.15   
    Storable            0      2.30   
    Symbol              0      1.06   
    Sys::Hostname       0      1.11   
    Template            0      2.22   
    Test::More          0      0.98   
    XML::Simple         0      2.18   

build_requires:

    Module              Need   Have   
    ------------------- ------ -------
    ExtUtils::MakeMaker 0      6.61_01


------------------------------
ENVIRONMENT AND OTHER CONTEXT
------------------------------

Environment variables:

    AUTOMATED_TESTING = 1
    LANG = C
    LC_ALL = C
    PATH = /home/test/perl5/perlbrew/bin:/home/test/perl5/perlbrew/perls/perl-5.8.9-th-ld/bin:/home/test/bin:~/bin:/usr/bin:/bin
    PATH_WITHOUT_PERLBREW = /home/test/bin:~/bin:/usr/bin:/bin
    PERL5LIB = 
    PERL5OPT = 
    PERL5_CPANPLUS_IS_RUNNING = 19294
    PERL5_CPAN_IS_RUNNING = 19294
    PERL5_CPAN_IS_RUNNING_IN_RECURSION = 29853,19294
    PERLBREW_BASHRC_VERSION = 0.30
    PERLBREW_HOME = /home/test/.perlbrew
    PERLBREW_PATH = /home/test/perl5/perlbrew/bin:/home/test/perl5/perlbrew/perls/perl-5.8.9-th-ld/bin
    PERLBREW_PERL = perl-5.8.9-th-ld
    PERLBREW_ROOT = /home/test/perl5/perlbrew
    PERLBREW_VERSION = 0.30
    PERL_CPANM_OPT = --prompt --mirror file:///mirrors/cpan/
    PERL_CR_SMOKER_CURRENT = Test-AutoBuild-1.2.4
    PERL_EXTUTILS_AUTOINSTALL = --defaultdeps
    PERL_MM_USE_DEFAULT = 1
    SHELL = /bin/bash
    TERM = linux

Perl special variables (and OS-specific diagnostics, for MSWin32):

    $^X = /home/test/perl5/perlbrew/perls/perl-5.8.9-th-ld/bin/perl
    $UID/$EUID = 1001 / 1001
    $GID = 1001 1001
    $EGID = 1001 1001

Perl module toolchain versions installed:

    Module              Have    
    ------------------- --------
    CPAN                1.9800  
    CPAN::Meta          2.112621
    Cwd                 3.33    
    ExtUtils::CBuilder  0.280202
    ExtUtils::Command   1.16    
    ExtUtils::Install   1.54    
    ExtUtils::MakeMaker 6.61_01 
    ExtUtils::Manifest  1.58    
    ExtUtils::ParseXS   3.05    
    File::Spec          3.33    
    JSON                2.53    
    JSON::PP            2.27200 
    Module::Build       0.3800  
    Module::Signature   n/a     
    Parse::CPAN::Meta   1.4401  
    Test::Harness       3.23    
    Test::More          0.98    
    YAML                0.77    
    YAML::Syck          1.17    
    version             0.94    


--

Summary of my perl5 (revision 5 version 8 subversion 9) configuration:
  Platform:
    osname=linux, osvers=2.6.35-28-generic, archname=x86_64-linux-thread-multi-ld
    uname='linux zippy 2.6.35-28-generic #50-ubuntu smp fri mar 18 18:42:20 utc 2011 x86_64 gnulinux '
    config_args='-de -Dprefix=/home/test/perl5/perlbrew/perls/perl-5.8.9-th-ld -Dusethreads -Duselongdouble'
    hint=recommended, useposix=true, d_sigaction=define
    usethreads=define use5005threads=undef useithreads=define usemultiplicity=define
    useperlio=define d_sfio=undef uselargefiles=define usesocks=undef
    use64bitint=define use64bitall=define uselongdouble=define
    usemymalloc=n, bincompat5005=undef
  Compiler:
    cc='cc', ccflags ='-D_REENTRANT -D_GNU_SOURCE -fno-strict-aliasing -pipe -I/usr/local/include -D_LARGEFILE_SOURCE -D_FILE_OFFSET_BITS=64',
    optimize='-O2',
    cppflags='-D_REENTRANT -D_GNU_SOURCE -fno-strict-aliasing -pipe -I/usr/local/include'
    ccversion='', gccversion='4.4.5', gccosandvers=''
    intsize=4, longsize=8, ptrsize=8, doublesize=8, byteorder=12345678
    d_longlong=define, longlongsize=8, d_longdbl=define, longdblsize=16
    ivtype='long', ivsize=8, nvtype='long double', nvsize=16, Off_t='off_t', lseeksize=8
    alignbytes=16, prototype=define
  Linker and Libraries:
    ld='cc', ldflags =' -L/usr/local/lib'
    libpth=/usr/local/lib /lib/../lib /usr/lib/../lib /lib /usr/lib /usr/lib/x86_64-linux-gnu /lib64 /usr/lib64
    libs=-lnsl -ldl -lm -lcrypt -lutil -lpthread -lc
    perllibs=-lnsl -ldl -lm -lcrypt -lutil -lpthread -lc
    libc=/lib/libc-2.12.1.so, so=so, useshrplib=false, libperl=libperl.a
    gnulibc_version='2.12.1'
  Dynamic Linking:
    dlsrc=dl_dlopen.xs, dlext=so, d_dlsymun=undef, ccdlflags='-Wl,-E'
    cccdlflags='-fPIC', lddlflags='-shared -O2 -L/usr/local/lib'


Characteristics of this binary (from libperl): 
  Compile-time options: MULTIPLICITY PERL_IMPLICIT_CONTEXT PERL_MALLOC_WRAP
                        USE_64_BIT_ALL USE_64_BIT_INT USE_FAST_STDIO
                        USE_ITHREADS USE_LARGE_FILES USE_LONG_DOUBLE
                        USE_PERLIO USE_REENTRANT_API
  Built under linux
  Compiled at Oct 17 2011 10:24:42
  %ENV:
    PERL5LIB=""
    PERL5OPT=""
    PERL5_CPANPLUS_IS_RUNNING="19294"
    PERL5_CPAN_IS_RUNNING="19294"
    PERL5_CPAN_IS_RUNNING_IN_RECURSION="29853,19294"
    PERLBREW_BASHRC_VERSION="0.30"
    PERLBREW_HOME="/home/test/.perlbrew"
    PERLBREW_PATH="/home/test/perl5/perlbrew/bin:/home/test/perl5/perlbrew/perls/perl-5.8.9-th-ld/bin"
    PERLBREW_PERL="perl-5.8.9-th-ld"
    PERLBREW_ROOT="/home/test/perl5/perlbrew"
    PERLBREW_VERSION="0.30"
    PERL_CPANM_OPT="--prompt --mirror file:///mirrors/cpan/"
    PERL_CR_SMOKER_CURRENT="Test-AutoBuild-1.2.4"
    PERL_EXTUTILS_AUTOINSTALL="--defaultdeps"
    PERL_MM_USE_DEFAULT="1"
  @INC:
    /home/test/perl5/perlbrew/perls/perl-5.8.9-th-ld/lib/5.8.9/x86_64-linux-thread-multi-ld
    /home/test/perl5/perlbrew/perls/perl-5.8.9-th-ld/lib/5.8.9
    /home/test/perl5/perlbrew/perls/perl-5.8.9-th-ld/lib/site_perl/5.8.9/x86_64-linux-thread-multi-ld
    /home/test/perl5/perlbrew/perls/perl-5.8.9-th-ld/lib/site_perl/5.8.9
    .