Task-Template-Benchmark v1.00_01 Perl 5 v5.8.8 IP35-irix-64int

Status
Pass
From
David Cantrell (DCANTRELL)
Dist
Task-Template-Benchmark v1.00_01
Platform
Perl 5 v5.8.8 IP35-irix-64int
Date
2010-08-13 11:52:50
ID
4c8d131e-a6d1-11df-9615-d8da6ab1d73a
This distribution has been tested as part of the CPAN Testers
project, supporting the Perl programming language.  See
http://wiki.cpantesters.org/ for more information or email
questions to cpan-testers-discuss@perl.org


--
Dear Sam Graham,

This is a computer-generated report for Task-Template-Benchmark-1.00_01
on perl 5.8.8, created by CPAN-Reporter-1.1711.

Thank you for uploading your work to CPAN.  Congratulations!
All tests were successful.

Sections of this report:

    * Tester comments
    * Program output
    * Prerequisites
    * Environment and other context

------------------------------
TESTER COMMENTS
------------------------------

Additional comments from tester:

this report is from an automated smoke testing program
and was not reviewed by a human for accuracy

------------------------------
PROGRAM OUTPUT
------------------------------

Output from './Build test':

# Testing Task::Template::Benchmark 1.00_01, Perl 5.008008, /usr/people/drc/cpantesting/perl-5.8.8/bin/perl
t/00-load.t ....... ok
t/manifest.t ...... skipped: Author tests not required for installation
t/pod-coverage.t .. ok
t/pod.t ........... ok
All tests successful.
Files=4, Tests=3,  1 wallclock secs ( 0.12 usr  0.04 sys +  0.62 cusr  0.12 csys =  0.90 CPU)
Result: PASS

------------------------------
PREREQUISITES
------------------------------

Prerequisite modules loaded:

requires:

    Module                        Need   Have    
    ----------------------------- ------ --------
    Cache::Cache                  0      1.06    
    Cache::CacheFactory           0      1.10    
    Cache::FastMemoryCache        0      0.01    
    Cache::FastMmap               0      1.35    
    CHI                           0      0.36    
    File::Spec                    0      3.31    
    HTML::Template                0      2.9     
    HTML::Template::Compiled      0      0.94    
    HTML::Template::Expr          0      0.07    
    HTML::Template::JIT           0      0.05    
  ! HTML::Template::Pro           0      n/a     
    IO::File                      0      1.13    
    JSON::Any                     0      1.22    
    Mojo                          0      0.999926
    Mojo::Template                0      0       
    NTS::Template                 0      2.1     
  ! Template                      0      n/a     
    Template::Alloy               0      1.013   
    Template::Benchmark           0      1.07    
  ! Template::Parser::CET         0      n/a     
    Template::Sandbox             0      1.04    
  ! Template::Stash::XS           0      n/a     
    Template::Tiny                0      0.11    
    Tenjin                        0.05   0.062   
    Term::ProgressBar::Simple     0      0.03    
  ! Text::ClearSilver             0      n/a     
    Text::MicroMason              0      2.10    
    Text::MicroTemplate           0      0.15    
    Text::MicroTemplate::Extended 0      0.11    
    Text::Template                0      1.45    
    Text::Template::Simple        0      0.82    
    Text::Tmpl                    0      0.33    
  ! Text::Xslate                  0.1053 n/a     
  ! Text::Xslate::Bridge::TT2     1.0002 n/a     

build_requires:

    Module                        Need   Have    
    ----------------------------- ------ --------
    Module::Build                 0.36   0.3607  
    Test::More                    0      0.94    

configure_requires:

    Module                        Need   Have    
    ----------------------------- ------ --------
    Module::Build                 0.36   0.3607  


------------------------------
ENVIRONMENT AND OTHER CONTEXT
------------------------------

Environment variables:

    AUTOMATED_TESTING = 1
    LC_ALL = en
    PATH = /usr/people/drc/bin:/usr/people/drc/cpantesting/bin:/sbin:/usr/sbin:/usr/nekoware/sbin:/usr/nekoware/bin:/usr/bsd:/usr/bin:/etc:/usr/sysadm/privbin:/usr/etc:/usr/bin/X11:/usr/gfx:/usr/nekoware/mysql4/bin:/usr/nekoware/qt4/bin:/usr/nekoware/kde/bin:/usr/nekoware/php5/bin
    PERL5LIB = 
    PERL5OPT = 
    PERL5_CPANPLUS_IS_RUNNING = 5154966
    PERL5_CPAN_IS_RUNNING = 5154966
    PERLVER = 5.8.8
    SHELL = /usr/nekoware/bin/bash
    TERM = vt100

Perl special variables (and OS-specific diagnostics, for MSWin32):

    $^X = /usr/people/drc/cpantesting/perl-5.8.8/bin/perl
    $UID/$EUID = 25020 / 25020
    $GID = 20 20
    $EGID = 20 20

Perl module toolchain versions installed:

    Module              Have  
    ------------------- ------
    CPAN                1.9402
    Cwd                 3.31  
    ExtUtils::CBuilder  0.2703
    ExtUtils::Command   1.13  
    ExtUtils::Install   1.45  
    ExtUtils::MakeMaker 6.44  
    ExtUtils::Manifest  1.51  
    ExtUtils::ParseXS   2.2206
    File::Spec          3.31  
    Module::Build       0.3607
    Module::Signature   n/a   
    Test::Harness       3.21  
    Test::More          0.94  
    YAML                0.70  
    YAML::Syck          n/a   
    version             0.82  


--

Summary of my perl5 (revision 5 version 8 subversion 8) configuration:
  Platform:
    osname=irix, osvers=6.5, archname=IP35-irix-64int
    uname='irix64 o3k 6.5 07202013 ip35 '
    config_args='-de -Dprefix=/usr/people/drc/cpantesting/perl-5.8.8 -Duse64bitint'
    hint=recommended, useposix=true, d_sigaction=define
    usethreads=undef use5005threads=undef useithreads=undef usemultiplicity=undef
    useperlio=define d_sfio=undef uselargefiles=define usesocks=undef
    use64bitint=define use64bitall=undef uselongdouble=undef
    usemymalloc=n, bincompat5005=undef
  Compiler:
    cc='cc -n32', ccflags ='-D_BSD_TYPES -D_BSD_TIME -woff 1184,1552 -I/usr/local/include -DLANGUAGE_C',
    optimize='-O3 -OPT:Olimit=0:space=ON',
    cppflags='-D_BSD_TYPES -D_BSD_TIME -woff 1184,1552 -I/usr/local/include -DLANGUAGE_C'
    ccversion='MIPSpro Compilers: Version 7.4.4m', gccversion='', gccosandvers=''
    intsize=4, longsize=4, ptrsize=4, doublesize=8, byteorder=87654321
    d_longlong=define, longlongsize=8, d_longdbl=define, longdblsize=16
    ivtype='long long', ivsize=8, nvtype='double', nvsize=8, Off_t='off_t', lseeksize=8
    alignbytes=8, prototype=define
  Linker and Libraries:
    ld='cc -n32', ldflags =' -Wl,-woff,84 -L/usr/local/lib'
    libpth=/usr/local/lib /usr/lib32 /lib32 /lib /usr/lib
    libs=-ldb -lm -lc
    perllibs=-lm -lc
    libc=/usr/lib32/libc.so, so=so, useshrplib=false, libperl=libperl.a
    gnulibc_version=''
  Dynamic Linking:
    dlsrc=dl_dlopen.xs, dlext=so, d_dlsymun=undef, ccdlflags=' '
    cccdlflags=' ', lddlflags='-n32 -shared -L/usr/local/lib'


Characteristics of this binary (from libperl): 
  Compile-time options: USE_64_BIT_INT USE_LARGE_FILES USE_PERLIO
  Built under irix
  Compiled at Jun  5 2008 18:52:27
  %ENV:
    PERL5LIB=""
    PERL5OPT=""
    PERL5_CPANPLUS_IS_RUNNING="5154966"
    PERL5_CPAN_IS_RUNNING="5154966"
    PERLVER="5.8.8"
  @INC:
    /usr/people/drc/cpantesting/perl-5.8.8/lib/5.8.8/IP35-irix-64int
    /usr/people/drc/cpantesting/perl-5.8.8/lib/5.8.8
    /usr/people/drc/cpantesting/perl-5.8.8/lib/site_perl/5.8.8/IP35-irix-64int
    /usr/people/drc/cpantesting/perl-5.8.8/lib/site_perl/5.8.8
    /usr/people/drc/cpantesting/perl-5.8.8/lib/site_perl
    .