Report for Mojolicious-Command-generate-lexicont-0.05

Back
From: metabase:user:320bfe00-2aae-11df-837a-5e0a49663a4f
Subject: PASS Mojolicious-Command-generate-lexicont-0.05 v5.20.2 GNU/Linux
Date: 2015-04-17T13:26:05Z

This distribution has been tested as part of the CPAN Testers
project, supporting the Perl programming language.  See
http://wiki.cpantesters.org/ for more information or email
questions to cpan-testers-discuss@perl.org


--
Dear Tetsuya Tatsumi,

This is a computer-generated report for Mojolicious-Command-generate-lexicont-0.05
on perl 5.20.2, created by CPAN-Reporter-1.2014.

Thank you for uploading your work to CPAN.  Congratulations!
All tests were successful.

Sections of this report:

    * Tester comments
    * Program output
    * Prerequisites
    * Environment and other context

------------------------------
TESTER COMMENTS
------------------------------

Additional comments from tester:

this report is from an automated smoke testing program
and was not reviewed by a human for accuracy

------------------------------
PROGRAM OUTPUT
------------------------------

Output from './Build test':

t/args_0_1.t ....................... ok
t/args_2.t ......................... ok
t/args_3.t ......................... ok
t/cannot_translate.t ............... ok
t/config_file_read_error.t ......... ok
t/json_1.t ......................... ok
t/json_2.t ......................... ok
t/json_3.t ......................... ok
t/lingua_translate_create_error.t .. ok
t/org.t ............................ ok
t/src_lexicon_notfound.t ........... ok
All tests successful.
Files=11, Tests=62, 11 wallclock secs ( 0.04 usr  0.09 sys +  3.67 cusr  0.75 csys =  4.55 CPU)
Result: PASS

------------------------------
PREREQUISITES
------------------------------

Prerequisite modules loaded:

requires:

    Module              Need     Have        
    ------------------- -------- ------------
    Config::PL          0        0.02        
    Encode              0        2.73        
    Module::Load        0        0.32        
    Mojo::Base          0        0           
    perl                5.008005 5.020002    

build_requires:

    Module              Need     Have        
    ------------------- -------- ------------
    JSON                0        2.90        
    Mojolicious         0        6.08        
    Test::Exception     0        0.38        
    Test::More          0        1.301001_104
    Test::Warn          0        0.30        

configure_requires:

    Module              Need     Have        
    ------------------- -------- ------------
    CPAN::Meta          0        2.150001    
    CPAN::Meta::Prereqs 0        2.150001    
    Module::Build       0.38     0.4211      


------------------------------
ENVIRONMENT AND OTHER CONTEXT
------------------------------

Environment variables:

    AUTOMATED_TESTING = 1
    LANG = en_US.UTF-8
    LANGUAGE = en_US:en
    PATH = /home/sand/bin:/usr/local/bin:/usr/bin:/bin:/usr/games:/usr/local/perl/bin:/usr/X11/bin:/sbin:/usr/sbin
    PERL5LIB = 
    PERL5OPT = 
    PERL5_CPANPLUS_IS_RUNNING = 22420
    PERL5_CPAN_IS_RUNNING = 22420
    PERL_MM_USE_DEFAULT = 1
    SHELL = /usr/bin/zsh
    TERM = screen

Perl special variables (and OS-specific diagnostics, for MSWin32):

    $^X = /home/sand/src/perl/repoperls/installed-perls/perl/v5.20.2/9ab7/bin/perl
    $UID/$EUID = 1005 / 1005
    $GID = 1005 1005
    $EGID = 1005 1005

Perl module toolchain versions installed:

    Module              Have        
    ------------------- ------------
    CPAN                2.10        
    CPAN::Meta          2.150001    
    Cwd                 3.48_01     
    ExtUtils::CBuilder  0.280220    
    ExtUtils::Command   1.18        
    ExtUtils::Install   1.67        
    ExtUtils::MakeMaker 7.04        
    ExtUtils::Manifest  1.70        
    ExtUtils::ParseXS   3.24        
    File::Spec          3.48_01     
    JSON                2.90        
    JSON::PP            2.27203     
    Module::Build       0.4211      
    Module::Signature   0.78        
    Parse::CPAN::Meta   1.4414      
    Test::Harness       3.35        
    Test::More          1.301001_104
    YAML                1.14        
    YAML::Syck          1.29        
    version             0.9909      


--

Summary of my perl5 (revision 5 version 20 subversion 2) configuration:
  Commit id: c05ce579b6dae0f955ff8922469d49f95f4bf6fd
  Platform:
    osname=linux, osvers=3.16.0-4-amd64, archname=x86_64-linux
    uname='linux k83 3.16.0-4-amd64 #1 smp debian 3.16.7-ckt9-1 (2015-04-08) x86_64 gnulinux '
    config_args='-Dprefix=/home/sand/src/perl/repoperls/installed-perls/perl/v5.20.2/9ab7 -Dmyhostname=k83 -Dinstallusrbinperl=n -Uversiononly -Dusedevel -des -Ui_db -Uuseithreads -Uuselongdouble'
    hint=recommended, useposix=true, d_sigaction=define
    useithreads=undef, usemultiplicity=undef
    use64bitint=define, use64bitall=define, uselongdouble=undef
    usemymalloc=n, bincompat5005=undef
  Compiler:
    cc='cc', ccflags ='-fwrapv -fno-strict-aliasing -pipe -fstack-protector -I/usr/local/include -D_LARGEFILE_SOURCE -D_FILE_OFFSET_BITS=64',
    optimize='-O2',
    cppflags='-fwrapv -fno-strict-aliasing -pipe -fstack-protector -I/usr/local/include'
    ccversion='', gccversion='4.9.2', gccosandvers=''
    intsize=4, longsize=8, ptrsize=8, doublesize=8, byteorder=12345678
    d_longlong=define, longlongsize=8, d_longdbl=define, longdblsize=16
    ivtype='long', ivsize=8, nvtype='double', nvsize=8, Off_t='off_t', lseeksize=8
    alignbytes=8, prototype=define
  Linker and Libraries:
    ld='cc', ldflags =' -fstack-protector -L/usr/local/lib'
    libpth=/usr/local/lib /usr/lib/gcc/x86_64-linux-gnu/4.9/include-fixed /usr/include/x86_64-linux-gnu /usr/lib /lib/x86_64-linux-gnu /lib/../lib /usr/lib/x86_64-linux-gnu /usr/lib/../lib /lib
    libs=-lnsl -lgdbm -ldb -ldl -lm -lcrypt -lutil -lc -lgdbm_compat
    perllibs=-lnsl -ldl -lm -lcrypt -lutil -lc
    libc=libc-2.19.so, so=so, useshrplib=false, libperl=libperl.a
    gnulibc_version='2.19'
  Dynamic Linking:
    dlsrc=dl_dlopen.xs, dlext=so, d_dlsymun=undef, ccdlflags='-Wl,-E'
    cccdlflags='-fPIC', lddlflags='-shared -O2 -L/usr/local/lib -fstack-protector'


Characteristics of this binary (from libperl): 
  Compile-time options: HAS_TIMES PERLIO_LAYERS PERL_DONT_CREATE_GVSV
                        PERL_HASH_FUNC_ONE_AT_A_TIME_HARD PERL_MALLOC_WRAP
                        PERL_NEW_COPY_ON_WRITE PERL_PRESERVE_IVUV
                        PERL_USE_DEVEL USE_64_BIT_ALL USE_64_BIT_INT
                        USE_LARGE_FILES USE_LOCALE USE_LOCALE_COLLATE
                        USE_LOCALE_CTYPE USE_LOCALE_NUMERIC USE_PERLIO
                        USE_PERL_ATOF
  Built under linux
  Compiled at Apr 12 2015 15:49:32
  %ENV:
    PERL5LIB=""
    PERL5OPT=""
    PERL5_CPANPLUS_IS_RUNNING="22420"
    PERL5_CPAN_IS_RUNNING="22420"
    PERL_MM_USE_DEFAULT="1"
  @INC:
    /home/sand/src/perl/repoperls/installed-perls/perl/v5.20.2/9ab7/lib/site_perl/5.20.2/x86_64-linux
    /home/sand/src/perl/repoperls/installed-perls/perl/v5.20.2/9ab7/lib/site_perl/5.20.2
    /home/sand/src/perl/repoperls/installed-perls/perl/v5.20.2/9ab7/lib/5.20.2/x86_64-linux
    /home/sand/src/perl/repoperls/installed-perls/perl/v5.20.2/9ab7/lib/5.20.2
    .