Back
From: metabase:user:20a45eae-6c1a-1014-abaf-4bc2b30e56df
Subject: PASS libwww-perl-6.05 v5.18.1 Windows (Cygwin)
Date: 2014-01-02T18:09:39Z
This distribution has been tested as part of the CPAN Testers
project, supporting the Perl programming language. See
http://wiki.cpantesters.org/ for more information or email
questions to cpan-testers-discuss@perl.org
--
Dear Gisle Aas,
This is a computer-generated report for libwww-perl-6.05
on perl 5.18.1, created by CPAN-Reporter-1.2010.
Thank you for uploading your work to CPAN. Congratulations!
All tests were successful.
Sections of this report:
* Tester comments
* Program output
* Prerequisites
* Environment and other context
------------------------------
TESTER COMMENTS
------------------------------
Additional comments from tester:
this report is from an automated smoke testing program
and was not reviewed by a human for accuracy
------------------------------
PROGRAM OUTPUT
------------------------------
Output from '/usr/bin/make test':
/opt/perl5/cygwin_nt-6.1-wow64/1.7.26/i686/perl/5.18.1/cygwin/bin/perl.exe t/TEST 0
base/protocols.t ...... ok
base/ua.t ............. ok
robot/ua-get.t ........ ok
robot/ua.t ............ ok
local/autoload-get.t .. ok
local/autoload.t ...... ok
local/get.t ........... ok
local/http.t .......... ok
local/protosub.t ...... ok
All tests successful.
Files=9, Tests=125, 21 wallclock secs ( 0.69 usr 0.16 sys + 2.69 cusr 3.23 csys = 6.77 CPU)
Result: PASS
------------------------------
PREREQUISITES
------------------------------
Prerequisite modules loaded:
requires:
Module Need Have
--------------------- -------- --------
Digest::MD5 0 2.52
Encode 2.12 2.49
Encode::Locale 0 1.03
File::Listing 6 6.04
HTML::Entities 0 3.69
HTML::HeadParser 0 3.71
HTTP::Cookies 6 6.01
HTTP::Daemon 6 6.01
HTTP::Date 6 6.02
HTTP::Negotiate 6 6.01
HTTP::Request 6 6.00
HTTP::Request::Common 6 6.04
HTTP::Response 6 6.04
HTTP::Status 6 6.03
IO::Select 0 1.21
IO::Socket 0 1.36
LWP::MediaTypes 6 6.02
MIME::Base64 2.1 3.13
Net::FTP 2.58 2.77
Net::HTTP 6.04 6.06
perl 5.008001 5.018001
URI 1.10 1.60
URI::Escape 0 3.31
WWW::RobotRules 6 6.02
build_requires:
Module Need Have
--------------------- -------- --------
ExtUtils::MakeMaker 0 6.66
configure_requires:
Module Need Have
--------------------- -------- --------
ExtUtils::MakeMaker 0 6.66
------------------------------
ENVIRONMENT AND OTHER CONTEXT
------------------------------
Environment variables:
AUTOMATED_TESTING = 1
COMSPEC = C:\Windows\system32\cmd.exe
NUMBER_OF_PROCESSORS = 4
PATH = /opt/perl5/cygwin_nt-6.1-wow64/1.7.26/i686/bin/5.18.1/cygwin:/opt/perl5/cygwin_nt-6.1-wow64/1.7.26/i686/perl/5.18.1/cygwin/local/bin:/opt/perl5/cygwin_nt-6.1-wow64/1.7.26/i686/perl/5.18.1/cygwin/bin:/usr/local/bin:/usr/bin:/usr/local/lib
PERL5LIB = /opt/perl5/cygwin_nt-6.1-wow64/1.7.26/i686/perl/5.18.1/cygwin/local/lib/site_perl/5.18.1:/opt/perl5/cygwin_nt-6.1-wow64/1.7.26/i686/perl/5.18.1/cygwin/local/lib/5.18.1:/opt/perl5/cygwin_nt-6.1-wow64/1.7.26/i686/perl/5.18.1/cygwin/local/lib/perl5
PERL5OPT =
PERL5_CPANPLUS_IS_RUNNING = 2324
PERL5_CPAN_IS_RUNNING = 2324
PERL_CPAN_REPORTER_CONFIG = /cygdrive/c/peter/.cpanreporter/config-cygdrive-c-peter.ini
PERL_EXTUTILS_AUTOINSTALL = 1
PERL_MM_USE_DEFAULT = 1
PERL_MY_PREFIX = /opt/perl5
PERL_MY_SOURCE_DIR = /cygdrive/c/src/perl
PERL_TEST_CRITIC = 1
PROCESSOR_IDENTIFIER = Intel64 Family 6 Model 37 Stepping 5, GenuineIntel
SHELL = /bin/bash
TEMP = /tmp
TERM = xterm
Perl special variables (and OS-specific diagnostics, for MSWin32):
$^X = /opt/perl5/cygwin_nt-6.1-wow64/1.7.26/i686/perl/5.18.1/cygwin/bin/perl
$UID/$EUID = 22755 / 22755
$GID = 10513 545 1001 10571 44776 45205 10513 51781 18818 59435 72481 43044 30568 43061 18761 56667 12652 12669 12778 42734 20077 51528 11073 51645 61702 17963 51289 43366 55368 57206 20667 20955 49381 74690 50556 23333 65644 65646 51916 51926 51837 45099 56531 30321 49625 31369 67201
$EGID = 10513 545 1001 10571 44776 45205 10513 51781 18818 59435 72481 43044 30568 43061 18761 56667 12652 12669 12778 42734 20077 51528 11073 51645 61702 17963 51289 43366 55368 57206 20667 20955 49381 74690 50556 23333 65644 65646 51916 51926 51837 45099 56531 30321 49625 31369 67201
Perl module toolchain versions installed:
Module Have
------------------- --------
CPAN 2.00
CPAN::Meta 2.120921
Cwd 3.40
ExtUtils::CBuilder 0.280210
ExtUtils::Command 1.17
ExtUtils::Install 1.59
ExtUtils::MakeMaker 6.66
ExtUtils::Manifest 1.63
ExtUtils::ParseXS 3.18
File::Spec 3.40
JSON 2.90
JSON::PP 2.27202
Module::Build 0.4003
Module::Signature n/a
Parse::CPAN::Meta 1.4404
Test::Harness 3.26
Test::More 0.98
YAML n/a
YAML::Syck n/a
version 0.9902
--
Summary of my perl5 (revision 5 version 18 subversion 1) configuration:
Platform:
osname=cygwin, osvers=1.7.26(0.27153), archname=cygwin
uname='cygwin_nt-6.1-wow64 osl069 1.7.26(0.27153) 2013-11-29 11:25 i686 cygwin '
config_args='-de -Dmksymlinks -Dcc=gcc -Dld=g++ -Uinc_version_list -Uinstallusrbinperl -Uusethreads -Uusemultiplicity -Uuse64bitint -Uuselongdouble -Dprefix=/opt/perl5/cygwin_nt-6.1-wow64/1.7.26/i686/perl/5.18.1/cygwin'
hint=recommended, useposix=true, d_sigaction=define
useithreads=undef, usemultiplicity=undef
useperlio=define, d_sfio=undef, uselargefiles=define, usesocks=undef
use64bitint=undef, use64bitall=undef, uselongdouble=undef
usemymalloc=y, bincompat5005=undef
Compiler:
cc='gcc', ccflags ='-DPERL_USE_SAFE_PUTENV -U__STRICT_ANSI__ -fno-strict-aliasing -pipe -fstack-protector',
optimize='-O3',
cppflags='-DPERL_USE_SAFE_PUTENV -U__STRICT_ANSI__ -fno-strict-aliasing -pipe -fstack-protector'
ccversion='', gccversion='4.8.2', gccosandvers=''
intsize=4, longsize=4, ptrsize=4, doublesize=8, byteorder=1234
d_longlong=define, longlongsize=8, d_longdbl=define, longdblsize=12
ivtype='long', ivsize=4, nvtype='double', nvsize=8, Off_t='off_t', lseeksize=8
alignbytes=8, prototype=define
Linker and Libraries:
ld='g++', ldflags =' -Wl,--enable-auto-import -Wl,--export-all-symbols -Wl,--enable-auto-image-base -fstack-protector -L/usr/local/lib'
libpth=/usr/local/lib /usr/lib /lib
libs=-lgdbm -ldb -ldl -lcrypt -lgdbm_compat
perllibs=-ldl -lcrypt
libc=/usr/lib/libc.a, so=dll, useshrplib=true, libperl=cygperl5_18_1.dll
gnulibc_version=''
Dynamic Linking:
dlsrc=dl_dlopen.xs, dlext=dll, d_dlsymun=undef, ccdlflags=' '
cccdlflags=' ', lddlflags=' --shared -Wl,--enable-auto-import -Wl,--export-all-symbols -Wl,--enable-auto-image-base -L/usr/local/lib -fstack-protector'
Characteristics of this binary (from libperl):
Compile-time options: HAS_TIMES MYMALLOC PERLIO_LAYERS
PERL_DONT_CREATE_GVSV
PERL_HASH_FUNC_ONE_AT_A_TIME_HARD PERL_PRESERVE_IVUV
PERL_SAWAMPERSAND PERL_USE_SAFE_PUTENV
USE_LARGE_FILES USE_LOCALE USE_LOCALE_COLLATE
USE_LOCALE_CTYPE USE_LOCALE_NUMERIC USE_PERLIO
USE_PERL_ATOF
Built under cygwin
Compiled at Dec 2 2013 16:29:19
%ENV:
PERL5LIB="/opt/perl5/cygwin_nt-6.1-wow64/1.7.26/i686/perl/5.18.1/cygwin/local/lib/site_perl/5.18.1:/opt/perl5/cygwin_nt-6.1-wow64/1.7.26/i686/perl/5.18.1/cygwin/local/lib/5.18.1:/opt/perl5/cygwin_nt-6.1-wow64/1.7.26/i686/perl/5.18.1/cygwin/local/lib/perl5"
PERL5OPT=""
PERL5_CPANPLUS_IS_RUNNING="2324"
PERL5_CPAN_IS_RUNNING="2324"
PERL_CPAN_REPORTER_CONFIG="/cygdrive/c/peter/.cpanreporter/config-cygdrive-c-peter.ini"
PERL_EXTUTILS_AUTOINSTALL="1"
PERL_MM_USE_DEFAULT="1"
PERL_MY_PREFIX="/opt/perl5"
PERL_MY_SOURCE_DIR="/cygdrive/c/src/perl"
PERL_TEST_CRITIC="1"
CYGWIN="codepage:utf8 nodosfilewarning"
@INC:
/opt/perl5/cygwin_nt-6.1-wow64/1.7.26/i686/perl/5.18.1/cygwin/local/lib/site_perl/5.18.1/cygwin
/opt/perl5/cygwin_nt-6.1-wow64/1.7.26/i686/perl/5.18.1/cygwin/local/lib/site_perl/5.18.1
/opt/perl5/cygwin_nt-6.1-wow64/1.7.26/i686/perl/5.18.1/cygwin/local/lib/5.18.1/cygwin
/opt/perl5/cygwin_nt-6.1-wow64/1.7.26/i686/perl/5.18.1/cygwin/local/lib/5.18.1
/opt/perl5/cygwin_nt-6.1-wow64/1.7.26/i686/perl/5.18.1/cygwin/local/lib/perl5/cygwin
/opt/perl5/cygwin_nt-6.1-wow64/1.7.26/i686/perl/5.18.1/cygwin/local/lib/perl5
/opt/perl5/cygwin_nt-6.1-wow64/1.7.26/i686/perl/5.18.1/cygwin/lib/site_perl/5.18.1/cygwin
/opt/perl5/cygwin_nt-6.1-wow64/1.7.26/i686/perl/5.18.1/cygwin/lib/site_perl/5.18.1
/opt/perl5/cygwin_nt-6.1-wow64/1.7.26/i686/perl/5.18.1/cygwin/lib/5.18.1/cygwin
/opt/perl5/cygwin_nt-6.1-wow64/1.7.26/i686/perl/5.18.1/cygwin/lib/5.18.1
.