autodie v2.29 Perl 5 v5.30.1 x86_64-linux-thread-multi
- Status
- Pass
- From
- Reini Urban (RURBAN)
- Dist
-
autodie v2.29
- Platform
- Perl 5 v5.30.1 x86_64-linux-thread-multi
- Date
- 2019-12-11 09:33:33
- ID
- 4ca2d26a-1bf9-11ea-8cd3-eedfa9a6d907
This distribution has been tested as part of the CPAN Testers
project, supporting the Perl programming language. See
http://wiki.cpantesters.org/ for more information or email
questions to cpan-testers-discuss@perl.org
--
Dear Paul Jamieson Fenwick,
This is a computer-generated report for autodie-2.29
on perl 5.30.1, created by CPAN-Reporter-1.2018.
Thank you for uploading your work to CPAN. Congratulations!
All tests were successful.
Sections of this report:
* Tester comments
* Program output
* Prerequisites
* Environment and other context
------------------------------
TESTER COMMENTS
------------------------------
Additional comments from tester:
this report is from an automated smoke testing program
and was not reviewed by a human for accuracy
------------------------------
PROGRAM OUTPUT
------------------------------
Output from '/usr/bin/make test':
PERL_DL_NONLAZY=1 "/usr/bin/perl" "-MExtUtils::Command::MM" "-MTest::Harness" "-e" "undef *Test::Harness::Switches; test_harness(0, 'blib/lib', 'blib/arch')" t/*.t
t/00-load.t ...................... ok
t/args.t ......................... ok
t/author-critic.t ................ skipped: these tests are for testing by the author
t/autodie.t ...................... ok
t/backcompat.t ................... ok
t/basic_exceptions.t ............. ok
t/binmode.t ...................... ok
t/blog_hints.t ................... ok
t/caller.t ....................... ok
t/chmod.t ........................ ok
t/chown.t ........................ ok
t/context.t ...................... ok
t/context_lexical.t .............. ok
t/core-trampoline-slurp.t ........ ok
t/crickey.t ...................... ok
t/critic.t ....................... skipped: Author test. Set $ENV{AUTHOR_TESTING} to true to run.
t/dbmopen.t ...................... ok
t/eval_error.t ................... ok
t/exception_class.t .............. ok
t/exceptions.t ................... ok
t/exec.t ......................... ok
t/Fatal.t ........................ ok
t/filehandles.t .................. ok
t/fileno.t ....................... ok
t/flock.t ........................ ok
t/fork.t ......................... ok
t/format-clobber.t ............... ok
# Sub::Identify is loaded
t/hints.t ........................ ok
t/hints_insist.t ................. ok
t/hints_pod_examples.t ........... ok
t/hints_provider_does.t .......... ok
t/hints_provider_easy_does_it.t .. ok
t/hints_provider_isa.t ........... ok
t/import-into.t .................. skipped: Test needs Import::Into >= 1.002004
t/internal-backcompat.t .......... ok
t/internal.t ..................... ok
t/kill.t ......................... ok
t/kwalitee.t ..................... skipped: Author test. Set $ENV{RELEASE_TESTING} to true to run.
t/lethal.t ....................... ok
t/lex58.t ........................ ok
t/mkdir.t ........................ ok
t/no_carp.t ...................... ok
t/open.t ......................... ok
t/pod-coverage.t ................. skipped: Author test. Set $ENV{AUTHOR_TESTING} to true to run.
t/pod.t .......................... skipped: Author test. Set $ENV{AUTHOR_TESTING} to true to run.
t/read.t ......................... ok
t/recv.t ......................... ok
t/release-pod-coverage.t ......... skipped: these tests are for release candidate testing
t/release-pod-syntax.t ........... skipped: these tests are for release candidate testing
t/repeat.t ....................... ok
t/rt-74246.t ..................... ok
t/scope_leak.t ................... ok
t/skip.t ......................... ok
t/socket.t ....................... skipped: Author test. Set $ENV{AUTHOR_TESTING} to true to run.
t/string-eval-basic.t ............ ok
t/string-eval-leak.t ............. ok
t/sysopen.t ...................... ok
t/system.t ....................... ok
t/truncate.t ..................... ok
t/unlink.t ....................... ok
t/user-context.t ................. ok
t/usersub.t ...................... ok
t/utf8_open.t .................... ok
t/utime.t ........................ ok
t/version.t ...................... skipped: Release test. Set $ENV{RELEASE_TESTING} to true to run.
t/version_tag.t .................. ok
All tests successful.
Files=66, Tests=512, 6 wallclock secs ( 0.25 usr 0.08 sys + 4.59 cusr 0.67 csys = 5.59 CPU)
Result: PASS
------------------------------
PREREQUISITES
------------------------------
Prerequisite modules loaded:
requires:
Module Need Have
----------------------- -------- --------
B 0 1.76
Carp 0 1.50
constant 0 1.33
Exporter 5.57 5.73
Fcntl 0 1.13
overload 0 1.30
parent 0 0.237
perl 5.008004 5.030001
POSIX 0 1.88
Scalar::Util 0 1.53
strict 0 1.11
Tie::RefHash 0 1.39
warnings 0 1.44
build_requires:
Module Need Have
----------------------- -------- --------
ExtUtils::MakeMaker 0 7.38
File::Copy 0 2.34
File::Spec 0 3.78
File::Temp 0 0.2309
FindBin 0 1.51
if 0 0.0608
IO::Handle 0 1.40
lib 0 0.65
Socket 0 2.029
Test::More 0 1.302170
configure_requires:
Module Need Have
----------------------- -------- --------
ExtUtils::MakeMaker 0 7.38
opt_requires:
Module Need Have
----------------------- -------- --------
IPC::System::Simple 0.12 1.25
perl 5.010 5.030001
Sub::Identify 0 0.14
opt_build_requires:
Module Need Have
----------------------- -------- --------
BSD::Resource 0 1.2911
! Import::Into 1.002004 n/a
perl 5.010 5.030001
! Pod::Coverage::TrustPod 0 n/a
! Test::Kwalitee 0 n/a
! Test::Perl::Critic 0 n/a
------------------------------
ENVIRONMENT AND OTHER CONTEXT
------------------------------
Environment variables:
AUTOMATED_TESTING = 1
LANG = en_US.UTF-8
NONINTERACTIVE_TESTING = 1
PATH = /home/rurban/bin:/home/rurban/.local/bin:/home/rurban/bin:/usr/share/Modules/bin:/usr/local/bin:/usr/local/sbin:/usr/bin:/usr/sbin:/home/rurban/Software/flutter/bin
PERL5LIB =
PERL5OPT =
PERL5_CPANPLUS_IS_RUNNING = 316548
PERL5_CPAN_IS_RUNNING = 316548
PERL_MM_USE_DEFAULT = 1
PERL_USE_UNSAFE_INC = 1
SHELL = /bin/bash
TERM = xterm-256color
Perl special variables (and OS-specific diagnostics, for MSWin32):
$^X = /usr/bin/perl
$UID/$EUID = 1000 / 1000
$GID = 1000 10 1000
$EGID = 1000 10 1000
Perl module toolchain versions installed:
Module Have
------------------- --------
CPAN 2.27
CPAN::Meta 2.150010
Cwd 3.78
ExtUtils::CBuilder 0.280231
ExtUtils::Command 7.38
ExtUtils::Install 2.14
ExtUtils::MakeMaker 7.38
ExtUtils::Manifest 1.72
ExtUtils::ParseXS 3.40
File::Spec 3.78
JSON 4.02
JSON::PP 4.04
Module::Build 0.4229
Module::Signature 0.83
Parse::CPAN::Meta 2.150010
Test::Harness 3.42
Test::More 1.302170
YAML 1.29
YAML::Syck n/a
version 0.9924
--
Summary of my perl5 (revision 5 version 30 subversion 1) configuration:
Platform:
osname=linux
osvers=5.0.6-200.fc29.x86_64
archname=x86_64-linux-thread-multi
uname='linux buildvm-15.phx2.fedoraproject.org 5.0.6-200.fc29.x86_64 #1 smp wed apr 3 15:09:51 utc 2019 x86_64 x86_64 x86_64 gnulinux '
config_args='-des -Doptimize=none -Dccflags=-O2 -g -pipe -Wall -Werror=format-security -Wp,-D_FORTIFY_SOURCE=2 -Wp,-D_GLIBCXX_ASSERTIONS -fexceptions -fstack-protector-strong -grecord-gcc-switches -specs=/usr/lib/rpm/redhat/redhat-hardened-cc1 -specs=/usr/lib/rpm/redhat/redhat-annobin-cc1 -m64 -mtune=generic -fasynchronous-unwind-tables -fstack-clash-protection -fcf-protection -Dldflags=-Wl,-z,relro -Wl,--as-needed -Wl,-z,now -specs=/usr/lib/rpm/redhat/redhat-hardened-ld -Dccdlflags=-Wl,--enable-new-dtags -Wl,-z,relro -Wl,--as-needed -Wl,-z,now -specs=/usr/lib/rpm/redhat/redhat-hardened-ld -Dlddlflags=-shared -Wl,-z,relro -Wl,--as-needed -Wl,-z,now -specs=/usr/lib/rpm/redhat/redhat-hardened-ld -Dshrpdir=/usr/lib64 -DDEBUGGING=-g -Dversion=5.30.1 -Dmyhostname=localhost -Dperladmin=root@localhost -Dcc=gcc -Dcf_by=Red Hat, Inc. -Dprefix=/usr -Dvendorprefix=/usr -Dsiteprefix=/usr/local -Dsitelib=/usr/local/share/perl5/5.30 -Dsitearch=/usr/local/lib64/perl5/5.30 -Dprivlib=/usr/share/perl5 -Dvendorlib=/usr/share/perl5/vendor_perl -Darchlib=/usr/lib64/perl5 -Dvendorarch=/usr/lib64/perl5/vendor_perl -Darchname=x86_64-linux-thread-multi -Dlibpth=/usr/local/lib64 /lib64 /usr/lib64 -Duseshrplib -Dusethreads -Duseithreads -Dusedtrace=/usr/bin/dtrace -Duselargefiles -Dd_semctl_semun -Di_db -Ui_ndbm -Di_gdbm -Di_shadow -Di_syslog -Dman3ext=3pm -Duseperlio -Dinstallusrbinperl=n -Ubincompat5005 -Uversiononly -Dpager=/usr/bin/less -isr -Dd_gethostent_r_proto -Ud_endhostent_r_proto -Ud_sethostent_r_proto -Ud_endprotoent_r_proto -Ud_setprotoent_r_proto -Ud_endservent_r_proto -Ud_setservent_r_proto -Dscriptdir=/usr/bin -Dusesitecustomize -Duse64bitint'
hint=recommended
useposix=true
d_sigaction=define
useithreads=define
usemultiplicity=define
use64bitint=define
use64bitall=define
uselongdouble=undef
usemymalloc=n
default_inc_excludes_dot=define
bincompat5005=undef
Compiler:
cc='gcc'
ccflags ='-D_REENTRANT -D_GNU_SOURCE -O2 -g -pipe -Wall -Werror=format-security -Wp,-D_FORTIFY_SOURCE=2 -Wp,-D_GLIBCXX_ASSERTIONS -fexceptions -fstack-protector-strong -grecord-gcc-switches -specs=/usr/lib/rpm/redhat/redhat-hardened-cc1 -specs=/usr/lib/rpm/redhat/redhat-annobin-cc1 -m64 -mtune=generic -fasynchronous-unwind-tables -fstack-clash-protection -fcf-protection -fwrapv -fno-strict-aliasing -I/usr/local/include -D_LARGEFILE_SOURCE -D_FILE_OFFSET_BITS=64'
optimize=' -g'
cppflags='-D_REENTRANT -D_GNU_SOURCE -O2 -g -pipe -Wall -Werror=format-security -Wp,-D_FORTIFY_SOURCE=2 -Wp,-D_GLIBCXX_ASSERTIONS -fexceptions -fstack-protector-strong -grecord-gcc-switches -specs=/usr/lib/rpm/redhat/redhat-hardened-cc1 -specs=/usr/lib/rpm/redhat/redhat-annobin-cc1 -m64 -mtune=generic -fasynchronous-unwind-tables -fstack-clash-protection -fcf-protection -fwrapv -fno-strict-aliasing -I/usr/local/include'
ccversion=''
gccversion='9.2.1 20190827 (Red Hat 9.2.1-1)'
gccosandvers=''
intsize=4
longsize=8
ptrsize=8
doublesize=8
byteorder=12345678
doublekind=3
d_longlong=define
longlongsize=8
d_longdbl=define
longdblsize=16
longdblkind=3
ivtype='long'
ivsize=8
nvtype='double'
nvsize=8
Off_t='off_t'
lseeksize=8
alignbytes=8
prototype=define
Linker and Libraries:
ld='gcc'
ldflags ='-Wl,-z,relro -Wl,--as-needed -Wl,-z,now -specs=/usr/lib/rpm/redhat/redhat-hardened-ld -fstack-protector-strong -L/usr/local/lib'
libpth=/usr/local/lib64 /lib64 /usr/lib64 /usr/local/lib /usr/lib /lib/../lib64 /usr/lib/../lib64 /lib
libs=-lpthread -lresolv -lgdbm -ldb -ldl -lm -lcrypt -lutil -lc -lgdbm_compat
perllibs=-lpthread -lresolv -ldl -lm -lcrypt -lutil -lc
libc=libc-2.30.so
so=so
useshrplib=true
libperl=libperl.so
gnulibc_version='2.30'
Dynamic Linking:
dlsrc=dl_dlopen.xs
dlext=so
d_dlsymun=undef
ccdlflags='-Wl,--enable-new-dtags -Wl,-z,relro -Wl,--as-needed -Wl,-z,now -specs=/usr/lib/rpm/redhat/redhat-hardened-ld'
cccdlflags='-fPIC'
lddlflags='-lpthread -shared -Wl,-z,relro -Wl,--as-needed -Wl,-z,now -specs=/usr/lib/rpm/redhat/redhat-hardened-ld -L/usr/local/lib -fstack-protector-strong'
Characteristics of this binary (from libperl):
Compile-time options:
HAS_TIMES
MULTIPLICITY
PERLIO_LAYERS
PERL_COPY_ON_WRITE
PERL_DONT_CREATE_GVSV
PERL_IMPLICIT_CONTEXT
PERL_MALLOC_WRAP
PERL_OP_PARENT
PERL_PRESERVE_IVUV
USE_64_BIT_ALL
USE_64_BIT_INT
USE_ITHREADS
USE_LARGE_FILES
USE_LOCALE
USE_LOCALE_COLLATE
USE_LOCALE_CTYPE
USE_LOCALE_NUMERIC
USE_LOCALE_TIME
USE_PERLIO
USE_PERL_ATOF
USE_REENTRANT_API
USE_SITECUSTOMIZE
USE_THREAD_SAFE_LOCALE
Locally applied patches:
Fedora Patch1: Removes date check, Fedora/RHEL specific
Fedora Patch2: support for libdir64
Fedora Patch3: use libresolv instead of libbind
Fedora Patch4: USE_MM_LD_RUN_PATH
Fedora Patch5: Provide MM::maybe_command independently (bug #1129443)
Fedora Patch6: Dont run one io test due to random builder failures
Fedora Patch8: Define SONAME for libperl.so
Fedora Patch9: Install libperl.so to -Dshrpdir value
Fedora Patch10: Make *DBM_File desctructors thread-safe (RT#61912)
Fedora Patch11: Replace EU::MakeMaker dependency with EU::MM::Utils in IPC::Cmd (bug #1129443)
Fedora Patch12: Link XS modules to pthread library to fix linking with -z defs
Fedora Patch13: Pass the correct CFLAGS to dtrace
Fedora Patch15: Do not panic when outputting a warning (RT#134059)
Fedora Patch16: Fix memory handling when parsing string literals
Fedora Patch17: Fix an undefined behavior in shifting IV variables
Fedora Patch18: Fix an undefined behavior in shifting IV variables
Fedora Patch19: Fix an undefined behavior in shifting IV variables
Fedora Patch20: Fix stacking file test operators (CPAN RT#127073)
Fedora Patch21: Fix a crash in SIGALARM handler when waiting on a child process to be closed (RT#122112)
Fedora Patch22: Fix a crash in SIGALARM handler when waiting on a child process to be closed (RT#122112)
Fedora Patch23: Fix a crash in SIGALARM handler when waiting on a child process to be closed (RT#122112)
Fedora Patch25: Fix a crash with a negative precision in sprintf function (RT#134008)
Fedora Patch27: Prevent from wrapping a width in a numeric format string (RT#133913)
Fedora Patch28: Fix subroutine protypes to track reference aliases (RT#134072)
Fedora Patch30: Fix changing packet destination sent from a UDP IO::Socket object (RT#133936)
Fedora Patch31: Fix changing packet destination sent from a UDP IO::Socket object (RT#133936)
Fedora Patch32: Fix changing packet destination sent from a UDP IO::Socket object (RT#133936)
Fedora Patch37: Fix %{^CAPTURE_ALL} to be an alias for %- variable (RT#131867)
Fedora Patch38: Fix %{^CAPTURE} value when used after @{^CAPTURE} (RT#134193)
Fedora Patch39: Fix %{^CAPTURE} value when used after @{^CAPTURE} (RT#134193)
Fedora Patch40: Fix a test for a crash in SIGALARM handler when waiting on a child process to be closed (RT#122112)
Fedora Patch41: Fix a crash on an uninitialized warning when processing a multideref node (RT#134275)
Fedora Patch42: Preserve append mode when opening anonymous files (RT#134221)
Fedora Patch43: Preserve append mode when opening anonymous files (RT#134221)
Fedora Patch44: Preserve append mode when opening anonymous files (RT#134221)
Fedora Patch45: Fix propagating non-string variables in an exception value (RT#134291)
Fedora Patch46: Include trailing zero in scalars holding trie data (RT#134207)
Fedora Patch48: Fix a use after free in debugging output of a collation
Fedora Patch49: Fix a NULL pointer dereference in PerlIOVia_pushed()
Fedora Patch50: Fix a crash when setting $@ on unwinding a call stack (RT#134266)
Fedora Patch51: Fix parsing a denominator when parsing a Unicode property name
Fedora Patch52: Fix a documentation about a future API change
Fedora Patch53: Do not run File-Find tests in parallel
Fedora Patch54: Fix parsing a Unicode property name when compiling a regular expression
Fedora Patch56: Do not interpret 0x and 0b prefixes when numifying strings (RT#134230)
Fedora Patch58: Fix a buffer overflow when compiling a regular expression with many branches (RT#134329)
Fedora Patch59: Correct a misspelling in perlrebackslash documentation (RT#134395)
Fedora Patch61: Fix a detection for futimes (RT#134432)
Fedora Patch62: Fix a detection for futimes (RT#134432)
Fedora Patch63: Fix overloading for binary and octal floats (RT#125557)
Fedora Patch64: Fix handling undefined array members in Dumpvalue (RT#134441)
Fedora Patch65: Fix taint mode documentation regarding @INC
Fedora Patch66: Fix taint mode documentation regarding @INC
Fedora Patch67: Fix handling a layer argument in Tie::StdHandle::BINMODE() (RT#132475)
Fedora Patch68: Fix an unintended upgrade to UTF-8 in the middle of a transliteration
Fedora Patch69: Fix an unintended upgrade to UTF-8 in the middle of a transliteration
Fedora Patch70: Fix a race in File::stat() tests (GH#17234)
Fedora Patch71: Fix a buffer overread when parsing a number (GH#17279)
Fedora Patch72: Fix GCC 10 version detection (GH#17295)
Fedora Patch73: Fix a memory leak when compiling a regular expression with a non-word class (GH#17218)
Fedora Patch200: Link XS modules to libperl.so with EU::CBuilder on Linux
Fedora Patch201: Link XS modules to libperl.so with EU::MM on Linux
Built under linux
Compiled at Nov 29 2019 00:00:00
%ENV:
PERL5LIB=""
PERL5OPT=""
PERL5_CPANPLUS_IS_RUNNING="316548"
PERL5_CPAN_IS_RUNNING="316548"
PERL_MM_USE_DEFAULT="1"
PERL_USE_UNSAFE_INC="1"
@INC:
/usr/local/lib64/perl5/5.30
/usr/local/share/perl5/5.30
/usr/lib64/perl5/vendor_perl
/usr/share/perl5/vendor_perl
/usr/lib64/perl5
/usr/share/perl5
.