Dist-Zilla-Plugin-RemovePrereqs-Provided v0.001001 Perl 5 v5.27.5 amd64-freebsd-thread-multi

Status
Pass
From
Slaven Rezić (SREZIC)
Dist
Dist-Zilla-Plugin-RemovePrereqs-Provided v0.001001
Platform
Perl 5 v5.27.5 amd64-freebsd-thread-multi
Date
2017-11-04 02:53:13
ID
4ca40a36-c10b-11e7-b75f-ccd9ac6d2e1b
This distribution has been tested as part of the CPAN Testers
project, supporting the Perl programming language.  See
http://wiki.cpantesters.org/ for more information or email
questions to cpan-testers-discuss@perl.org


--
Dear Kent Fredric,

This is a computer-generated report for Dist-Zilla-Plugin-RemovePrereqs-Provided-0.001001
on perl 5.27.5, created by CPAN-Reporter-1.2018.

Thank you for uploading your work to CPAN.  Congratulations!
All tests were successful.

Sections of this report:

    * Tester comments
    * Program output
    * Prerequisites
    * Environment and other context

------------------------------
TESTER COMMENTS
------------------------------

Additional comments from tester:

none provided

------------------------------
PROGRAM OUTPUT
------------------------------

Output from '/usr/bin/make test':

PERL_DL_NONLAZY=1 "/usr/perl5.27.5t/bin/perl5.27.5" "-MExtUtils::Command::MM" "-MTest::Harness" "-e" "undef *Test::Harness::Switches; test_harness(0, 'blib/lib', 'blib/arch')" t/*.t t/00-compile/*.t
t/00-compile/lib_Dist_Zilla_Plugin_RemovePrereqs_Provided_pm.t .. ok
# 
# Versions for all modules listed in MYMETA.json (including optional ones):
# 
# === Configure Requires ===
# 
#     Module              Want Have
#     ------------------- ---- ----
#     ExtUtils::MakeMaker  any 7.30
# 
# === Configure Recommends ===
# 
#     Module              Want Have
#     ------------------- ---- ----
#     ExtUtils::MakeMaker 7.00 7.30
# 
# === Build Requires ===
# 
#     Module              Want Have
#     ------------------- ---- ----
#     ExtUtils::MakeMaker  any 7.30
# 
# === Test Requires ===
# 
#     Module                              Want     Have
#     ------------------------------- -------- --------
#     Dist::Zilla::Plugin::GatherDir       any    6.010
#     Dist::Zilla::Plugin::Prereqs         any    6.010
#     Dist::Zilla::Util::Test::KENTNL 1.005000 1.005014
#     ExtUtils::MakeMaker                  any     7.30
#     File::Spec                           any     3.68
#     Test::DZil                           any    6.010
#     Test::More                           any 1.302106
# 
# === Test Recommends ===
# 
#     Module                                         Want     Have
#     ------------------------------------------ -------- --------
#     CPAN::Meta                                 2.120900 2.150010
#     Dist::Zilla::Plugin::MetaProvides::Package      any 2.004003
#     ExtUtils::MakeMaker                            7.00     7.30
#     Test::More                                     0.99 1.302106
# 
# === Runtime Requires ===
# 
#     Module                          Want     Have
#     ------------------------------- ---- --------
#     Dist::Zilla::Role::PrereqSource  any    6.010
#     Dist::Zilla::Util::ConfigDumper  any 0.003009
#     Moose                            any   2.2006
#     Moose::Util::TypeConstraints     any   2.2006
#     strict                           any     1.11
#     warnings                         any     1.37
# 
# === Runtime Recommends ===
# 
#     Module  Want   Have
#     ------ ----- ------
#     Moose  2.000 2.2006
# 
t/00-report-prereqs.t ........................................... ok
t/01_basic.t .................................................... ok
All tests successful.
Files=3, Tests=4,  3 wallclock secs ( 0.05 usr  0.03 sys +  3.13 cusr  0.43 csys =  3.65 CPU)
Result: PASS

------------------------------
PREREQUISITES
------------------------------

Prerequisite modules loaded:

requires:

    Module                                     Need     Have    
    ------------------------------------------ -------- --------
    Dist::Zilla::Role::PrereqSource            0        6.010   
    Dist::Zilla::Util::ConfigDumper            0        0.003009
    Moose                                      0        2.2006  
    Moose::Util::TypeConstraints               0        2.2006  
    perl                                       5.006    5.027005
    strict                                     0        1.11    
    warnings                                   0        1.37    

build_requires:

    Module                                     Need     Have    
    ------------------------------------------ -------- --------
    Dist::Zilla::Plugin::GatherDir             0        6.010   
    Dist::Zilla::Plugin::Prereqs               0        6.010   
    Dist::Zilla::Util::Test::KENTNL            1.005000 1.005014
    ExtUtils::MakeMaker                        0        7.30    
    File::Spec                                 0        3.68    
    Test::DZil                                 0        6.010   
    Test::More                                 0        1.302106

configure_requires:

    Module                                     Need     Have    
    ------------------------------------------ -------- --------
    ExtUtils::MakeMaker                        0        7.30    
    perl                                       5.006    5.027005

opt_requires:

    Module                                     Need     Have    
    ------------------------------------------ -------- --------
    Moose                                      2.000    2.2006  

opt_build_requires:

    Module                                     Need     Have    
    ------------------------------------------ -------- --------
    CPAN::Meta                                 2.120900 2.150010
    Dist::Zilla::Plugin::MetaProvides::Package 0        2.004003
    ExtUtils::MakeMaker                        7.00     7.30    
    Test::More                                 0.99     1.302106


------------------------------
ENVIRONMENT AND OTHER CONTEXT
------------------------------

Environment variables:

    PATH = /usr/local/bin:/usr/bin:/bin:/usr/local/sbin:/usr/sbin:/sbin:/home/cpansand/bin/freebsd12.0:/home/cpansand/bin/sh:/home/cpansand/bin:/usr/games:/home/cpansand/devel:/usr/home/eserte/src/srezic-misc/scripts
    PERL5LIB = 
    PERL5OPT = 
    PERL5_CPANPLUS_IS_RUNNING = 45985
    PERL5_CPAN_IS_RUNNING = 45985
    PERL5_CPAN_IS_RUNNING_IN_RECURSION = 9549,45985
    PERL_BATCH = yes
    PERL_CANARY_STABILITY_NOPROMPT = 1
    PERL_CPAN_REPORTER_CONFIG = /var/tmp/cpansmoker-1023/2017110321/cpanreporter_000_config.ini
    PERL_EXTUTILS_AUTOINSTALL = --defaultdeps
    PERL_USE_UNSAFE_INC = 1
    SHELL = /bin/sh
    TMPDIR = /var/tmp/cpansmoker-1023/2017110321

Perl special variables (and OS-specific diagnostics, for MSWin32):

    $^X = /usr/perl5.27.5t/bin/perl5.27.5
    $UID/$EUID = 1023 / 1023
    $GID = 1023 1023
    $EGID = 1023 1023

Perl module toolchain versions installed:

    Module              Have    
    ------------------- --------
    CPAN                2.18    
    CPAN::Meta          2.150010
    Cwd                 3.68    
    ExtUtils::CBuilder  0.280228
    ExtUtils::Command   7.30    
    ExtUtils::Install   2.14    
    ExtUtils::MakeMaker 7.30    
    ExtUtils::Manifest  1.70    
    ExtUtils::ParseXS   3.35    
    File::Spec          3.68    
    JSON                2.94    
    JSON::PP            2.94    
    Module::Build       0.4224  
    Module::Signature   0.81    
    Parse::CPAN::Meta   2.150010
    Test::Harness       3.39    
    Test::More          1.302106
    YAML                1.24    
    YAML::Syck          1.30    
    version             0.9918  


--

Summary of my perl5 (revision 5 version 27 subversion 5) configuration:
   
  Platform:
    osname=freebsd
    osvers=12.0-current
    archname=amd64-freebsd-thread-multi
    uname='freebsd freebsd 12.0-current freebsd 12.0-current #1 ff104cc9da3(master)-dirty: thu oct 19 23:44:51 cest 2017 root@freebsd:usrobjusrsrcsysgeneric amd64 '
    config_args='-ds -e -Dprefix=/usr/perl5.27.5t -Dusedevel -Dusemallocwrap=no -Dusethreads -Dcf_email=srezic@cpan.org -Doptimize=-O2 -pipe'
    hint=recommended
    useposix=true
    d_sigaction=define
    useithreads=define
    usemultiplicity=define
    use64bitint=define
    use64bitall=define
    uselongdouble=undef
    usemymalloc=n
    default_inc_excludes_dot=define
    bincompat5005=undef
  Compiler:
    cc='cc'
    ccflags ='-DHAS_FPSETMASK -DHAS_FLOATINGPOINT_H -fno-strict-aliasing -pipe -fstack-protector-strong -I/usr/local/include -D_FORTIFY_SOURCE=2'
    optimize='-O2 -pipe'
    cppflags='-DHAS_FPSETMASK -DHAS_FLOATINGPOINT_H -fno-strict-aliasing -pipe -fstack-protector-strong -I/usr/local/include'
    ccversion=''
    gccversion='4.2.1 Compatible FreeBSD Clang 5.0.0 (tags/RELEASE_500/final 312559)'
    gccosandvers=''
    intsize=4
    longsize=8
    ptrsize=8
    doublesize=8
    byteorder=12345678
    doublekind=3
    d_longlong=define
    longlongsize=8
    d_longdbl=define
    longdblsize=16
    longdblkind=3
    ivtype='long'
    ivsize=8
    nvtype='double'
    nvsize=8
    Off_t='off_t'
    lseeksize=8
    alignbytes=8
    prototype=define
  Linker and Libraries:
    ld='cc'
    ldflags ='-pthread -Wl,-E  -fstack-protector-strong -L/usr/local/lib'
    libpth=/usr/lib /usr/local/lib /usr/lib/clang/5.0.0/lib /usr/lib
    libs=-lpthread -lgdbm -lm -lcrypt -lutil
    perllibs=-lpthread -lm -lcrypt -lutil
    libc=
    so=so
    useshrplib=false
    libperl=libperl.a
    gnulibc_version=''
  Dynamic Linking:
    dlsrc=dl_dlopen.xs
    dlext=so
    d_dlsymun=undef
    ccdlflags=' '
    cccdlflags='-DPIC -fPIC'
    lddlflags='-shared  -L/usr/local/lib -fstack-protector-strong'


Characteristics of this binary (from libperl): 
  Compile-time options:
    HAS_TIMES
    MULTIPLICITY
    PERLIO_LAYERS
    PERL_COPY_ON_WRITE
    PERL_DONT_CREATE_GVSV
    PERL_IMPLICIT_CONTEXT
    PERL_OP_PARENT
    PERL_PRESERVE_IVUV
    PERL_USE_DEVEL
    USE_64_BIT_ALL
    USE_64_BIT_INT
    USE_ITHREADS
    USE_LARGE_FILES
    USE_LOCALE
    USE_LOCALE_COLLATE
    USE_LOCALE_CTYPE
    USE_LOCALE_NUMERIC
    USE_LOCALE_TIME
    USE_PERLIO
    USE_PERL_ATOF
    USE_REENTRANT_API
  Built under freebsd
  Compiled at Oct 22 2017 19:22:12
  %ENV:
    PERL5LIB=""
    PERL5OPT=""
    PERL5_CPANPLUS_IS_RUNNING="45985"
    PERL5_CPAN_IS_RUNNING="45985"
    PERL5_CPAN_IS_RUNNING_IN_RECURSION="9549,45985"
    PERL_BATCH="yes"
    PERL_CANARY_STABILITY_NOPROMPT="1"
    PERL_CPAN_REPORTER_CONFIG="/var/tmp/cpansmoker-1023/2017110321/cpanreporter_000_config.ini"
    PERL_EXTUTILS_AUTOINSTALL="--defaultdeps"
    PERL_USE_UNSAFE_INC="1"
  @INC:
    /usr/perl5.27.5t/lib/site_perl/5.27.5/amd64-freebsd-thread-multi
    /usr/perl5.27.5t/lib/site_perl/5.27.5
    /usr/perl5.27.5t/lib/5.27.5/amd64-freebsd-thread-multi
    /usr/perl5.27.5t/lib/5.27.5
    .