Back
From: metabase:user:d2c9f356-b46f-11df-9a90-20a83c0b7757
Subject: PASS Data-FormValidator-4.70 v5.12.4 SunOS/Solaris
Date: 2011-11-12T17:03:53Z
This distribution has been tested as part of the CPAN Testers
project, supporting the Perl programming language. See
http://wiki.cpantesters.org/ for more information or email
questions to cpan-testers-discuss@perl.org
--
Dear Mark Stosberg,
This is a computer-generated report for Data-FormValidator-4.70
on perl 5.12.4, created by CPAN-Reporter-1.2002.
Thank you for uploading your work to CPAN. Congratulations!
All tests were successful.
Sections of this report:
* Tester comments
* Program output
* Prerequisites
* Environment and other context
------------------------------
TESTER COMMENTS
------------------------------
Additional comments from tester:
this report is from an automated smoke testing program
and was not reviewed by a human for accuracy
------------------------------
PROGRAM OUTPUT
------------------------------
Output from './Build test':
t/00_base.t .............................. ok
t/02_code_ref.t .......................... ok
t/03_dependency.t ........................ ok
t/04_arrayify_undef.t .................... ok
t/05_valid_ip_address.t .................. ok
t/06_regexp_map.t ........................ ok
t/09_require_some.t ...................... ok
t/11_procedural_match.t .................. ok
t/13_validator_packages.t ................ ok
t/15_literal_param_constraints.t ......... ok
t/16_cgi_object.t ........................ ok
t/17_multi_valued_keys.t ................. ok
t/18_constraint_refs.t ................... ok
t/19_refs_as_values.t .................... ok
t/20_careful_exception_handling.t ........ ok
t/21_multiple_fields.t ................... ok
t/25_results.t ........................... ok
t/26_qr.t ................................ ok
t/27_qualify_ref_happy_death.t ........... ok
t/28_defaults_for_new.t .................. ok
t/30_filter_definedness.t ................ ok
t/FV_length.t ............................ ok
t/any_errors.t ........................... ok
t/check_profile_syntax.t ................. ok
t/constraint_method.t .................... ok
t/constraint_method_string.t ............. ok
t/constraint_method_zero.t ............... ok
t/constraint_regexp_map_profile_reuse.t .. ok
t/constraints_builtin.t .................. ok
t/constraints_builtin_closure.t .......... ok
t/constraints_factory.t .................. ok
t/constraints_invalid_once_only.t ........ ok
t/constraints_regexp_map_interaction.t ... ok
t/constraints_reuse.t .................... ok
t/credit_card.t .......................... ok
t/dates.t ................................ ok
t/dates_closure.t ........................ ok
t/dependency_coderef.t ................... ok
t/dependency_groups.t .................... ok
t/filter_constraints.t ................... ok
"my" variable $replacer masks earlier declaration in same scope at t/filters_builtin.t line 17.
t/filters_builtin.t ...................... ok
t/filters_shouldnt_modify.t .............. ok
t/get_filtered_data.t .................... ok
t/get_input_data.t ....................... ok
t/missing_optional.t ..................... ok
t/msgs.t ................................. ok
t/multiple_constraints.t ................. ok
t/params_not_mentioned.t ................. ok
t/pod.t .................................. ok
t/procedural_valid.t ..................... ok
t/profile_checking.t ..................... ok
t/regexp_common.t ........................ ok
t/regexp_common_closure.t ................ ok
t/rename_builtin_constraints.t ........... ok
t/results_success.t ...................... ok
t/simple.t ............................... ok
t/tt_and_overload.t ...................... ok
t/undefined_arrayref.t ................... ok
t/unknown.t .............................. ok
t/untaint.t .............................. ok
# Adding CGI::Simple tests
# testing with CGI.pm version: 3.55
# testing with CGI::Simple version: 1.113
# Running tests with CGI
# Running tests with CGI::Simple
t/upload.t ............................... ok
# testing with CGI.pm version: 3.55
t/upload_closure.t ....................... ok
t/upload_mime_types.t .................... ok
All tests successful.
Files=63, Tests=625, 12 wallclock secs ( 0.24 usr 0.17 sys + 3.48 cusr 0.81 csys = 4.70 CPU)
Result: PASS
------------------------------
PREREQUISITES
------------------------------
Prerequisite modules loaded:
requires:
Module Need Have
--------------- ----- ----------
Date::Calc 5 6.3
Email::Valid 0 0.185
File::MMagic 1.17 1.27
Image::Size 0 3.230
MIME::Types 1.005 1.32
overload 0 1.10
perl 5.008 5.012004
Perl6::Junction 1.1 1.40000
Regexp::Common 0 2011041701
Scalar::Util 0 1.23
Test::More 0 0.98
build_requires:
Module Need Have
--------------- ----- ----------
CGI 3.48 3.55
configure_requires:
Module Need Have
--------------- ----- ----------
Module::Build 0.38 0.3800
------------------------------
ENVIRONMENT AND OTHER CONTEXT
------------------------------
Environment variables:
AUTOMATED_TESTING = 1
LANG = C
LD_LIBRARY_PATH = /usr/local/lib:
PATH = /export/home/cpant3/perl5/bin:/usr/local/bin:/usr/bin
PERL5LIB = /export/home/cpant3/.cpan/build/Image-Size-3.230-Lpbcsr/blib/arch:/export/home/cpant3/.cpan/build/Image-Size-3.230-Lpbcsr/blib/lib:/export/home/cpant3/.cpan/build/Email-Valid-0.185-n6xWj3/blib/arch:/export/home/cpant3/.cpan/build/Email-Valid-0.185-n6xWj3/blib/lib:/export/home/cpant3/.cpan/build/Net-DNS-0.67-8c37cY/blib/arch:/export/home/cpant3/.cpan/build/Net-DNS-0.67-8c37cY/blib/lib
PERL5OPT =
PERL5_CPANPLUS_IS_RUNNING = 6329
PERL5_CPAN_IS_RUNNING = 6329
PERL5_CPAN_IS_RUNNING_IN_RECURSION = 8973,6329
PERL_CR_SMOKER_CURRENT = Data-FormValidator-4.70
PERL_EXTUTILS_AUTOINSTALL = --defaultdeps
PERL_MM_USE_DEFAULT = 1
SHELL = /usr/bin/bash
TERM = xterm
Perl special variables (and OS-specific diagnostics, for MSWin32):
$^X = /export/home/cpant3/perl5/bin/perl5.12.4
$UID/$EUID = 103 / 103
$GID = 1 1
$EGID = 1 1
Perl module toolchain versions installed:
Module Have
------------------- --------
CPAN 1.9800
CPAN::Meta 2.112621
Cwd 3.33
ExtUtils::CBuilder 0.280202
ExtUtils::Command 1.17
ExtUtils::Install 1.55
ExtUtils::MakeMaker 6.62
ExtUtils::Manifest 1.60
ExtUtils::ParseXS 3.05
File::Spec 3.33
JSON 2.53
JSON::PP 2.27200
Module::Build 0.3800
Module::Signature n/a
Parse::CPAN::Meta 1.4401
Test::Harness 3.23
Test::More 0.98
YAML 0.77
YAML::Syck 1.18
version 0.94
--
Summary of my perl5 (revision 5 version 12 subversion 4) configuration:
Platform:
osname=solaris, osvers=2.10, archname=i86pc-solaris-64int
uname='sunos vmrz0046 5.10 generic_141445-09 i86pc i386 i86pc solaris '
config_args='-Dcc=gcc -Dprefix=~/perl5 -Duse64bitint -Dusedevel -d'
hint=recommended, useposix=true, d_sigaction=define
useithreads=undef, usemultiplicity=undef
useperlio=define, d_sfio=undef, uselargefiles=define, usesocks=undef
use64bitint=define, use64bitall=undef, uselongdouble=undef
usemymalloc=n, bincompat5005=undef
Compiler:
cc='gcc', ccflags ='-DPTR_IS_LONG -fno-strict-aliasing -pipe -I/usr/local/include -D_LARGEFILE_SOURCE -D_FILE_OFFSET_BITS=64 -DPERL_USE_SAFE_PUTENV',
optimize='-O',
cppflags='-DPTR_IS_LONG -fno-strict-aliasing -pipe -I/usr/local/include'
ccversion='', gccversion='3.4.6', gccosandvers='solaris2.10'
intsize=4, longsize=4, ptrsize=4, doublesize=8, byteorder=12345678
d_longlong=define, longlongsize=8, d_longdbl=define, longdblsize=12
ivtype='long long', ivsize=8, nvtype='double', nvsize=8, Off_t='off_t', lseeksize=8
alignbytes=4, prototype=define
Linker and Libraries:
ld='gcc', ldflags =' -L/usr/local/lib '
libpth=/usr/local/lib /usr/lib /usr/ccs/lib
libs=-lsocket -lnsl -lgdbm -ldl -lm -lc
perllibs=-lsocket -lnsl -ldl -lm -lc
libc=/lib/libc.so, so=so, useshrplib=false, libperl=libperl.a
gnulibc_version=''
Dynamic Linking:
dlsrc=dl_dlopen.xs, dlext=so, d_dlsymun=undef, ccdlflags=' '
cccdlflags='-fPIC', lddlflags='-G -L/usr/local/lib'
Characteristics of this binary (from libperl):
Compile-time options: PERL_DONT_CREATE_GVSV PERL_MALLOC_WRAP PERL_USE_DEVEL
PERL_USE_SAFE_PUTENV USE_64_BIT_INT USE_LARGE_FILES
USE_PERLIO USE_PERL_ATOF
Built under solaris
Compiled at Jun 21 2011 15:53:50
%ENV:
PERL5LIB="/export/home/cpant3/.cpan/build/Image-Size-3.230-Lpbcsr/blib/arch:/export/home/cpant3/.cpan/build/Image-Size-3.230-Lpbcsr/blib/lib:/export/home/cpant3/.cpan/build/Email-Valid-0.185-n6xWj3/blib/arch:/export/home/cpant3/.cpan/build/Email-Valid-0.185-n6xWj3/blib/lib:/export/home/cpant3/.cpan/build/Net-DNS-0.67-8c37cY/blib/arch:/export/home/cpant3/.cpan/build/Net-DNS-0.67-8c37cY/blib/lib"
PERL5OPT=""
PERL5_CPANPLUS_IS_RUNNING="6329"
PERL5_CPAN_IS_RUNNING="6329"
PERL5_CPAN_IS_RUNNING_IN_RECURSION="8973,6329"
PERL_CR_SMOKER_CURRENT="Data-FormValidator-4.70"
PERL_EXTUTILS_AUTOINSTALL="--defaultdeps"
PERL_MM_USE_DEFAULT="1"
@INC:
/export/home/cpant3/.cpan/build/Image-Size-3.230-Lpbcsr/blib/arch
/export/home/cpant3/.cpan/build/Image-Size-3.230-Lpbcsr/blib/lib
/export/home/cpant3/.cpan/build/Email-Valid-0.185-n6xWj3/blib/arch
/export/home/cpant3/.cpan/build/Email-Valid-0.185-n6xWj3/blib/lib
/export/home/cpant3/.cpan/build/Net-DNS-0.67-8c37cY/blib/arch
/export/home/cpant3/.cpan/build/Net-DNS-0.67-8c37cY/blib/lib
/export/home/cpant3/perl5/lib/site_perl/5.12.4/i86pc-solaris-64int
/export/home/cpant3/perl5/lib/site_perl/5.12.4
/export/home/cpant3/perl5/lib/5.12.4/i86pc-solaris-64int
/export/home/cpant3/perl5/lib/5.12.4
/export/home/cpant3/perl5/lib/site_perl
.