Report for Net-MBlox-0.004

Back
From: metabase:user:320bfe00-2aae-11df-837a-5e0a49663a4f
Subject: PASS Net-MBlox-0.004 v5.18.4 GNU/Linux
Date: 2016-01-25T04:30:01Z

This distribution has been tested as part of the CPAN Testers
project, supporting the Perl programming language.  See
http://wiki.cpantesters.org/ for more information or email
questions to cpan-testers-discuss@perl.org


--
Dear Simon Elliott,

This is a computer-generated report for Net-MBlox-0.004
on perl 5.18.4, created by CPAN-Reporter-1.2015.

Thank you for uploading your work to CPAN.  Congratulations!
All tests were successful.

Sections of this report:

    * Tester comments
    * Program output
    * Prerequisites
    * Environment and other context

------------------------------
TESTER COMMENTS
------------------------------

Additional comments from tester:

this report is from an automated smoke testing program
and was not reviewed by a human for accuracy

------------------------------
PROGRAM OUTPUT
------------------------------

Output from '/usr/bin/make test':

PERL_DL_NONLAZY=1 "/home/sand/src/perl/repoperls/installed-perls/perl/v5.18.4/109d/bin/perl" "-MExtUtils::Command::MM" "-MTest::Harness" "-e" "undef *Test::Harness::Switches; test_harness(0, 'blib/lib', 'blib/arch')" t/*.t
t/00-compile.t ......... ok
# Prerequisite Report:
#        Version Module               
#   ------------ ---------------------
#           7.10 ExtUtils::MakeMaker  
#           1.23 File::Find           
#           3.62 File::Spec::Functions
#         0.2304 File::Temp           
#           6.11 HTTP::Request        
#           6.11 HTTP::Request::Common
#           3.01 JSON::XS             
#           6.06 LWP::Protocol::https 
#           1.42 List::Util           
#           3.15 MIME::Base64         
#       2.000002 Moo                  
#   1.302013_011 Test::More           
#           0.12 WWW::Mechanize::GZip 
#           1.07 strict               
#           1.18 warnings             
t/00-report-prereqs.t .. ok
t/simple.t ............. skipped: Requires token
All tests successful.
Files=3, Tests=2,  2 wallclock secs ( 0.02 usr  0.02 sys +  0.48 cusr  0.08 csys =  0.60 CPU)
Result: PASS

------------------------------
PREREQUISITES
------------------------------

Prerequisite modules loaded:

requires:

    Module                Need Have        
    --------------------- ---- ------------
    HTTP::Request         0    6.11        
    HTTP::Request::Common 0    6.11        
    JSON::XS              0    3.01        
    LWP::Protocol::https  0    6.06        
    MIME::Base64          0    3.15        
    Moo                   0    2.000002    
    strict                0    1.07        
    warnings              0    1.18        
    WWW::Mechanize::GZip  0    0.12        

build_requires:

    Module                Need Have        
    --------------------- ---- ------------
    ExtUtils::MakeMaker   0    7.10        
    File::Find            0    1.23        
    File::Spec::Functions 0    3.62        
    File::Temp            0    0.2304      
    List::Util            0    1.42        
    Test::More            0    1.302013_011

configure_requires:

    Module                Need Have        
    --------------------- ---- ------------
    ExtUtils::MakeMaker   6.30 7.10        


------------------------------
ENVIRONMENT AND OTHER CONTEXT
------------------------------

Environment variables:

    AUTOMATED_TESTING = 1
    LANG = en_US.UTF-8
    LANGUAGE = en_US:en
    PATH = /home/sand/bin:/usr/local/bin:/usr/bin:/bin:/usr/games:/usr/local/perl/bin:/usr/X11/bin:/sbin:/usr/sbin
    PERL5LIB = 
    PERL5OPT = 
    PERL5_CPANPLUS_IS_RUNNING = 20329
    PERL5_CPAN_IS_RUNNING = 20329
    PERL_MM_USE_DEFAULT = 1
    SHELL = /usr/bin/zsh
    TERM = screen

Perl special variables (and OS-specific diagnostics, for MSWin32):

    $^X = /home/sand/src/perl/repoperls/installed-perls/perl/v5.18.4/109d/bin/perl
    $UID/$EUID = 1005 / 1005
    $GID = 1005 1005
    $EGID = 1005 1005

Perl module toolchain versions installed:

    Module              Have        
    ------------------- ------------
    CPAN                2.10        
    CPAN::Meta          2.150005    
    Cwd                 3.62        
    ExtUtils::CBuilder  0.280224    
    ExtUtils::Command   7.10        
    ExtUtils::Install   1.59        
    ExtUtils::MakeMaker 7.10        
    ExtUtils::Manifest  1.70        
    ExtUtils::ParseXS   3.30        
    File::Spec          3.62        
    JSON                2.90        
    JSON::PP            2.27300     
    Module::Build       0.4216      
    Module::Signature   0.79        
    Parse::CPAN::Meta   1.4417      
    Test::Harness       3.36        
    Test::More          1.302013_011
    YAML                1.15        
    YAML::Syck          1.29        
    version             0.9912_03   


--

Summary of my perl5 (revision 5 version 18 subversion 4) configuration:
  Derived from: 51202371ba68f3f52f13124a3ea1bc3c171e0ee2
  Platform:
    osname=linux, osvers=4.3.0-1-amd64, archname=x86_64-linux-thread-multi-ld
    uname='linux k83 4.3.0-1-amd64 #1 smp debian 4.3.3-2 (2015-12-17) x86_64 gnulinux '
    config_args='-Dprefix=/home/sand/src/perl/repoperls/installed-perls/perl/v5.18.4/109d -Dmyhostname=k83 -Dinstallusrbinperl=n -Uversiononly -Dusedevel -des -Ui_db -Dlibswanted=cl pthread socket inet nsl gdbm dbm malloc dl ld sun m crypt sec util c cposix posix ucb BSD gdbm_compat -Duseithreads -Duselongdouble -DDEBUGGING=-g'
    hint=recommended, useposix=true, d_sigaction=define
    useithreads=define, usemultiplicity=define
    useperlio=define, d_sfio=undef, uselargefiles=define, usesocks=undef
    use64bitint=define, use64bitall=define, uselongdouble=define
    usemymalloc=n, bincompat5005=undef
  Compiler:
    cc='cc', ccflags ='-D_REENTRANT -D_GNU_SOURCE -fno-strict-aliasing -pipe -fstack-protector -I/usr/local/include -D_LARGEFILE_SOURCE -D_FILE_OFFSET_BITS=64',
    optimize='-O2 -g',
    cppflags='-D_REENTRANT -D_GNU_SOURCE -fno-strict-aliasing -pipe -fstack-protector -I/usr/local/include'
    ccversion='', gccversion='5.3.1 20160101', gccosandvers=''
    intsize=4, longsize=8, ptrsize=8, doublesize=8, byteorder=12345678
    d_longlong=define, longlongsize=8, d_longdbl=define, longdblsize=16
    ivtype='long', ivsize=8, nvtype='long double', nvsize=16, Off_t='off_t', lseeksize=8
    alignbytes=16, prototype=define
  Linker and Libraries:
    ld='cc', ldflags =' -fstack-protector -L/usr/local/lib'
    libpth=/usr/local/lib /lib/x86_64-linux-gnu /lib/../lib /usr/lib/x86_64-linux-gnu /usr/lib/../lib /lib /usr/lib
    libs=-lpthread -lnsl -lgdbm -ldl -lm -lcrypt -lutil -lc -lgdbm_compat
    perllibs=-lpthread -lnsl -ldl -lm -lcrypt -lutil -lc
    libc=libc-2.21.so, so=so, useshrplib=false, libperl=libperl.a
    gnulibc_version='2.21'
  Dynamic Linking:
    dlsrc=dl_dlopen.xs, dlext=so, d_dlsymun=undef, ccdlflags='-Wl,-E'
    cccdlflags='-fPIC', lddlflags='-shared -O2 -g -L/usr/local/lib -fstack-protector'


Characteristics of this binary (from libperl): 
  Compile-time options: HAS_TIMES MULTIPLICITY PERLIO_LAYERS
                        PERL_DONT_CREATE_GVSV
                        PERL_HASH_FUNC_ONE_AT_A_TIME_HARD
                        PERL_IMPLICIT_CONTEXT PERL_MALLOC_WRAP
                        PERL_PRESERVE_IVUV PERL_SAWAMPERSAND PERL_USE_DEVEL
                        USE_64_BIT_ALL USE_64_BIT_INT USE_ITHREADS
                        USE_LARGE_FILES USE_LOCALE USE_LOCALE_COLLATE
                        USE_LOCALE_CTYPE USE_LOCALE_NUMERIC USE_LONG_DOUBLE
                        USE_PERLIO USE_PERL_ATOF USE_REENTRANT_API
  Locally applied patches:
	uncommitted-changes
	Devel::PatchPerl 1.38
  Built under linux
  Compiled at Jan  6 2016 07:41:27
  %ENV:
    PERL5LIB=""
    PERL5OPT=""
    PERL5_CPANPLUS_IS_RUNNING="20329"
    PERL5_CPAN_IS_RUNNING="20329"
    PERL_MM_USE_DEFAULT="1"
  @INC:
    /home/sand/src/perl/repoperls/installed-perls/perl/v5.18.4/109d/lib/site_perl/5.18.4/x86_64-linux-thread-multi-ld
    /home/sand/src/perl/repoperls/installed-perls/perl/v5.18.4/109d/lib/site_perl/5.18.4
    /home/sand/src/perl/repoperls/installed-perls/perl/v5.18.4/109d/lib/5.18.4/x86_64-linux-thread-multi-ld
    /home/sand/src/perl/repoperls/installed-perls/perl/v5.18.4/109d/lib/5.18.4
    .