Dist-Zilla-Plugin-MinimumPerl v1.006 Perl 5 v5.36.1 darwin-2level
- Status
- Pass
- From
- Dist
-
Dist-Zilla-Plugin-MinimumPerl v1.006
- Platform
- Perl 5 v5.36.1 darwin-2level
- Date
- 2023-06-14 23:58:03
- ID
- 4cd0c036-0b0f-11ee-a20f-e1e1e682080d
This distribution has been tested as part of the CPAN Testers
project, supporting the Perl programming language. See
http://wiki.cpantesters.org/ for more information or email
questions to cpan-testers-discuss@perl.org
--
Dear APOCAL,
This is a computer-generated report for Dist-Zilla-Plugin-MinimumPerl-1.006
on perl 5.36.1, created by App::cpanminus::reporter 0.20 (1.7046).
Thank you for uploading your work to CPAN. Congratulations!
All tests were successful.
Sections of this report:
* Tester comments
* Program output
* Prerequisites
* Environment and other context
------------------------------
TESTER COMMENTS
------------------------------
Additional comments from tester:
none provided
------------------------------
PROGRAM OUTPUT
------------------------------
Output from '':
Building and testing Dist-Zilla-Plugin-MinimumPerl-1.006
#
#
# Generated by Dist::Zilla::Plugin::ReportVersions::Tiny v1.10
# perl: 5.036001 (wanted 5.006) on darwin from /Users/ether/perl5/perlbrew/perls/36.1/bin/perl
#
# Dist::Zilla::Role::FileFinderUser => 6.030 (want 4.200006)
# Dist::Zilla::Role::PrereqSource => 6.030 (want 5.006)
# ExtUtils::MakeMaker => 7.64 (want any version)
# File::Spec => 3.84 (want any version)
# File::Temp => 0.2311 (want any version)
# IO::Handle => 1.48 (want any version)
# IPC::Open3 => 1.22 (want any version)
# Module::Build::Tiny => 0.046 (want 0.039)
# Moose => 2.2203 (want 1.03)
# Moose::Util::TypeConstraints => 2.2203 (want 1.01)
# MooseX::Types::Perl => 0.101344 (want 0.101340)
# Perl::MinimumVersion => 1.40 (want 1.26)
# Test::More => 1.302190 (want 0.88)
# strict => 1.12 (want any version)
# warnings => 1.58 (want any version)
#
# Thanks for using my code. I hope it works for you.
# If not, please try and include this output in the bug report.
# That will help me reproduce the issue and solve your problem.
#
t/apocalypse.t ................ skipped: Test::Apocalypse required for validating the distribution
t/00-compile.t ................ ok
t/000-report-versions-tiny.t .. ok
All tests successful.
Files=3, Tests=2, 1 wallclock secs ( 0.02 usr 0.02 sys + 0.98 cusr 0.25 csys = 1.27 CPU)
Result: PASS
------------------------------
PREREQUISITES
------------------------------
Prerequisite modules loaded:
runtime:
Module Need Have
--------------------------------- -------- --------
Dist::Zilla::Role::FileFinderUser 4.200006 6.030
Dist::Zilla::Role::PrereqSource 5.006 6.030
Moose 1.03 2.2203
Moose::Util::TypeConstraints 1.01 2.2203
MooseX::Types::Perl 0.101340 0.101344
perl 5.006 5.036001
Perl::MinimumVersion 1.26 1.40
strict 0 1.12
warnings 0 1.58
configure:
Module Need Have
--------------------------------- -------- --------
ExtUtils::MakeMaker 0 7.64
Module::Build::Tiny 0.039 0.046
perl 5.006 5.036001
------------------------------
ENVIRONMENT AND OTHER CONTEXT
------------------------------
Environment variables:
HARNESS_OPTIONS = j6:c
LANG = en_CA.UTF-8
LC_ALL = en_CA.UTF-8
LC_CTYPE = en_CA.UTF-8
LDFLAGS = -L/usr/local/opt/mysql@5.7/lib
NO_NETWORK_TESTING = 1
PATH = /Users/ether/.perlbrew/libs/36.1@std/bin:/Users/ether/perl5/perlbrew/bin:/Users/ether/perl5/perlbrew/perls/36.1/bin:/opt/chefdk/bin:/Users/ether/.chefdk/gem/ruby/2.6.0/bin:/opt/chefdk/embedded/bin:/Users/ether/bin:/Users/ether/git/misc/install/curacao/bin:/Users/ether/git/misc/install/generic/bin:/opt/local/bin:/opt/local/sbin:/Users/ether/bin/google-cloud-sdk/bin:/Users/ether/bin/google-cloud-sdk/bin:/usr/local/sessionmanagerplugin/bin:/Users/ether/.cargo/bin:/Users/ether/.pyenv/shims:/Users/ether/.krew/bin:/usr/local/opt/mysql@5.7/bin:/Users/ether/go/bin:/Users/ether/git/git-hub/lib:/usr/local/bin:/System/Cryptexes/App/usr/bin:/usr/bin:/bin:/usr/sbin:/sbin:/Library/Apple/usr/bin:/var/run/com.apple.security.cryptexd/codex.system/bootstrap/usr/local/bin:/var/run/com.apple.security.cryptexd/codex.system/bootstrap/usr/bin:/var/run/com.apple.security.cryptexd/codex.system/bootstrap/usr/appleinternal/bin:/opt/local/share/git-core/contrib/workdir:/Users/ether/node_modules/.bin:/usr/local/google-cloud-sdk/bin:/usr/local/go/bin:/opt/chefdk/gitbin
PERL5LIB = /Users/ether/.perlbrew/libs/36.1@std/lib/perl5
PERLBREW_HOME = /Users/ether/.perlbrew
PERLBREW_LIB = std
PERLBREW_MANPATH = /Users/ether/.perlbrew/libs/36.1@std/man:/Users/ether/perl5/perlbrew/perls/36.1/man
PERLBREW_PATH = /Users/ether/.perlbrew/libs/36.1@std/bin:/Users/ether/perl5/perlbrew/bin:/Users/ether/perl5/perlbrew/perls/36.1/bin
PERLBREW_PERL = 36.1
PERLBREW_ROOT = /Users/ether/perl5/perlbrew
PERLBREW_SHELLRC_VERSION = 0.96
PERLBREW_VERSION = 0.97
PERLDOC = -oman
PERLDOC_PAGER = less -sicMr
PERL_AUTOINSTALL_PREFER_CPAN = 1
PERL_INSTALL_QUIET = 1
PERL_LOCAL_LIB_ROOT = /Users/ether/.perlbrew/libs/36.1@std
PERL_MB_OPT = --install_base /Users/ether/.perlbrew/libs/36.1@std
PERL_MM_OPT = INSTALL_BASE=/Users/ether/.perlbrew/libs/36.1@std
PERL_TEST_HARNESS_ASAP = 1
PERL_USE_UNSAFE_INC = 0
SHELL = /bin/bash
TERM = xterm-color
TMPDIR = /var/folders/k0/tyl0f1_n25x23qdgmcqhds7m0000gn/T/
Perl special variables (and OS-specific diagnostics, for MSWin32):
EGID = 20 20 12 61 79 80 81 98 701 33 100 204 250 395 398 399 400
EUID = 501
EXECUTABLE_NAME = /Users/ether/perl5/perlbrew/perls/36.1/bin/perl
GID = 20 20 12 61 79 80 81 98 701 33 100 204 250 395 398 399 400
UID = 501
Perl module toolchain versions installed:
Module Have
------------------- --------
CPAN 2.33
CPAN::Meta 2.150010
Cwd 3.84
ExtUtils::CBuilder 0.280236
ExtUtils::Command 7.64
ExtUtils::Install 2.20
ExtUtils::MakeMaker 7.64
ExtUtils::Manifest 1.73
ExtUtils::ParseXS 3.45
File::Spec 3.84
JSON n/a
JSON::PP 4.07
Module::Build 0.4234
Module::Signature n/a
Parse::CPAN::Meta 2.150010
Test::Harness 3.44
Test::More 1.302190
YAML n/a
YAML::Syck n/a
version 0.9929
--
Summary of my perl5 (revision 5 version 36 subversion 1) configuration:
Platform:
osname=darwin
osvers=22.5.0
archname=darwin-2level
uname='darwin curacao 22.5.0 darwin kernel version 22.5.0: mon apr 24 20:51:50 pdt 2023; root:xnu-8796.121.2~5release_x86_64 x86_64 '
config_args='-de -Dprefix=/Users/ether/perl5/perlbrew/perls/36.1 -Dman1dir=none -Dman3dir=none -Aeval:scriptdir=/Users/ether/perl5/perlbrew/perls/36.1/bin'
hint=recommended
useposix=true
d_sigaction=define
useithreads=undef
usemultiplicity=undef
use64bitint=define
use64bitall=define
uselongdouble=undef
usemymalloc=n
default_inc_excludes_dot=define
Compiler:
cc='cc'
ccflags ='-fno-common -DPERL_DARWIN -mmacosx-version-min=13.4 -fno-strict-aliasing -pipe -fstack-protector-strong -I/usr/local/include -I/opt/local/include -DPERL_USE_SAFE_PUTENV'
optimize='-O3'
cppflags='-fno-common -DPERL_DARWIN -mmacosx-version-min=13.4 -fno-strict-aliasing -pipe -fstack-protector-strong -I/usr/local/include -I/opt/local/include'
ccversion=''
gccversion='Apple LLVM 14.0.3 (clang-1403.0.22.14.1)'
gccosandvers=''
intsize=4
longsize=8
ptrsize=8
doublesize=8
byteorder=12345678
doublekind=3
d_longlong=define
longlongsize=8
d_longdbl=define
longdblsize=16
longdblkind=3
ivtype='long'
ivsize=8
nvtype='double'
nvsize=8
Off_t='off_t'
lseeksize=8
alignbytes=8
prototype=define
Linker and Libraries:
ld='cc'
ldflags =' -mmacosx-version-min=13.4 -fstack-protector-strong -L/usr/local/lib -L/opt/local/lib'
libpth=/usr/local/lib /Applications/Xcode.app/Contents/Developer/Toolchains/XcodeDefault.xctoolchain/usr/lib/clang/14.0.3/lib /Applications/Xcode.app/Contents/Developer/Platforms/MacOSX.platform/Developer/SDKs/MacOSX.sdk/usr/lib /Applications/Xcode.app/Contents/Developer/Toolchains/XcodeDefault.xctoolchain/usr/lib /opt/local/lib /usr/lib
libs=-lgdbm
perllibs=
libc=
so=dylib
useshrplib=false
libperl=libperl.a
gnulibc_version=''
Dynamic Linking:
dlsrc=dl_dlopen.xs
dlext=bundle
d_dlsymun=undef
ccdlflags=' '
cccdlflags=' '
lddlflags=' -mmacosx-version-min=13.4 -bundle -undefined dynamic_lookup -L/usr/local/lib -L/opt/local/lib -fstack-protector-strong'
Characteristics of this binary (from libperl):
Compile-time options:
HAS_TIMES
PERLIO_LAYERS
PERL_COPY_ON_WRITE
PERL_DONT_CREATE_GVSV
PERL_MALLOC_WRAP
PERL_OP_PARENT
PERL_PRESERVE_IVUV
PERL_USE_SAFE_PUTENV
USE_64_BIT_ALL
USE_64_BIT_INT
USE_LARGE_FILES
USE_LOCALE
USE_LOCALE_COLLATE
USE_LOCALE_CTYPE
USE_LOCALE_NUMERIC
USE_LOCALE_TIME
USE_PERLIO
USE_PERL_ATOF
Built under darwin
Compiled at Jun 13 2023 12:24:05
%ENV:
PERL5LIB="/Users/ether/.perlbrew/libs/36.1@std/lib/perl5"
PERLBREW_HOME="/Users/ether/.perlbrew"
PERLBREW_LIB="std"
PERLBREW_MANPATH="/Users/ether/.perlbrew/libs/36.1@std/man:/Users/ether/perl5/perlbrew/perls/36.1/man"
PERLBREW_PATH="/Users/ether/.perlbrew/libs/36.1@std/bin:/Users/ether/perl5/perlbrew/bin:/Users/ether/perl5/perlbrew/perls/36.1/bin"
PERLBREW_PERL="36.1"
PERLBREW_ROOT="/Users/ether/perl5/perlbrew"
PERLBREW_SHELLRC_VERSION="0.96"
PERLBREW_VERSION="0.97"
PERLDOC="-oman"
PERLDOC_PAGER="less -sicMr"
PERL_AUTOINSTALL_PREFER_CPAN="1"
PERL_INSTALL_QUIET="1"
PERL_LOCAL_LIB_ROOT="/Users/ether/.perlbrew/libs/36.1@std"
PERL_MB_OPT="--install_base /Users/ether/.perlbrew/libs/36.1@std"
PERL_MM_OPT="INSTALL_BASE=/Users/ether/.perlbrew/libs/36.1@std"
PERL_TEST_HARNESS_ASAP="1"
PERL_USE_UNSAFE_INC="0"
@INC:
/Users/ether/.perlbrew/libs/36.1@std/lib/perl5/darwin-2level
/Users/ether/.perlbrew/libs/36.1@std/lib/perl5
/Users/ether/perl5/perlbrew/perls/36.1/lib/site_perl/5.36.1/darwin-2level
/Users/ether/perl5/perlbrew/perls/36.1/lib/site_perl/5.36.1
/Users/ether/perl5/perlbrew/perls/36.1/lib/5.36.1/darwin-2level
/Users/ether/perl5/perlbrew/perls/36.1/lib/5.36.1