CPAN-Testers-ParseReport v0.4.5 Perl 5 v5.39.7 x86_64-linux-ld

Status
Pass
From
Andreas J. König (ANDK)
Dist
CPAN-Testers-ParseReport v0.4.5
Platform
Perl 5 v5.39.7 x86_64-linux-ld
Date
2024-02-04 00:06:53
ID
4d34f89a-c2f1-11ee-be98-f327d0d71358
This distribution has been tested as part of the CPAN Testers
project, supporting the Perl programming language.  See
http://wiki.cpantesters.org/ for more information or email
questions to cpan-testers-discuss@perl.org


--
Dear Andreas J. Koenig,

This is a computer-generated report for CPAN-Testers-ParseReport-0.4.5
on perl 5.39.7, created by CPAN-Reporter-1.2019.

Thank you for uploading your work to CPAN.  Congratulations!
All tests were successful.

Sections of this report:

    * Tester comments
    * Program output
    * Prerequisites
    * Environment and other context

------------------------------
TESTER COMMENTS
------------------------------

Additional comments from tester:

this report is from an automated smoke testing program
and was not reviewed by a human for accuracy

------------------------------
PROGRAM OUTPUT
------------------------------

Output from '/usr/bin/make test':

PERL_DL_NONLAZY=1 "/tmp/basesmoker-reloperl-c4lV/bin/perl" "-MExtUtils::Command::MM" "-MTest::Harness" "-e" "undef *Test::Harness::Switches; test_harness(0, 'blib/lib', 'blib/arch')" t/*.t
# 
# 
# Perl v5.39.7 under linux 
#  Modules in memory:
#   attributes v0.35;
#   AutoLoader v5.74;
#   B v1.89;
#   B::AV;
#   B::BINOP;
#   B::BM;
#   B::COP;
#   B::CV;
#   B::Deparse;
#   B::FM;
#   B::GV;
#   B::HE;
#   B::Hooks;
#   B::Hooks::EndOfScope v0.26;
#   B::Hooks::EndOfScope::XS v0.26;
#   B::HV;
#   B::INVLIST;
#   B::IO;
#   B::IV;
#   B::LISTOP;
#   B::LOGOP;
#   B::LOOP;
#   B::MAGIC;
#   B::METHOP;
#   B::NULL;
#   B::NV;
#   B::OBJ;
#   B::OBJECT;
#   B::OP;
#   B::PADLIST;
#   B::PADNAME;
#   B::PADNAMELIST;
#   B::PADOP;
#   B::PMOP;
#   B::PV;
#   B::PVIV;
#   B::PVLV;
#   B::PVMG;
#   B::PVNV;
#   B::PVOP;
#   B::REGEXP;
#   B::RHE;
#   B::RV;
#   B::SPECIAL;
#   B::SV;
#   B::SVOP;
#   B::UNOP;
#   B::UNOP_AUX;
#   base v2.27;
#   base::__inc;
#   base::__inc::scope_guard;
#   builtin v0.012;
#   bytes v1.08;
#   Carp v1.54;
#   Class;
#   Class::C3;
#   Class::C3::XS;
#   Class::Data;
#   Class::Data::Inheritable v0.09;
#   Class::Inspector v1.36;
#   Class::Method;
#   Class::Method::Modifiers;
#   Class::MOP;
#   Class::Singleton v1.6;
#   Class::XSAccessor v1.19;
#   Class::XSAccessor::Array;
#   Class::XSAccessor::Heavy v1.19;
#   Clone v0.46;
#   common;
#   common::sense v3.75;
#   Compress;
#   Compress::Raw;
#   Compress::Raw::Bzip2;
#   Compress::Raw::Zlib v2.206;
#   Compress::Raw::Zlib::Deflate;
#   Compress::Raw::Zlib::deflateStream;
#   Compress::Raw::Zlib::Inflate;
#   Compress::Raw::Zlib::InflateScan;
#   Compress::Raw::Zlib::inflateScanStream;
#   Compress::Raw::Zlib::inflateStream;
#   Compress::Raw::Zlib::Parameters;
#   Compress::Zlib v2.206;
#   Compress::Zlib::gzFile;
#   Config v5.039007;
#   constant v1.33;
#   CORE;
#   CORE::GLOBAL;
#   CPAN;
#   CPAN::DistnameInfo;
#   CPAN::Meta;
#   CPAN::Meta::YAML;
#   CPAN::Testers;
#   CPAN::Testers::ParseReport v0.4.5;
#   CPAN::WWW;
#   CPAN::WWW::Testers;
#   CPAN::WWW::Testers::Generator;
#   CPAN::WWW::Testers::Generator::Database;
#   Cwd v3.90;
#   Data;
#   Data::Dumper;
#   DateTime v1.65;
#   DateTime::_Thawed;
#   DateTime::Duration v1.65;
#   DateTime::Format;
#   DateTime::Format::Strptime v1.79;
#   DateTime::Format::Strptime::Types v1.79;
#   DateTime::Helpers v1.65;
#   DateTime::Infinite v1.65;
#   DateTime::Infinite::Future;
#   DateTime::Infinite::Past;
#   DateTime::Locale v1.40;
#   DateTime::Locale::Base v1.40;
#   DateTime::Locale::Data v1.40;
#   DateTime::Locale::FromData v1.40;
#   DateTime::Locale::Util v1.40;
#   DateTime::PP;
#   DateTime::PPExtra;
#   DateTime::TimeZone v2.61;
#   DateTime::TimeZone::Catalog v2.61;
#   DateTime::TimeZone::Floating v2.61;
#   DateTime::TimeZone::Local v2.61;
#   DateTime::TimeZone::OffsetOnly v2.61;
#   DateTime::TimeZone::OlsonDB;
#   DateTime::TimeZone::OlsonDB::Change v2.61;
#   DateTime::TimeZone::UTC v2.61;
#   DateTime::Types v1.65;
#   DB;
#   Devel;
#   Devel::LexAlias;
#   Devel::StackTrace v2.05;
#   Devel::StackTrace::Frame v2.05;
#   Devel::StackTraceFrame;
#   Does;
#   Does::Not;
#   Does::Not::Exist;
#   Dos;
#   DynaLoader;
#   Encode;
#   Encode::Locale;
#   Errno;
#   Eval;
#   Eval::Closure v0.14;
#   Eval::Closure::Sandbox_1;
#   Eval::Closure::Sandbox_10;
#   Eval::Closure::Sandbox_11;
#   Eval::Closure::Sandbox_12;
#   Eval::Closure::Sandbox_13;
#   Eval::Closure::Sandbox_14;
#   Eval::Closure::Sandbox_15;
#   Eval::Closure::Sandbox_16;
#   Eval::Closure::Sandbox_17;
#   Eval::Closure::Sandbox_18;
#   Eval::Closure::Sandbox_19;
#   Eval::Closure::Sandbox_2;
#   Eval::Closure::Sandbox_20;
#   Eval::Closure::Sandbox_21;
#   Eval::Closure::Sandbox_22;
#   Eval::Closure::Sandbox_23;
#   Eval::Closure::Sandbox_24;
#   Eval::Closure::Sandbox_25;
#   Eval::Closure::Sandbox_26;
#   Eval::Closure::Sandbox_27;
#   Eval::Closure::Sandbox_28;
#   Eval::Closure::Sandbox_29;
#   Eval::Closure::Sandbox_3;
#   Eval::Closure::Sandbox_30;
#   Eval::Closure::Sandbox_31;
#   Eval::Closure::Sandbox_32;
#   Eval::Closure::Sandbox_33;
#   Eval::Closure::Sandbox_34;
#   Eval::Closure::Sandbox_35;
#   Eval::Closure::Sandbox_36;
#   Eval::Closure::Sandbox_37;
#   Eval::Closure::Sandbox_38;
#   Eval::Closure::Sandbox_39;
#   Eval::Closure::Sandbox_4;
#   Eval::Closure::Sandbox_40;
#   Eval::Closure::Sandbox_41;
#   Eval::Closure::Sandbox_42;
#   Eval::Closure::Sandbox_43;
#   Eval::Closure::Sandbox_44;
#   Eval::Closure::Sandbox_45;
#   Eval::Closure::Sandbox_46;
#   Eval::Closure::Sandbox_47;
#   Eval::Closure::Sandbox_48;
#   Eval::Closure::Sandbox_49;
#   Eval::Closure::Sandbox_5;
#   Eval::Closure::Sandbox_50;
#   Eval::Closure::Sandbox_51;
#   Eval::Closure::Sandbox_52;
#   Eval::Closure::Sandbox_53;
#   Eval::Closure::Sandbox_54;
#   Eval::Closure::Sandbox_55;
#   Eval::Closure::Sandbox_56;
#   Eval::Closure::Sandbox_57;
#   Eval::Closure::Sandbox_58;
#   Eval::Closure::Sandbox_59;
#   Eval::Closure::Sandbox_6;
#   Eval::Closure::Sandbox_60;
#   Eval::Closure::Sandbox_7;
#   Eval::Closure::Sandbox_8;
#   Eval::Closure::Sandbox_9;
#   Exception;
#   Exception::Class v1.45;
#   Exception::Class::Base v1.45;
#   Exporter v5.78;
#   Exporter::Heavy v5.78;
#   Exporter::Tiny v1.006002;
#   ExtUtils;
#   ExtUtils::Constant;
#   ExtUtils::Constant::ProxySubs;
#   f845a9c1ac41be33;
#   FakeLocale;
#   Fcntl v1.16;
#   fields;
#   File;
#   File::Basename v2.86;
#   File::BSDGlob;
#   File::Copy v2.41;
#   File::Glob v1.41;
#   File::GlobMapper v1.001;
#   File::Path v2.18;
#   File::ShareDir v1.118;
#   File::Spec v3.90;
#   File::Spec::Unix v3.91;
#   File::Temp;
#   HTML;
#   HTML::Entities v3.81;
#   HTML::HeadParser;
#   HTML::Parser v3.81;
#   HTTP;
#   HTTP::Config;
#   HTTP::Date v6.06;
#   HTTP::Headers v6.45;
#   HTTP::Headers::Util;
#   HTTP::Message v6.45;
#   HTTP::Request v6.45;
#   HTTP::Request::Common;
#   HTTP::Response v6.45;
#   HTTP::Status v6.45;
#   integer v1.01;
#   Internals;
#   IO v1.55;
#   IO::Compress;
#   IO::Compress::Adapter;
#   IO::Compress::Adapter::Deflate v2.206;
#   IO::Compress::Base v2.206;
#   IO::Compress::Base::Common v2.206;
#   IO::Compress::Base::Parameters;
#   IO::Compress::Base::Validator;
#   IO::Compress::Brotli;
#   IO::Compress::Bzip2;
#   IO::Compress::Deflate;
#   IO::Compress::Gzip v2.206;
#   IO::Compress::Gzip::Constants v2.206;
#   IO::Compress::RawDeflate v2.206;
#   IO::Compress::Zlib;
#   IO::Compress::Zlib::Extra v2.206;
#   IO::File v1.55;
#   IO::Handle v1.55;
#   IO::HTML;
#   IO::Poll;
#   IO::Prompt;
#   IO::Seekable v1.55;
#   IO::Socket;
#   IO::Uncompress;
#   IO::Uncompress::Adapter;
#   IO::Uncompress::Adapter::Inflate v2.206;
#   IO::Uncompress::Base v2.206;
#   IO::Uncompress::Brotli;
#   IO::Uncompress::Gunzip v2.206;
#   IO::Uncompress::Inflate;
#   IO::Uncompress::RawInflate v2.206;
#   isn;
#   JSON;
#   JSON::PP;
#   JSON::PP::Boolean;
#   JSON::XS v4.03;
#   JSON::XS::Boolean;
#   Lexical;
#   Lexical::SealRequireHints v0.012;
#   Lexical::Sub v0.010;
#   Lexical::Var v0.010;
#   Lexical::Var::<LVOUR>$;
#   Lexical::Var::<LVOUR>%;
#   Lexical::Var::<LVOUR>&;
#   Lexical::Var::<LVOUR>@;
#   List;
#   List::AllUtils v0.19;
#   List::MoreUtils v0.430;
#   List::MoreUtils::PP v0.430;
#   List::MoreUtils::XS v0.430;
#   List::MoreUtils::XS_ea;
#   List::MoreUtils::XS_sa;
#   List::SomeUtils v0.59;
#   List::SomeUtils::PP v0.59;
#   List::SomeUtils::XS v0.58;
#   List::SomeUtils_ea;
#   List::SomeUtils_na;
#   List::Util v1.63;
#   List::Util::_Pair;
#   List::UtilsBy v0.12;
#   Log;
#   Log::Agent v1.005;
#   Log::Agent::Formatting;
#   Log::Agent::Message;
#   Log::Agent::Priorities;
#   LWP v6.73;
#   LWP::ConnCache;
#   LWP::MemberMixin v6.73;
#   LWP::Protocol v6.73;
#   LWP::Protocol::nogo;
#   LWP::UserAgent v6.73;
#   MacPerl;
#   maybe;
#   maybe::next;
#   MIME;
#   MIME::Base64 v3.16_01;
#   MIME::QuotedPrint v3.16_01;
#   Module;
#   Module::Implementation v0.09;
#   Module::Load v0.36;
#   Module::Runtime v0.016;
#   Module::Versions;
#   Module::Versions::Report v1.06;
#   MRO;
#   mro v1.28;
#   MRO::Compat v0.15;
#   namespace;
#   namespace::autoclean v0.29;
#   namespace::clean v0.27;
#   namespace::clean::_Util;
#   next;
#   Object;
#   Object::HashBase;
#   overload v1.37;
#   overload::numbers;
#   overloading v0.02;
#   Package;
#   Package::Stash v0.40;
#   Package::Stash::PP;
#   Package::Stash::XS v0.30;
#   Params;
#   Params::Util v1.102;
#   Params::Util::PP v1.102;
#   Params::ValidationCompiler v0.31;
#   Params::ValidationCompiler::Compiler v0.31;
#   Params::ValidationCompiler::Exception;
#   Params::ValidationCompiler::Exception::BadArguments v1.1;
#   Params::ValidationCompiler::Exception::Named;
#   Params::ValidationCompiler::Exception::Named::Extra v1.1;
#   Params::ValidationCompiler::Exception::Named::Required v1.1;
#   Params::ValidationCompiler::Exception::Positional;
#   Params::ValidationCompiler::Exception::Positional::Extra v1.1;
#   Params::ValidationCompiler::Exception::Positional::Required v1.1;
#   Params::ValidationCompiler::Exception::ValidationFailedForMooseTypeConstraint v1.1;
#   Params::ValidationCompiler::Exceptions v0.31;
#   parent v0.241;
#   Parse;
#   Parse::CPAN;
#   Parse::CPAN::Meta v2.150010;
#   Perl;
#   Perl::Tidy;
#   PerlIO v1.12;
#   PerlIO::Layer;
#   POSIX v2.17;
#   POSIX::SigAction;
#   POSIX::SigRt;
#   POSIX::SigSet;
#   POSIX::Termios;
#   re v0.45;
#   Ref;
#   Ref::Util v0.204;
#   Ref::Util::PP;
#   Ref::Util::XS v0.117;
#   Regexp;
#   Role;
#   Role::Tiny v2.002004;
#   Role::Tiny::__GUARD__;
#   Role::Tiny::With v2.002004;
#   Scalar;
#   Scalar::Util v1.63;
#   SelectSaver v1.02;
#   Specio v0.48;
#   Specio::Coercion v0.48;
#   Specio::Constraint;
#   Specio::Constraint::AnyCan v0.48;
#   Specio::Constraint::AnyDoes;
#   Specio::Constraint::AnyIsa;
#   Specio::Constraint::Enum v0.48;
#   Specio::Constraint::Intersection;
#   Specio::Constraint::ObjectCan v0.48;
#   Specio::Constraint::ObjectDoes;
#   Specio::Constraint::ObjectIsa v0.48;
#   Specio::Constraint::Parameterizable v0.48;
#   Specio::Constraint::Parameterized v0.48;
#   Specio::Constraint::Role;
#   Specio::Constraint::Role::CanType v0.48;
#   Specio::Constraint::Role::Interface v0.48;
#   Specio::Constraint::Role::IsaType v0.48;
#   Specio::Constraint::Simple v0.48;
#   Specio::Constraint::Union v0.48;
#   Specio::Declare v0.48;
#   Specio::DeclaredAt v0.48;
#   Specio::Exception v0.48;
#   Specio::Exporter v0.48;
#   Specio::Helpers v0.48;
#   Specio::Library;
#   Specio::Library::Builtins v0.48;
#   Specio::Library::Numeric v0.48;
#   Specio::Library::Perl v0.48;
#   Specio::Library::String v0.48;
#   Specio::OO v0.48;
#   Specio::PartialDump v0.48;
#   Specio::Registry v0.48;
#   Specio::Role;
#   Specio::Role::Inlinable v0.48;
#   Specio::Subs v0.48;
#   Specio::TypeChecks v0.48;
#   Statistics;
#   Statistics::Regression;
#   Storable v3.32;
#   strict v1.13;
#   Sub;
#   Sub::Exporter;
#   Sub::Exporter::Progressive v0.001013;
#   Sub::Identify v0.14;
#   Sub::Name;
#   Sub::Quote;
#   Sub::Util v1.63;
#   Symbol v1.09;
#   Term;
#   Term::Cap;
#   Term::Table;
#   Term::Table::Util;
#   Test;
#   Test2;
#   Test2::API v1.302198;
#   Test2::API::Breakage;
#   Test2::API::Context v1.302198;
#   Test2::API::Instance v1.302198;
#   Test2::API::InterceptResult;
#   Test2::API::Stack v1.302198;
#   Test2::Event v1.302198;
#   Test2::Event::Bail v1.302198;
#   Test2::Event::Diag v1.302198;
#   Test2::Event::Exception v1.302198;
#   Test2::Event::Fail v1.302198;
#   Test2::Event::Note v1.302198;
#   Test2::Event::Ok v1.302198;
#   Test2::Event::Pass v1.302198;
#   Test2::Event::Plan v1.302198;
#   Test2::Event::Skip v1.302198;
#   Test2::Event::Subtest v1.302198;
#   Test2::Event::V2 v1.302198;
#   Test2::Event::Waiting v1.302198;
#   Test2::EventFacet v1.302198;
#   Test2::EventFacet::About v1.302198;
#   Test2::EventFacet::Amnesty v1.302198;
#   Test2::EventFacet::Assert v1.302198;
#   Test2::EventFacet::Control v1.302198;
#   Test2::EventFacet::Error v1.302198;
#   Test2::EventFacet::Hub v1.302198;
#   Test2::EventFacet::Info v1.302198;
#   Test2::EventFacet::Meta v1.302198;
#   Test2::EventFacet::Parent v1.302198;
#   Test2::EventFacet::Plan v1.302198;
#   Test2::EventFacet::Trace v1.302198;
#   Test2::Formatter v1.302198;
#   Test2::Formatter::TAP v1.302198;
#   Test2::Hub v1.302198;
#   Test2::Hub::Interceptor v1.302198;
#   Test2::Hub::Interceptor::Terminator v1.302198;
#   Test2::Hub::Subtest v1.302198;
#   Test2::IPC;
#   Test2::IPC::Driver;
#   Test2::IPC::Driver::Files;
#   Test2::Util v1.302198;
#   Test2::Util::ExternalMeta v1.302198;
#   Test2::Util::Facets2Legacy v1.302198;
#   Test2::Util::HashBase v1.302198;
#   Test2::Util::Trace v1.302198;
#   Test::Builder v1.302198;
#   Test::Builder::Formatter v1.302198;
#   Test::Builder::IO;
#   Test::Builder::IO::Scalar;
#   Test::Builder::Module v1.302198;
#   Test::Builder::TodoDiag v1.302198;
#   Test::CPAN;
#   Test::CPAN::Meta v0.25;
#   Test::CPAN::Meta::Version v0.25;
#   Test::More v1.302198;
#   threads;
#   Tie;
#   Tie::ExtraHash;
#   Tie::Hash v1.06;
#   Tie::Hash::NamedCapture;
#   Tie::StdHash;
#   Time;
#   Time::HiRes v1.9776;
#   Time::Local v1.35;
#   Time::Zone;
#   Try;
#   Try::Tiny v0.31;
#   Try::Tiny::Catch;
#   Try::Tiny::ScopeGuard;
#   Types;
#   Types::Serialiser v1.01;
#   Types::Serialiser::Boolean;
#   Types::Serialiser::BooleanBase;
#   Types::Serialiser::Error;
#   U64;
#   UNIVERSAL;
#   URI v5.21;
#   URI::_foreign;
#   URI::_generic;
#   URI::Escape v5.21;
#   utf8 v1.25;
#   Variable;
#   Variable::Magic v0.63;
#   vars v1.05;
#   version v0.9930;
#   version::regex v0.9930;
#   VMS;
#   VMS::Feature;
#   VMS::Filespec;
#   warnings v1.67;
#   warnings::register v1.06;
#   Win32;
#   XSLoader v0.32;
#   XString v0.005;
#   Zlib;
#   Zlib::OldDeflate;
#   Zlib::OldInflate;
# [at Sun Feb  4 00:06:18 2024 (local) / Sun Feb  4 00:06:18 2024 (GMT)]
t/00-load.t ............ ok
t/01-metayaml.t ........ ok
t/ctgetreports.t ....... ok
t/ctgr-live.t .......... skipped: envariable AUTHOR_TEST not set
t/nytprof.t ............ skipped: envariable AUTHOR_TEST not set
t/parse_long_report.t .. skipped: envariable AUTHOR_TEST not set
t/pod-coverage.t ....... ok
t/pod.t ................ ok
t/run.t ................ ok
All tests successful.
Files=9, Tests=105,  7 wallclock secs ( 0.04 usr  0.02 sys +  6.35 cusr  0.68 csys =  7.09 CPU)
Result: PASS

------------------------------
PREREQUISITES
------------------------------

Prerequisite modules loaded:

requires:

    Module                     Need     Have    
    -------------------------- -------- --------
    Class::ISA                 0        0.36    
    Compress::Zlib             0        2.206   
    CPAN::Meta::Converter      2.110440 2.150010
    CPAN::Meta::YAML           0.018    0.018   
    DateTime                   0        1.65    
    DateTime::Format::Strptime 0        1.79    
    ExtUtils::MakeMaker        6.48     7.70    
    File::Path                 1.08     2.18    
    File::Spec                 3.90     3.90    
    Getopt::Long               0        2.57    
    Hash::Util                 0        0.31    
    HTML::Entities             0        3.81    
    IO::Prompt                 0.997004 0.997004
    JSON::PP                   4.16     4.16    
    JSON::XS                   0        4.03    
    List::AllUtils             0        0.19    
    LWP::UserAgent             0        6.73    
    MIME::QuotedPrint          3.07     3.16_01 
    Parse::CPAN::Meta          2.150010 2.150010
    perl                       5.008    5.039007
    Pod::Usage                 1.33     2.03    
    Statistics::Regression     0        0.53    
    Test::More                 0        1.302198
    Test::Pod                  0        1.52    
    Time::Local                1.11     1.35    
    version                    0.9930   0.9930  

build_requires:

    Module                     Need     Have    
    -------------------------- -------- --------
    ExtUtils::MakeMaker        0        7.70    

configure_requires:

    Module                     Need     Have    
    -------------------------- -------- --------
    ExtUtils::MakeMaker        0        7.70    


------------------------------
ENVIRONMENT AND OTHER CONTEXT
------------------------------

Environment variables:

    AUTOMATED_TESTING = 1
    LANG = en_US.UTF-8
    LC_ADDRESS = de_DE.UTF-8
    LC_IDENTIFICATION = de_DE.UTF-8
    LC_MEASUREMENT = de_DE.UTF-8
    LC_MONETARY = de_DE.UTF-8
    LC_NAME = de_DE.UTF-8
    LC_NUMERIC = de_DE.UTF-8
    LC_PAPER = de_DE.UTF-8
    LC_TELEPHONE = de_DE.UTF-8
    LC_TIME = de_DE.UTF-8
    PATH = /home/sand/bin:/usr/local/bin:/usr/local/sbin:/usr/sbin:/usr/bin:/sbin:/bin:/usr/games:/usr/local/games:/snap/bin:/usr/local/perl/bin:/usr/X11/bin
    PERL = /tmp/basesmoker-reloperl-c4lV/bin/perl
    PERL5LIB = /tmp/loop_over_bdir-2426-wLisB5/Captive-Portal-4.10-0/blib/arch:/tmp/loop_over_bdir-2426-wLisB5/Captive-Portal-4.10-0/blib/lib:/tmp/loop_over_bdir-2426-wLisB5/LCFG-Build-Tools-0.9.30-0/blib/arch:/tmp/loop_over_bdir-2426-wLisB5/LCFG-Build-Tools-0.9.30-0/blib/lib:/tmp/loop_over_bdir-2426-wLisB5/App-nrun-v1.1.2-0/blib/arch:/tmp/loop_over_bdir-2426-wLisB5/App-nrun-v1.1.2-0/blib/lib:/tmp/loop_over_bdir-2426-wLisB5/MP3-PodcastFetch-1.05-0/blib/arch:/tmp/loop_over_bdir-2426-wLisB5/MP3-PodcastFetch-1.05-0/blib/lib:/tmp/loop_over_bdir-2426-wLisB5/HTML-Menu-TreeView-1.22-0/blib/arch:/tmp/loop_over_bdir-2426-wLisB5/HTML-Menu-TreeView-1.22-0/blib/lib:/tmp/loop_over_bdir-2426-wLisB5/Encode-IBM-0.11-0/blib/arch:/tmp/loop_over_bdir-2426-wLisB5/Encode-IBM-0.11-0/blib/lib:/tmp/loop_over_bdir-2426-wLisB5/AllKnowingDNS-1.7-0/blib/arch:/tmp/loop_over_bdir-2426-wLisB5/AllKnowingDNS-1.7-0/blib/lib:/tmp/loop_over_bdir-2426-wLisB5/DBIx-Migration-Directories-0.12-0/blib/arch:/tmp/loop_over_bdir-2426-wLisB5/DBIx-Migration-Directories-0.12-0/blib/lib:/tmp/loop_over_bdir-2426-wLisB5/NoZone-1.3-0/blib/arch:/tmp/loop_over_bdir-2426-wLisB5/NoZone-1.3-0/blib/lib:/tmp/loop_over_bdir-2426-wLisB5/mmds-1.902-0/blib/arch:/tmp/loop_over_bdir-2426-wLisB5/mmds-1.902-0/blib/lib:/tmp/loop_over_bdir-2426-wLisB5/App-rmcd-0.280-0/blib/arch:/tmp/loop_over_bdir-2426-wLisB5/App-rmcd-0.280-0/blib/lib:/tmp/loop_over_bdir-2426-wLisB5/Net-OpenVPN-DDNS-0.1-0/blib/arch:/tmp/loop_over_bdir-2426-wLisB5/Net-OpenVPN-DDNS-0.1-0/blib/lib:/tmp/loop_over_bdir-2426-wLisB5/Alien-SNMP-MIBDEV-2.020000-0/blib/arch:/tmp/loop_over_bdir-2426-wLisB5/Alien-SNMP-MIBDEV-2.020000-0/blib/lib:/tmp/loop_over_bdir-2426-wLisB5/Sysync-0.35-0/blib/arch:/tmp/loop_over_bdir-2426-wLisB5/Sysync-0.35-0/blib/lib:/tmp/loop_over_bdir-2426-wLisB5/RDF-NLP-SPARQLQuery-0.1-0/blib/arch:/tmp/loop_over_bdir-2426-wLisB5/RDF-NLP-SPARQLQuery-0.1-0/blib/lib:/tmp/loop_over_bdir-2426-wLisB5/RackMan-1.19-0/blib/arch:/tmp/loop_over_bdir-2426-wLisB5/RackMan-1.19-0/blib/lib:/tmp/loop_over_bdir-2426-wLisB5/Linux-InitFS-0.2-0/blib/arch:/tmp/loop_over_bdir-2426-wLisB5/Linux-InitFS-0.2-0/blib/lib:/tmp/loop_over_bdir-2426-wLisB5/Device-Kiln-0.03-0/blib/arch:/tmp/loop_over_bdir-2426-wLisB5/Device-Kiln-0.03-0/blib/lib:/tmp/loop_over_bdir-2426-wLisB5/perl-Hardware-UPS-Perl-0.43-0/blib/arch:/tmp/loop_over_bdir-2426-wLisB5/perl-Hardware-UPS-Perl-0.43-0/blib/lib:/tmp/loop_over_bdir-2426-wLisB5/Dpkg-1.22.4-0/blib/arch:/tmp/loop_over_bdir-2426-wLisB5/Dpkg-1.22.4-0/blib/lib:/tmp/loop_over_bdir-2426-wLisB5/Debian-Packages-0.03-0/blib/arch:/tmp/loop_over_bdir-2426-wLisB5/Debian-Packages-0.03-0/blib/lib:/tmp/loop_over_bdir-2426-wLisB5/Devel-Required-0.16-0/blib/arch:/tmp/loop_over_bdir-2426-wLisB5/Devel-Required-0.16-0/blib/lib:/tmp/loop_over_bdir-2426-wLisB5/makepp-1.19-0/blib/arch:/tmp/loop_over_bdir-2426-wLisB5/makepp-1.19-0/blib/lib:/tmp/loop_over_bdir-2426-wLisB5/Lingua-YaTeA-0.626-0/blib/arch:/tmp/loop_over_bdir-2426-wLisB5/Lingua-YaTeA-0.626-0/blib/lib
    PERL5OPT = 
    PERL5_CPANPLUS_IS_RUNNING = 2434
    PERL5_CPAN_IS_RUNNING = 2434
    PERL_CANARY_STABILITY_NOPROMPT = 1
    PERL_MM_USE_DEFAULT = 1
    PERL_USE_UNSAFE_INC = 1
    SHELL = /usr/bin/zsh
    TERM = screen

Perl special variables (and OS-specific diagnostics, for MSWin32):

    $^X = /tmp/basesmoker-reloperl-c4lV/bin/perl
    $UID/$EUID = 1005 / 1005
    $GID = 1005 1005
    $EGID = 1005 1005

Perl module toolchain versions installed:

    Module              Have    
    ------------------- --------
    CPAN                2.36    
    CPAN::Meta          2.150010
    Cwd                 3.90    
    ExtUtils::CBuilder  0.280240
    ExtUtils::Command   7.70    
    ExtUtils::Install   2.22    
    ExtUtils::MakeMaker 7.70    
    ExtUtils::Manifest  1.75    
    ExtUtils::ParseXS   3.51    
    File::Spec          3.90    
    JSON                4.10    
    JSON::PP            4.16    
    Module::Build       0.4234  
    Module::Signature   0.88    
    Parse::CPAN::Meta   2.150010
    Test2               1.302198
    Test::Harness       3.48    
    Test::More          1.302198
    YAML                1.31    
    YAML::Syck          1.34    
    version             0.9930  


--

Summary of my perl5 (revision 5 version 39 subversion 7) configuration:
  Commit id: 96559478fdc3f2fe9c51cad02ebbae0c950b7b68
  Platform:
    osname=linux
    osvers=6.5.0-14-generic
    archname=x86_64-linux-ld
    uname='linux k93jammy 6.5.0-14-generic #14~22.04.1-ubuntu smp preempt_dynamic mon nov 20 18:15:30 utc 2 x86_64 x86_64 x86_64 gnulinux '
    config_args='-Dprefix=/home/sand/src/perl/repoperls/installed-perls/host/k93jammy/v5.39.7/5674 -Dmyhostname=k93jammy -Dinstallusrbinperl=n -Uversiononly -Dusedevel -des -Ui_db -Dlibswanted=cl pthread socket inet nsl gdbm dbm malloc dl ld sun m crypt sec util c cposix posix ucb BSD gdbm_compat -Uuseithreads -Duselongdouble -DEBUGGING=-g'
    hint=recommended
    useposix=true
    d_sigaction=define
    useithreads=undef
    usemultiplicity=undef
    use64bitint=define
    use64bitall=define
    uselongdouble=define
    usemymalloc=n
    default_inc_excludes_dot=define
  Compiler:
    cc='cc'
    ccflags ='-fwrapv -fno-strict-aliasing -pipe -fstack-protector-strong -I/usr/local/include -D_LARGEFILE_SOURCE -D_FILE_OFFSET_BITS=64'
    optimize='-O2 -g'
    cppflags='-fwrapv -fno-strict-aliasing -pipe -fstack-protector-strong -I/usr/local/include'
    ccversion=''
    gccversion='11.4.0'
    gccosandvers=''
    intsize=4
    longsize=8
    ptrsize=8
    doublesize=8
    byteorder=12345678
    doublekind=3
    d_longlong=define
    longlongsize=8
    d_longdbl=define
    longdblsize=16
    longdblkind=3
    ivtype='long'
    ivsize=8
    nvtype='long double'
    nvsize=16
    Off_t='off_t'
    lseeksize=8
    alignbytes=16
    prototype=define
  Linker and Libraries:
    ld='cc'
    ldflags =' -fstack-protector-strong -L/usr/local/lib'
    libpth=/usr/local/lib /usr/lib/x86_64-linux-gnu /usr/lib /usr/lib64
    libs=-lpthread -lnsl -ldl -lm -lcrypt -lutil -lc
    perllibs=-lpthread -lnsl -ldl -lm -lcrypt -lutil -lc
    libc=/lib/x86_64-linux-gnu/libc.so.6
    so=so
    useshrplib=false
    libperl=libperl.a
    gnulibc_version='2.35'
  Dynamic Linking:
    dlsrc=dl_dlopen.xs
    dlext=so
    d_dlsymun=undef
    ccdlflags='-Wl,-E'
    cccdlflags='-fPIC'
    lddlflags='-shared -O2 -g -L/usr/local/lib -fstack-protector-strong'


Characteristics of this binary (from libperl): 
  Compile-time options:
    HAS_LONG_DOUBLE
    HAS_STRTOLD
    HAS_TIMES
    PERLIO_LAYERS
    PERL_COPY_ON_WRITE
    PERL_DONT_CREATE_GVSV
    PERL_HASH_FUNC_SIPHASH13
    PERL_HASH_USE_SBOX32
    PERL_MALLOC_WRAP
    PERL_OP_PARENT
    PERL_PRESERVE_IVUV
    PERL_USE_DEVEL
    PERL_USE_SAFE_PUTENV
    USE_64_BIT_ALL
    USE_64_BIT_INT
    USE_LARGE_FILES
    USE_LOCALE
    USE_LOCALE_COLLATE
    USE_LOCALE_CTYPE
    USE_LOCALE_NUMERIC
    USE_LOCALE_TIME
    USE_LONG_DOUBLE
    USE_PERLIO
    USE_PERL_ATOF
  Built under linux
  Compiled at Jan 20 2024 14:42:20
  %ENV:
    PERL="/tmp/basesmoker-reloperl-c4lV/bin/perl"
    PERL5LIB="/tmp/loop_over_bdir-2426-wLisB5/Captive-Portal-4.10-0/blib/arch:/tmp/loop_over_bdir-2426-wLisB5/Captive-Portal-4.10-0/blib/lib:/tmp/loop_over_bdir-2426-wLisB5/LCFG-Build-Tools-0.9.30-0/blib/arch:/tmp/loop_over_bdir-2426-wLisB5/LCFG-Build-Tools-0.9.30-0/blib/lib:/tmp/loop_over_bdir-2426-wLisB5/App-nrun-v1.1.2-0/blib/arch:/tmp/loop_over_bdir-2426-wLisB5/App-nrun-v1.1.2-0/blib/lib:/tmp/loop_over_bdir-2426-wLisB5/MP3-PodcastFetch-1.05-0/blib/arch:/tmp/loop_over_bdir-2426-wLisB5/MP3-PodcastFetch-1.05-0/blib/lib:/tmp/loop_over_bdir-2426-wLisB5/HTML-Menu-TreeView-1.22-0/blib/arch:/tmp/loop_over_bdir-2426-wLisB5/HTML-Menu-TreeView-1.22-0/blib/lib:/tmp/loop_over_bdir-2426-wLisB5/Encode-IBM-0.11-0/blib/arch:/tmp/loop_over_bdir-2426-wLisB5/Encode-IBM-0.11-0/blib/lib:/tmp/loop_over_bdir-2426-wLisB5/AllKnowingDNS-1.7-0/blib/arch:/tmp/loop_over_bdir-2426-wLisB5/AllKnowingDNS-1.7-0/blib/lib:/tmp/loop_over_bdir-2426-wLisB5/DBIx-Migration-Directories-0.12-0/blib/arch:/tmp/loop_over_bdir-2426-wLisB5/DBIx-Migration-Directories-0.12-0/blib/lib:/tmp/loop_over_bdir-2426-wLisB5/NoZone-1.3-0/blib/arch:/tmp/loop_over_bdir-2426-wLisB5/NoZone-1.3-0/blib/lib:/tmp/loop_over_bdir-2426-wLisB5/mmds-1.902-0/blib/arch:/tmp/loop_over_bdir-2426-wLisB5/mmds-1.902-0/blib/lib:/tmp/loop_over_bdir-2426-wLisB5/App-rmcd-0.280-0/blib/arch:/tmp/loop_over_bdir-2426-wLisB5/App-rmcd-0.280-0/blib/lib:/tmp/loop_over_bdir-2426-wLisB5/Net-OpenVPN-DDNS-0.1-0/blib/arch:/tmp/loop_over_bdir-2426-wLisB5/Net-OpenVPN-DDNS-0.1-0/blib/lib:/tmp/loop_over_bdir-2426-wLisB5/Alien-SNMP-MIBDEV-2.020000-0/blib/arch:/tmp/loop_over_bdir-2426-wLisB5/Alien-SNMP-MIBDEV-2.020000-0/blib/lib:/tmp/loop_over_bdir-2426-wLisB5/Sysync-0.35-0/blib/arch:/tmp/loop_over_bdir-2426-wLisB5/Sysync-0.35-0/blib/lib:/tmp/loop_over_bdir-2426-wLisB5/RDF-NLP-SPARQLQuery-0.1-0/blib/arch:/tmp/loop_over_bdir-2426-wLisB5/RDF-NLP-SPARQLQuery-0.1-0/blib/lib:/tmp/loop_over_bdir-2426-wLisB5/RackMan-1.19-0/blib/arch:/tmp/loop_over_bdir-2426-wLisB5/RackMan-1.19-0/blib/lib:/tmp/loop_over_bdir-2426-wLisB5/Linux-InitFS-0.2-0/blib/arch:/tmp/loop_over_bdir-2426-wLisB5/Linux-InitFS-0.2-0/blib/lib:/tmp/loop_over_bdir-2426-wLisB5/Device-Kiln-0.03-0/blib/arch:/tmp/loop_over_bdir-2426-wLisB5/Device-Kiln-0.03-0/blib/lib:/tmp/loop_over_bdir-2426-wLisB5/perl-Hardware-UPS-Perl-0.43-0/blib/arch:/tmp/loop_over_bdir-2426-wLisB5/perl-Hardware-UPS-Perl-0.43-0/blib/lib:/tmp/loop_over_bdir-2426-wLisB5/Dpkg-1.22.4-0/blib/arch:/tmp/loop_over_bdir-2426-wLisB5/Dpkg-1.22.4-0/blib/lib:/tmp/loop_over_bdir-2426-wLisB5/Debian-Packages-0.03-0/blib/arch:/tmp/loop_over_bdir-2426-wLisB5/Debian-Packages-0.03-0/blib/lib:/tmp/loop_over_bdir-2426-wLisB5/Devel-Required-0.16-0/blib/arch:/tmp/loop_over_bdir-2426-wLisB5/Devel-Required-0.16-0/blib/lib:/tmp/loop_over_bdir-2426-wLisB5/makepp-1.19-0/blib/arch:/tmp/loop_over_bdir-2426-wLisB5/makepp-1.19-0/blib/lib:/tmp/loop_over_bdir-2426-wLisB5/Lingua-YaTeA-0.626-0/blib/arch:/tmp/loop_over_bdir-2426-wLisB5/Lingua-YaTeA-0.626-0/blib/lib"
    PERL5OPT=""
    PERL5_CPANPLUS_IS_RUNNING="2434"
    PERL5_CPAN_IS_RUNNING="2434"
    PERL_CANARY_STABILITY_NOPROMPT="1"
    PERL_MM_USE_DEFAULT="1"
    PERL_USE_UNSAFE_INC="1"
  @INC:
    /tmp/loop_over_bdir-2426-wLisB5/Captive-Portal-4.10-0/blib/arch
    /tmp/loop_over_bdir-2426-wLisB5/Captive-Portal-4.10-0/blib/lib
    /tmp/loop_over_bdir-2426-wLisB5/LCFG-Build-Tools-0.9.30-0/blib/arch
    /tmp/loop_over_bdir-2426-wLisB5/LCFG-Build-Tools-0.9.30-0/blib/lib
    /tmp/loop_over_bdir-2426-wLisB5/App-nrun-v1.1.2-0/blib/arch
    /tmp/loop_over_bdir-2426-wLisB5/App-nrun-v1.1.2-0/blib/lib
    /tmp/loop_over_bdir-2426-wLisB5/MP3-PodcastFetch-1.05-0/blib/arch
    /tmp/loop_over_bdir-2426-wLisB5/MP3-PodcastFetch-1.05-0/blib/lib
    /tmp/loop_over_bdir-2426-wLisB5/HTML-Menu-TreeView-1.22-0/blib/arch
    /tmp/loop_over_bdir-2426-wLisB5/HTML-Menu-TreeView-1.22-0/blib/lib
    /tmp/loop_over_bdir-2426-wLisB5/Encode-IBM-0.11-0/blib/arch
    /tmp/loop_over_bdir-2426-wLisB5/Encode-IBM-0.11-0/blib/lib
    /tmp/loop_over_bdir-2426-wLisB5/AllKnowingDNS-1.7-0/blib/arch
    /tmp/loop_over_bdir-2426-wLisB5/AllKnowingDNS-1.7-0/blib/lib
    /tmp/loop_over_bdir-2426-wLisB5/DBIx-Migration-Directories-0.12-0/blib/arch
    /tmp/loop_over_bdir-2426-wLisB5/DBIx-Migration-Directories-0.12-0/blib/lib
    /tmp/loop_over_bdir-2426-wLisB5/NoZone-1.3-0/blib/arch
    /tmp/loop_over_bdir-2426-wLisB5/NoZone-1.3-0/blib/lib
    /tmp/loop_over_bdir-2426-wLisB5/mmds-1.902-0/blib/arch
    /tmp/loop_over_bdir-2426-wLisB5/mmds-1.902-0/blib/lib
    /tmp/loop_over_bdir-2426-wLisB5/App-rmcd-0.280-0/blib/arch
    /tmp/loop_over_bdir-2426-wLisB5/App-rmcd-0.280-0/blib/lib
    /tmp/loop_over_bdir-2426-wLisB5/Net-OpenVPN-DDNS-0.1-0/blib/arch
    /tmp/loop_over_bdir-2426-wLisB5/Net-OpenVPN-DDNS-0.1-0/blib/lib
    /tmp/loop_over_bdir-2426-wLisB5/Alien-SNMP-MIBDEV-2.020000-0/blib/arch
    /tmp/loop_over_bdir-2426-wLisB5/Alien-SNMP-MIBDEV-2.020000-0/blib/lib
    /tmp/loop_over_bdir-2426-wLisB5/Sysync-0.35-0/blib/arch
    /tmp/loop_over_bdir-2426-wLisB5/Sysync-0.35-0/blib/lib
    /tmp/loop_over_bdir-2426-wLisB5/RDF-NLP-SPARQLQuery-0.1-0/blib/arch
    /tmp/loop_over_bdir-2426-wLisB5/RDF-NLP-SPARQLQuery-0.1-0/blib/lib
    /tmp/loop_over_bdir-2426-wLisB5/RackMan-1.19-0/blib/arch
    /tmp/loop_over_bdir-2426-wLisB5/RackMan-1.19-0/blib/lib
    /tmp/loop_over_bdir-2426-wLisB5/Linux-InitFS-0.2-0/blib/arch
    /tmp/loop_over_bdir-2426-wLisB5/Linux-InitFS-0.2-0/blib/lib
    /tmp/loop_over_bdir-2426-wLisB5/Device-Kiln-0.03-0/blib/arch
    /tmp/loop_over_bdir-2426-wLisB5/Device-Kiln-0.03-0/blib/lib
    /tmp/loop_over_bdir-2426-wLisB5/perl-Hardware-UPS-Perl-0.43-0/blib/arch
    /tmp/loop_over_bdir-2426-wLisB5/perl-Hardware-UPS-Perl-0.43-0/blib/lib
    /tmp/loop_over_bdir-2426-wLisB5/Dpkg-1.22.4-0/blib/arch
    /tmp/loop_over_bdir-2426-wLisB5/Dpkg-1.22.4-0/blib/lib
    /tmp/loop_over_bdir-2426-wLisB5/Debian-Packages-0.03-0/blib/arch
    /tmp/loop_over_bdir-2426-wLisB5/Debian-Packages-0.03-0/blib/lib
    /tmp/loop_over_bdir-2426-wLisB5/Devel-Required-0.16-0/blib/arch
    /tmp/loop_over_bdir-2426-wLisB5/Devel-Required-0.16-0/blib/lib
    /tmp/loop_over_bdir-2426-wLisB5/makepp-1.19-0/blib/arch
    /tmp/loop_over_bdir-2426-wLisB5/makepp-1.19-0/blib/lib
    /tmp/loop_over_bdir-2426-wLisB5/Lingua-YaTeA-0.626-0/blib/arch
    /tmp/loop_over_bdir-2426-wLisB5/Lingua-YaTeA-0.626-0/blib/lib
    /home/sand/src/perl/repoperls/installed-perls/host/k93jammy/v5.39.7/5674/lib/site_perl/5.39.7/x86_64-linux-ld
    /home/sand/src/perl/repoperls/installed-perls/host/k93jammy/v5.39.7/5674/lib/site_perl/5.39.7
    /home/sand/src/perl/repoperls/installed-perls/host/k93jammy/v5.39.7/5674/lib/5.39.7/x86_64-linux-ld
    /home/sand/src/perl/repoperls/installed-perls/host/k93jammy/v5.39.7/5674/lib/5.39.7
    .