CPAN-SQLite v0.215 Perl 5 v5.16.2 x86_64-linux

Status
Pass
From
Nigel Horne
Dist
CPAN-SQLite v0.215
Platform
Perl 5 v5.16.2 x86_64-linux
Date
2019-01-23 23:55:03
ID
4d45c010-1f6a-11e9-b3bd-8a932d9bfb17
This distribution has been tested as part of the CPAN Testers
project, supporting the Perl programming language.  See
http://wiki.cpantesters.org/ for more information or email
questions to cpan-testers-discuss@perl.org


--
Dear Serguei Trouchelle,

This is a computer-generated report for CPAN-SQLite-0.215
on perl 5.16.2, created by CPAN-Reporter-1.2018.

Thank you for uploading your work to CPAN.  Congratulations!
All tests were successful.

Sections of this report:

    * Tester comments
    * Program output
    * Prerequisites
    * Environment and other context

------------------------------
TESTER COMMENTS
------------------------------

Additional comments from tester:

this report is from an automated smoke testing program
and was not reviewed by a human for accuracy

------------------------------
PROGRAM OUTPUT
------------------------------

Output from '/usr/bin/make test':

PERL_DL_NONLAZY=1 "/home/njh/perl5/perlbrew/perls/perl-5.16.2/bin/perl" "-MExtUtils::Command::MM" "-MTest::Harness" "-e" "undef *Test::Harness::Switches; test_harness(0, 'blib/lib', 'blib/arch')" t/*.t
# Listing %INC
#                           AutoLoader 5.72
#                                    B 1.35
#                                 CPAN 2.22
#                         CPAN::Author 5.5002
#                         CPAN::Bundle 5.5003
#                       CPAN::CacheMgr 5.5002
#                       CPAN::Complete 5.5001
#                          CPAN::Debug 5.5001
#                   CPAN::DeferredCode 5.50
#                   CPAN::DistnameInfo 0.12
#                   CPAN::Distribution 2.22
#                    CPAN::Distroprefs 6.0001
#                   CPAN::Distrostatus 5.5
# CPAN::Exception::RecursiveDependency 5.5001
#  CPAN::Exception::yaml_not_installed 5.5
#  CPAN::Exception::yaml_process_error 5.5
#                            CPAN::FTP 5.5011
#                     CPAN::FTP::netrc 1.01
#              CPAN::HTTP::Credentials 1.9601
#                   CPAN::HandleConfig 5.5008
#                          CPAN::Index 2.12
#                        CPAN::InfoObj 5.5
#                 CPAN::LWP::UserAgent 1.9601
#                         CPAN::Module 5.5003
#                         CPAN::Prompt 5.5
#                          CPAN::Queue 5.5002
#                          CPAN::Shell 5.5008
#                         CPAN::Tarzip 5.5012
#                            CPAN::URL 5.5
#                        CPAN::Version 5.5003
#                                 Carp 1.26
#                          Carp::Heavy 1.26
#                  Compress::Raw::Zlib 2.048
#                       Compress::Zlib 2.048
#                               Config undef
#                                  Cwd 3.39_02
#                                  DBI 1.642
#                            DirHandle 1.04
#                           DynaLoader 1.14
#                               Encode 2.44
#                        Encode::Alias 2.15
#                       Encode::Config 2.05
#                     Encode::Encoding 2.05
#                              English 1.05
#                                Errno 1.15
#                             Exporter 5.66
#                      Exporter::Heavy 5.66
#                    ExtUtils::Liblist 7.34
#               ExtUtils::Liblist::Kid 7.34
#                         ExtUtils::MM 7.34
#                     ExtUtils::MM_Any 7.34
#                    ExtUtils::MM_Unix 7.34
#                         ExtUtils::MY 7.34
#                  ExtUtils::MakeMaker 7.34
#          ExtUtils::MakeMaker::Config 7.34
#          ExtUtils::MakeMaker::Locale 7.34
#         ExtUtils::MakeMaker::version 7.34
#                                Fcntl 1.11
#                       File::Basename 2.84
#                           File::Copy 2.23
#                           File::Find 1.20
#                           File::Glob 1.17
#                     File::GlobMapper 1.000
#                        File::HomeDir 1.004
#                File::HomeDir::Driver 1.004
#           File::HomeDir::FreeDesktop 1.004
#                  File::HomeDir::Unix 1.004
#                           File::Path 2.08_01
#                           File::Spec 3.39_02
#                File::Spec::Functions 3.39_02
#                     File::Spec::Unix 3.39_02
#                          File::Which 1.22
#                           FileHandle 2.02
#                         Getopt::Long 2.38
#                           HTTP::Tiny 0.017
#                       I18N::Langinfo 0.08_02
#                                   IO 1.25_06
#       IO::Compress::Adapter::Deflate 2.048
#                   IO::Compress::Base 2.048
#           IO::Compress::Base::Common 2.048
#                   IO::Compress::Gzip 2.048
#        IO::Compress::Gzip::Constants 2.048
#             IO::Compress::RawDeflate 2.048
#            IO::Compress::Zlib::Extra 2.048
#                             IO::File 1.16
#                           IO::Handle 1.33
#                         IO::Seekable 1.1
#                           IO::Socket 1.34
#                     IO::Socket::INET 1.33
#                     IO::Socket::UNIX 1.24
#     IO::Uncompress::Adapter::Inflate 2.048
#                 IO::Uncompress::Base 2.048
#               IO::Uncompress::Gunzip 2.048
#           IO::Uncompress::RawInflate 2.048
#                           List::Util 1.25
#                               Opcode 1.23
#                                 Safe 2.31_01
#                         Scalar::Util 1.25
#                          SelectSaver 1.02
#                               Socket 2.001
#                               Symbol 1.07
#                        Sys::Hostname 1.16
#                     Text::ParseWords 3.27
#                           Text::Tabs 2009.0305
#                           Text::Wrap 2009.0305
#              Tie::Hash::NamedCapture 0.08
#                             XSLoader 0.16
#                                 base 2.18
#                                bytes 1.04
#                             constant 1.23
#                              feature 1.27
#                                  lib 0.63
#                             overload 1.18
#                          overloading 0.02
#                               parent 0.225
#                                   re 0.19_01
#                               strict 1.07
#                                 subs 1.01
#                                 utf8 1.09
#                                 vars 1.02
#                              version 0.99
#                             warnings 1.13
#                   warnings::register 1.02
t/00-all_prereqs.t ............... ok
t/00-compile.t ................... ok
# 
# Versions for all modules listed in MYMETA.json (including optional ones):
# 
# === Configure Requires ===
# 
#     Module              Want Have
#     ------------------- ---- ----
#     ExtUtils::MakeMaker  any 7.34
# 
# === Build Requires ===
# 
#     Module              Want Have
#     ------------------- ---- ----
#     ExtUtils::MakeMaker  any 7.34
# 
# === Test Requires ===
# 
#     Module              Want     Have
#     ------------------- ---- --------
#     CPAN::HandleConfig   any   5.5008
#     CPAN::Version        any   5.5003
#     Carp                 any     1.26
#     DBD::SQLite          any     1.58
#     ExtUtils::MakeMaker  any     7.34
#     File::Copy           any     2.23
#     File::Spec           any  3.39_02
#     FindBin              any     1.51
#     IO::Handle           any     1.33
#     IPC::Open3           any     1.12
#     Test::Memory::Cycle  any     1.06
#     Test::More          0.94 1.302140
#     base                 any     2.18
#     lib                  any     0.63
# 
# === Test Recommends ===
# 
#     Module         Want     Have
#     ---------- -------- --------
#     CPAN::Meta 2.120900 2.143240
# 
# === Runtime Requires ===
# 
#     Module                Want    Have
#     --------------------- ---- -------
#     Archive::Tar          1.54    1.82
#     CPAN                   any    2.22
#     CPAN::DistnameInfo    0.09    0.12
#     CPAN::Index           1.93    2.12
#     Compress::Zlib         any   2.048
#     Cwd                    any 3.39_02
#     DBD::SQLite           1.27    1.58
#     DBI                    any   1.642
#     English                any    1.05
#     Exporter               any    5.66
#     File::Basename         any    2.84
#     File::Find             any    1.20
#     File::HomeDir          any   1.004
#     File::Path             any 2.08_01
#     File::Spec             any 3.39_02
#     File::Spec::Functions  any 3.39_02
#     Getopt::Long           any    2.38
#     HTTP::Tiny             any   0.017
#     IO::Zlib               any    1.10
#     Safe                   any 2.31_01
#     Scalar::Util           any    1.25
#     Test::Harness         3.31    3.42
#     constant               any    1.23
#     parent                 any   0.225
#     strict                 any    1.07
#     utf8                   any    1.09
#     warnings               any    1.13
# 
t/00-report-prereqs.t ............ ok
# Testing with Perl 5.016002, /home/njh/perl5/perlbrew/perls/perl-5.16.2/bin/perl
#     CPAN version is 2.22
#     CPAN::DistnameInfo version is 0.12
#     CPAN::HandleConfig version is 5.5008
#     CPAN::Version version is 5.5003
#     Carp version is 1.26
#     Compress::Zlib version is 2.048
#     Cwd version is 3.39_02
#     DBD::SQLite version is 1.58
#     DBI version is 1.642
#     English version is 1.05
#     Exporter version is 5.66
#     ExtUtils::MakeMaker version is 7.34
#     File::Basename version is 2.84
#     File::Copy version is 2.23
#     File::Find version is 1.20
#     File::HomeDir version is 1.004
#     File::Path version is 2.08_01
#     File::Spec version is 3.39_02
#     File::Spec::Functions version is 3.39_02
#     FindBin version is 1.51
#     Getopt::Long version is 2.38
#     HTTP::Tiny version is 0.017
#     IO::Handle version is 1.33
#     IPC::Open3 version is 1.12
#     Safe version is 2.31_01
#     Scalar::Util version is 1.25
#     Test::Memory::Cycle version is 1.06
#     Test::More version is 1.302140
#     base version is 2.18
#     constant version is 1.23
#     lib version is 0.63
#     parent version is 0.225
#     strict version is 1.07
#     utf8 version is 1.09
#     warnings version is 1.13
t/000-report-versions.t .......... ok
t/01basic.t ...................... ok
t/02drop.t ....................... ok
t/03info.t ....................... ok
t/04search.t ..................... ok
t/04search_everything.t .......... ok
t/05meta_new.t ................... ok
t/05meta_update.t ................ ok
t/06retrieve.t ................... ok
t/07download.t ................... ok
t/08circular_references.t ........ ok
t/author-critic.t ................ skipped: these tests are for testing by the author
t/author-eol.t ................... skipped: these tests are for testing by the author
t/author-minimum-version.t ....... skipped: these tests are for testing by the author
t/author-no-tabs.t ............... skipped: these tests are for testing by the author
t/author-pod-syntax.t ............ skipped: these tests are for testing by the author
t/release-changes_has_content.t .. skipped: these tests are for release candidate testing
t/release-distmeta.t ............. skipped: these tests are for release candidate testing
t/release-fixme.t ................ skipped: these tests are for release candidate testing
t/release-has-version.t .......... skipped: these tests are for release candidate testing
t/release-kwalitee.t ............. skipped: these tests are for release candidate testing
t/release-meta-json.t ............ skipped: these tests are for release candidate testing
t/release-pause-permissions.t .... skipped: these tests are for release candidate testing
All tests successful.
Files=26, Tests=11316, 18 wallclock secs ( 1.57 usr  0.14 sys + 10.47 cusr  1.07 csys = 13.25 CPU)
Result: PASS

------------------------------
PREREQUISITES
------------------------------

Prerequisite modules loaded:

requires:

    Module              Need Have   
    ------------------- ---- -------
    Archive::Tar        1.54 1.82   
    Compress::Zlib      0    2.048  
    CPAN::DistnameInfo  0.09 0.12   
    CPAN::Index         1.93 2.12   
    DBD::SQLite         1.27 1.58   
    File::HomeDir       0    1.004  
    File::Spec          0    3.39_02
    HTTP::Tiny          0    0.017  
    IO::Zlib            0    1.10   
    parent              0    0.225  
    Test::Harness       3.31 3.42   

build_requires:

    Module              Need Have   
    ------------------- ---- -------
    ExtUtils::MakeMaker 0    7.34   
    Test::Memory::Cycle 0    1.06   

configure_requires:

    Module              Need Have   
    ------------------- ---- -------
    ExtUtils::MakeMaker 0    7.34   


------------------------------
ENVIRONMENT AND OTHER CONTEXT
------------------------------

Environment variables:

    AUTOMATED_TESTING = 1
    HARNESS_OPTIONS = j2
    LANG = en_US.UTF-8
    PATH = /home/njh/perl5/perlbrew/bin:/home/njh/perl5/perlbrew/perls/perl-5.16.2/bin:/home/njh/src/njh/smoker/bin:/usr/bin:/bin
    PERL5LIB = /tmp/build/Test-Memory-Cycle-1.06-4/blib/arch:/tmp/build/Test-Memory-Cycle-1.06-4/blib/lib:/tmp/build/PadWalker-2.3-4/blib/arch:/tmp/build/PadWalker-2.3-4/blib/lib:/tmp/build/Devel-Cycle-1.12-4/blib/arch:/tmp/build/Devel-Cycle-1.12-4/blib/lib:/tmp/build/Data-Table-1.77-7/blib/arch:/tmp/build/Data-Table-1.77-7/blib/lib
    PERL5OPT = 
    PERL5_CPANPLUS_IS_RUNNING = 8791
    PERL5_CPAN_IS_RUNNING = 8791
    PERLBREW_HOME = /home/njh/.perlbrew
    PERLBREW_MANPATH = /home/njh/perl5/perlbrew/perls/perl-5.16.2/man
    PERLBREW_PATH = /home/njh/perl5/perlbrew/bin:/home/njh/perl5/perlbrew/perls/perl-5.16.2/bin
    PERLBREW_PERL = perl-5.16.2
    PERLBREW_ROOT = /home/njh/perl5/perlbrew
    PERLBREW_SHELLRC_VERSION = 0.86
    PERLBREW_VERSION = 0.86
    PERL_USE_UNSAFE_INC = 1
    SHELL = /bin/sh
    TEMP = /tmp/user/1000
    TMPDIR = /tmp/user/1000/testwrapper.8778

Perl special variables (and OS-specific diagnostics, for MSWin32):

    $^X = /home/njh/perl5/perlbrew/perls/perl-5.16.2/bin/perl
    $UID/$EUID = 1000 / 1000
    $GID = 1000 4 24 25 29 30 44 46 103 108 115 123 996 1000
    $EGID = 1000 4 24 25 29 30 44 46 103 108 115 123 996 1000

Perl module toolchain versions installed:

    Module              Have    
    ------------------- --------
    CPAN                2.22    
    CPAN::Meta          2.143240
    Cwd                 3.39_02 
    ExtUtils::CBuilder  0.280206
    ExtUtils::Command   7.34    
    ExtUtils::Install   2.06    
    ExtUtils::MakeMaker 7.34    
    ExtUtils::Manifest  1.70    
    ExtUtils::ParseXS   3.16    
    File::Spec          3.39_02 
    JSON                4.00    
    JSON::PP            2.27203 
    Module::Build       0.39_01 
    Module::Signature   n/a     
    Parse::CPAN::Meta   1.4414  
    Test::Harness       3.42    
    Test::More          1.302140
    YAML                1.27    
    YAML::Syck          1.31    
    version             0.99    


--

Summary of my perl5 (revision 5 version 16 subversion 2) configuration:
   
  Platform:
    osname=linux, osvers=4.16.0-2-amd64, archname=x86_64-linux
    uname='linux amelia 4.16.0-2-amd64 #1 smp debian 4.16.16-2 (2018-06-22) x86_64 gnulinux '
    config_args='-de -Dprefix=/home/njh/perl5/perlbrew/perls/perl-5.16.2 -Aeval:scriptdir=/home/njh/perl5/perlbrew/perls/perl-5.16.2/bin'
    hint=recommended, useposix=true, d_sigaction=define
    useithreads=undef, usemultiplicity=undef
    useperlio=define, d_sfio=undef, uselargefiles=define, usesocks=undef
    use64bitint=define, use64bitall=define, uselongdouble=undef
    usemymalloc=n, bincompat5005=undef
  Compiler:
    cc='cc', ccflags ='-fno-strict-aliasing -pipe -fstack-protector -I/usr/local/include -D_LARGEFILE_SOURCE -D_FILE_OFFSET_BITS=64',
    optimize='-O2',
    cppflags='-fno-strict-aliasing -pipe -fstack-protector -I/usr/local/include'
    ccversion='', gccversion='8.2.0', gccosandvers=''
    intsize=4, longsize=8, ptrsize=8, doublesize=8, byteorder=12345678
    d_longlong=define, longlongsize=8, d_longdbl=define, longdblsize=16
    ivtype='long', ivsize=8, nvtype='double', nvsize=8, Off_t='off_t', lseeksize=8
    alignbytes=8, prototype=define
  Linker and Libraries:
    ld='cc', ldflags =' -fstack-protector -L/usr/local/lib'
    libpth=/usr/local/lib /lib/x86_64-linux-gnu /lib/../lib /usr/lib/x86_64-linux-gnu /usr/lib/../lib /lib /usr/lib /lib64 /usr/lib64
    libs=-lnsl -lgdbm -ldb -ldl -lm -lcrypt -lutil -lc
    perllibs=-lnsl -ldl -lm -lcrypt -lutil -lc
    libc=libc-2.27.so, so=so, useshrplib=false, libperl=libperl.a
    gnulibc_version='2.27'
  Dynamic Linking:
    dlsrc=dl_dlopen.xs, dlext=so, d_dlsymun=undef, ccdlflags='-Wl,-E'
    cccdlflags='-fPIC', lddlflags='-shared -O2 -L/usr/local/lib -fstack-protector'


Characteristics of this binary (from libperl): 
  Compile-time options: HAS_TIMES PERLIO_LAYERS PERL_DONT_CREATE_GVSV
                        PERL_MALLOC_WRAP PERL_PRESERVE_IVUV USE_64_BIT_ALL
                        USE_64_BIT_INT USE_LARGE_FILES USE_LOCALE
                        USE_LOCALE_COLLATE USE_LOCALE_CTYPE
                        USE_LOCALE_NUMERIC USE_PERLIO USE_PERL_ATOF
  Locally applied patches:
	Devel::PatchPerl 1.48
  Built under linux
  Compiled at Oct  9 2018 01:52:52
  %ENV:
    PERL5LIB="/tmp/build/Test-Memory-Cycle-1.06-4/blib/arch:/tmp/build/Test-Memory-Cycle-1.06-4/blib/lib:/tmp/build/PadWalker-2.3-4/blib/arch:/tmp/build/PadWalker-2.3-4/blib/lib:/tmp/build/Devel-Cycle-1.12-4/blib/arch:/tmp/build/Devel-Cycle-1.12-4/blib/lib:/tmp/build/Data-Table-1.77-7/blib/arch:/tmp/build/Data-Table-1.77-7/blib/lib"
    PERL5OPT=""
    PERL5_CPANPLUS_IS_RUNNING="8791"
    PERL5_CPAN_IS_RUNNING="8791"
    PERLBREW_HOME="/home/njh/.perlbrew"
    PERLBREW_MANPATH="/home/njh/perl5/perlbrew/perls/perl-5.16.2/man"
    PERLBREW_PATH="/home/njh/perl5/perlbrew/bin:/home/njh/perl5/perlbrew/perls/perl-5.16.2/bin"
    PERLBREW_PERL="perl-5.16.2"
    PERLBREW_ROOT="/home/njh/perl5/perlbrew"
    PERLBREW_SHELLRC_VERSION="0.86"
    PERLBREW_VERSION="0.86"
    PERL_USE_UNSAFE_INC="1"
  @INC:
    /tmp/build/Test-Memory-Cycle-1.06-4/blib/arch
    /tmp/build/Test-Memory-Cycle-1.06-4/blib/lib
    /tmp/build/PadWalker-2.3-4/blib/arch
    /tmp/build/PadWalker-2.3-4/blib/lib
    /tmp/build/Devel-Cycle-1.12-4/blib/arch
    /tmp/build/Devel-Cycle-1.12-4/blib/lib
    /tmp/build/Data-Table-1.77-7/blib/arch
    /tmp/build/Data-Table-1.77-7/blib/lib
    /home/njh/perl5/perlbrew/perls/perl-5.16.2/lib/site_perl/5.16.2/x86_64-linux
    /home/njh/perl5/perlbrew/perls/perl-5.16.2/lib/site_perl/5.16.2
    /home/njh/perl5/perlbrew/perls/perl-5.16.2/lib/5.16.2/x86_64-linux
    /home/njh/perl5/perlbrew/perls/perl-5.16.2/lib/5.16.2
    .