Report for DynaLoader-Functions-0.002

Back
From: metabase:user:30f4dfbe-2aae-11df-837a-5e0a49663a4f
Subject: PASS DynaLoader-Functions-0.002 v5.18.4 Mac OS X
Date: 2017-07-17T07:26:51Z

This distribution has been tested as part of the CPAN Testers
project, supporting the Perl programming language.  See
http://wiki.cpantesters.org/ for more information or email
questions to cpan-testers-discuss@perl.org


--
Dear Andrew Main (Zefram),

This is a computer-generated report for DynaLoader-Functions-0.002
on perl 5.18.4, created by CPAN-Reporter-1.2018.

Thank you for uploading your work to CPAN.  Congratulations!
All tests were successful.

Sections of this report:

    * Tester comments
    * Program output
    * Prerequisites
    * Environment and other context

------------------------------
TESTER COMMENTS
------------------------------

Additional comments from tester:

this report is from an automated smoke testing program
and was not reviewed by a human for accuracy

------------------------------
PROGRAM OUTPUT
------------------------------

Output from './Build test':

compilet-uQkJ1.c:1:5: warning: no previous prototype for function 'boot_compilet' [-Wmissing-prototypes]
int boot_compilet() { return 1; }
    ^
1 warning generated.
ld: warning: object file (compilet-uQkJ1.o) was built for newer OSX version (10.11) than being linked (10.4)
In file included from t/dyna_low.c:3:
/Users/hornenj/perl5/perlbrew/perls/perl-5.18.4/lib/5.18.4/darwin-thread-multi-2level/CORE/perl.h:548:5: warning: 'SILENT_NO_TAINT_SUPPORT' is not defined, evaluates to 0 [-Wundef]
#if SILENT_NO_TAINT_SUPPORT && !defined(NO_TAINT_SUPPORT)
    ^
/Users/hornenj/perl5/perlbrew/perls/perl-5.18.4/lib/5.18.4/darwin-thread-multi-2level/CORE/perl.h:556:5: warning: 'NO_TAINT_SUPPORT' is not defined, evaluates to 0 [-Wundef]
#if NO_TAINT_SUPPORT
    ^
In file included from t/dyna_low.c:3:
In file included from /Users/hornenj/perl5/perlbrew/perls/perl-5.18.4/lib/5.18.4/darwin-thread-multi-2level/CORE/perl.h:3471:
/Users/hornenj/perl5/perlbrew/perls/perl-5.18.4/lib/5.18.4/darwin-thread-multi-2level/CORE/sv.h:1455:5: warning: 'NO_TAINT_SUPPORT' is not defined, evaluates to 0 [-Wundef]
#if NO_TAINT_SUPPORT
    ^
In file included from t/dyna_low.c:3:
In file included from /Users/hornenj/perl5/perlbrew/perls/perl-5.18.4/lib/5.18.4/darwin-thread-multi-2level/CORE/perl.h:3472:
/Users/hornenj/perl5/perlbrew/perls/perl-5.18.4/lib/5.18.4/darwin-thread-multi-2level/CORE/regexp.h:436:5: warning: 'NO_TAINT_SUPPORT' is not defined, evaluates to 0 [-Wundef]
#if NO_TAINT_SUPPORT
    ^
In file included from t/dyna_low.c:3:
In file included from /Users/hornenj/perl5/perlbrew/perls/perl-5.18.4/lib/5.18.4/darwin-thread-multi-2level/CORE/perl.h:3477:
/Users/hornenj/perl5/perlbrew/perls/perl-5.18.4/lib/5.18.4/darwin-thread-multi-2level/CORE/cv.h:194:12: warning: use of GNU statement expression extension [-Wgnu-statement-expression]
    return CvNAMED(sv)
           ^
/Users/hornenj/perl5/perlbrew/perls/perl-5.18.4/lib/5.18.4/darwin-thread-multi-2level/CORE/cv.h:184:23: note: expanded from macro 'CvNAMED'
#define CvNAMED(cv)             (CvFLAGS(cv) & CVf_NAMED)
                                 ^
/Users/hornenj/perl5/perlbrew/perls/perl-5.18.4/lib/5.18.4/darwin-thread-multi-2level/CORE/cv.h:66:30: note: expanded from macro 'CvFLAGS'
#define CvFLAGS(sv)     ((XPVCV*)MUTABLE_PTR(SvANY(sv)))->xcv_flags
                                 ^
/Users/hornenj/perl5/perlbrew/perls/perl-5.18.4/lib/5.18.4/darwin-thread-multi-2level/CORE/handy.h:60:27: note: expanded from macro 'MUTABLE_PTR'
#  define MUTABLE_PTR(p) ({ void *_p = (p); _p; })
                          ^
In file included from t/dyna_low.c:3:
In file included from /Users/hornenj/perl5/perlbrew/perls/perl-5.18.4/lib/5.18.4/darwin-thread-multi-2level/CORE/perl.h:3477:
/Users/hornenj/perl5/perlbrew/perls/perl-5.18.4/lib/5.18.4/darwin-thread-multi-2level/CORE/cv.h:196:13: warning: use of GNU statement expression extension [-Wgnu-statement-expression]
        : ((XPVCV*)MUTABLE_PTR(SvANY(sv)))->xcv_gv_u.xcv_gv;
                   ^
/Users/hornenj/perl5/perlbrew/perls/perl-5.18.4/lib/5.18.4/darwin-thread-multi-2level/CORE/handy.h:60:27: note: expanded from macro 'MUTABLE_PTR'
#  define MUTABLE_PTR(p) ({ void *_p = (p); _p; })
                          ^
In file included from t/dyna_low.c:3:
In file included from /Users/hornenj/perl5/perlbrew/perls/perl-5.18.4/lib/5.18.4/darwin-thread-multi-2level/CORE/perl.h:3477:
/Users/hornenj/perl5/perlbrew/perls/perl-5.18.4/lib/5.18.4/darwin-thread-multi-2level/CORE/cv.h:201:12: warning: use of GNU statement expression extension [-Wgnu-statement-expression]
    return CvNAMED(sv)
           ^
/Users/hornenj/perl5/perlbrew/perls/perl-5.18.4/lib/5.18.4/darwin-thread-multi-2level/CORE/cv.h:184:23: note: expanded from macro 'CvNAMED'
#define CvNAMED(cv)             (CvFLAGS(cv) & CVf_NAMED)
                                 ^
/Users/hornenj/perl5/perlbrew/perls/perl-5.18.4/lib/5.18.4/darwin-thread-multi-2level/CORE/cv.h:66:30: note: expanded from macro 'CvFLAGS'
#define CvFLAGS(sv)     ((XPVCV*)MUTABLE_PTR(SvANY(sv)))->xcv_flags
                                 ^
/Users/hornenj/perl5/perlbrew/perls/perl-5.18.4/lib/5.18.4/darwin-thread-multi-2level/CORE/handy.h:60:27: note: expanded from macro 'MUTABLE_PTR'
#  define MUTABLE_PTR(p) ({ void *_p = (p); _p; })
                          ^
In file included from t/dyna_low.c:3:
In file included from /Users/hornenj/perl5/perlbrew/perls/perl-5.18.4/lib/5.18.4/darwin-thread-multi-2level/CORE/perl.h:3477:
/Users/hornenj/perl5/perlbrew/perls/perl-5.18.4/lib/5.18.4/darwin-thread-multi-2level/CORE/cv.h:202:13: warning: use of GNU statement expression extension [-Wgnu-statement-expression]
        ? ((XPVCV*)MUTABLE_PTR(SvANY(sv)))->xcv_gv_u.xcv_hek
                   ^
/Users/hornenj/perl5/perlbrew/perls/perl-5.18.4/lib/5.18.4/darwin-thread-multi-2level/CORE/handy.h:60:27: note: expanded from macro 'MUTABLE_PTR'
#  define MUTABLE_PTR(p) ({ void *_p = (p); _p; })
                          ^
In file included from t/dyna_low.c:3:
In file included from /Users/hornenj/perl5/perlbrew/perls/perl-5.18.4/lib/5.18.4/darwin-thread-multi-2level/CORE/perl.h:3480:
In file included from /Users/hornenj/perl5/perlbrew/perls/perl-5.18.4/lib/5.18.4/darwin-thread-multi-2level/CORE/hv.h:593:
/Users/hornenj/perl5/perlbrew/perls/perl-5.18.4/lib/5.18.4/darwin-thread-multi-2level/CORE/hv_func.h:201:17: warning: cast from 'const unsigned char *' to 'unsigned long *' increases required alignment from 1 to 8 [-Wcast-align]
  U64TYPE k0 = ((U64TYPE*)seed)[0];
                ^~~~~~~~~~~~~~
/Users/hornenj/perl5/perlbrew/perls/perl-5.18.4/lib/5.18.4/darwin-thread-multi-2level/CORE/hv_func.h:201:27: warning: cast from 'const unsigned char *' to 'unsigned long *' drops const qualifier [-Wcast-qual]
  U64TYPE k0 = ((U64TYPE*)seed)[0];
                          ^
/Users/hornenj/perl5/perlbrew/perls/perl-5.18.4/lib/5.18.4/darwin-thread-multi-2level/CORE/hv_func.h:202:17: warning: cast from 'const unsigned char *' to 'unsigned long *' increases required alignment from 1 to 8 [-Wcast-align]
  U64TYPE k1 = ((U64TYPE*)seed)[1];
                ^~~~~~~~~~~~~~
/Users/hornenj/perl5/perlbrew/perls/perl-5.18.4/lib/5.18.4/darwin-thread-multi-2level/CORE/hv_func.h:202:27: warning: cast from 'const unsigned char *' to 'unsigned long *' drops const qualifier [-Wcast-qual]
  U64TYPE k1 = ((U64TYPE*)seed)[1];
                          ^
/Users/hornenj/perl5/perlbrew/perls/perl-5.18.4/lib/5.18.4/darwin-thread-multi-2level/CORE/hv_func.h:260:18: warning: cast from 'const unsigned char *' to 'U32 *' (aka 'unsigned int *') increases required alignment from 1 to 4 [-Wcast-align]
    U32 hash = *((U32*)seed) + len;
                 ^~~~~~~~~~
/Users/hornenj/perl5/perlbrew/perls/perl-5.18.4/lib/5.18.4/darwin-thread-multi-2level/CORE/hv_func.h:260:24: warning: cast from 'const unsigned char *' to 'unsigned int *' drops const qualifier [-Wcast-qual]
    U32 hash = *((U32*)seed) + len;
                       ^
/Users/hornenj/perl5/perlbrew/perls/perl-5.18.4/lib/5.18.4/darwin-thread-multi-2level/CORE/hv_func.h:364:16: warning: cast from 'const unsigned char *' to 'U32 *' (aka 'unsigned int *') increases required alignment from 1 to 4 [-Wcast-align]
    U32 h1 = *((U32*)seed);
               ^~~~~~~~~~
/Users/hornenj/perl5/perlbrew/perls/perl-5.18.4/lib/5.18.4/darwin-thread-multi-2level/CORE/hv_func.h:364:22: warning: cast from 'const unsigned char *' to 'unsigned int *' drops const qualifier [-Wcast-qual]
    U32 h1 = *((U32*)seed);
                     ^
/Users/hornenj/perl5/perlbrew/perls/perl-5.18.4/lib/5.18.4/darwin-thread-multi-2level/CORE/hv_func.h:393:7: warning: use of GNU statement expression extension [-Wgnu-statement-expression]
      MURMUR_DOBYTES(i, h1, carry, bytes_in_carry, ptr, len);
      ^
/Users/hornenj/perl5/perlbrew/perls/perl-5.18.4/lib/5.18.4/darwin-thread-multi-2level/CORE/hv_func.h:348:60: note: expanded from macro 'MURMUR_DOBYTES'
#define MURMUR_DOBYTES(cnt, h1, c, n, ptr, len) STMT_START { \
                                                           ^
/Users/hornenj/perl5/perlbrew/perls/perl-5.18.4/lib/5.18.4/darwin-thread-multi-2level/CORE/hv_func.h:393:7: warning: use of GNU statement expression extension [-Wgnu-statement-expression]
/Users/hornenj/perl5/perlbrew/perls/perl-5.18.4/lib/5.18.4/darwin-thread-multi-2level/CORE/hv_func.h:354:13: note: expanded from macro 'MURMUR_DOBYTES'
            MURMUR_DOBLOCK(h1, c); \
            ^
/Users/hornenj/perl5/perlbrew/perls/perl-5.18.4/lib/5.18.4/darwin-thread-multi-2level/CORE/hv_func.h:335:43: note: expanded from macro 'MURMUR_DOBLOCK'
#define MURMUR_DOBLOCK(h1, k1) STMT_START { \
                                          ^
/Users/hornenj/perl5/perlbrew/perls/perl-5.18.4/lib/5.18.4/darwin-thread-multi-2level/CORE/hv_func.h:401:18: warning: cast from 'const unsigned char *' to 'U32 *' (aka 'unsigned int *') increases required alignment from 1 to 4 [-Wcast-align]
            k1 = U8TO32_LE(ptr);
                 ^~~~~~~~~~~~~~
/Users/hornenj/perl5/perlbrew/perls/perl-5.18.4/lib/5.18.4/darwin-thread-multi-2level/CORE/hv_func.h:109:31: note: expanded from macro 'U8TO32_LE'
  #define U8TO32_LE(ptr)   (*((U32*)(ptr)))
                              ^~~~~~~~~~~
/Users/hornenj/perl5/perlbrew/perls/perl-5.18.4/lib/5.18.4/darwin-thread-multi-2level/CORE/hv_func.h:401:18: warning: cast from 'const unsigned char *' to 'unsigned int *' drops const qualifier [-Wcast-qual]
/Users/hornenj/perl5/perlbrew/perls/perl-5.18.4/lib/5.18.4/darwin-thread-multi-2level/CORE/hv_func.h:109:37: note: expanded from macro 'U8TO32_LE'
  #define U8TO32_LE(ptr)   (*((U32*)(ptr)))
                                    ^
/Users/hornenj/perl5/perlbrew/perls/perl-5.18.4/lib/5.18.4/darwin-thread-multi-2level/CORE/hv_func.h:402:13: warning: use of GNU statement expression extension [-Wgnu-statement-expression]
            MURMUR_DOBLOCK(h1, k1);
            ^
/Users/hornenj/perl5/perlbrew/perls/perl-5.18.4/lib/5.18.4/darwin-thread-multi-2level/CORE/hv_func.h:335:43: note: expanded from macro 'MURMUR_DOBLOCK'
#define MURMUR_DOBLOCK(h1, k1) STMT_START { \
                                          ^
/Users/hornenj/perl5/perlbrew/perls/perl-5.18.4/lib/5.18.4/darwin-thread-multi-2level/CORE/hv_func.h:408:21: warning: cast from 'const unsigned char *' to 'U32 *' (aka 'unsigned int *') increases required alignment from 1 to 4 [-Wcast-align]
            carry = U8TO32_LE(ptr);
                    ^~~~~~~~~~~~~~
/Users/hornenj/perl5/perlbrew/perls/perl-5.18.4/lib/5.18.4/darwin-thread-multi-2level/CORE/hv_func.h:109:31: note: expanded from macro 'U8TO32_LE'
  #define U8TO32_LE(ptr)   (*((U32*)(ptr)))
                              ^~~~~~~~~~~
/Users/hornenj/perl5/perlbrew/perls/perl-5.18.4/lib/5.18.4/darwin-thread-multi-2level/CORE/hv_func.h:408:21: warning: cast from 'const unsigned char *' to 'unsigned int *' drops const qualifier [-Wcast-qual]
/Users/hornenj/perl5/perlbrew/perls/perl-5.18.4/lib/5.18.4/darwin-thread-multi-2level/CORE/hv_func.h:109:37: note: expanded from macro 'U8TO32_LE'
  #define U8TO32_LE(ptr)   (*((U32*)(ptr)))
                                    ^
/Users/hornenj/perl5/perlbrew/perls/perl-5.18.4/lib/5.18.4/darwin-thread-multi-2level/CORE/hv_func.h:410:13: warning: use of GNU statement expression extension [-Wgnu-statement-expression]
            MURMUR_DOBLOCK(h1, k1);
            ^
/Users/hornenj/perl5/perlbrew/perls/perl-5.18.4/lib/5.18.4/darwin-thread-multi-2level/CORE/hv_func.h:335:43: note: expanded from macro 'MURMUR_DOBLOCK'
#define MURMUR_DOBLOCK(h1, k1) STMT_START { \
                                          ^
/Users/hornenj/perl5/perlbrew/perls/perl-5.18.4/lib/5.18.4/darwin-thread-multi-2level/CORE/hv_func.h:416:21: warning: cast from 'const unsigned char *' to 'U32 *' (aka 'unsigned int *') increases required alignment from 1 to 4 [-Wcast-align]
            carry = U8TO32_LE(ptr);
                    ^~~~~~~~~~~~~~
/Users/hornenj/perl5/perlbrew/perls/perl-5.18.4/lib/5.18.4/darwin-thread-multi-2level/CORE/hv_func.h:109:31: note: expanded from macro 'U8TO32_LE'
  #define U8TO32_LE(ptr)   (*((U32*)(ptr)))
                              ^~~~~~~~~~~
/Users/hornenj/perl5/perlbrew/perls/perl-5.18.4/lib/5.18.4/darwin-thread-multi-2level/CORE/hv_func.h:416:21: warning: cast from 'const unsigned char *' to 'unsigned int *' drops const qualifier [-Wcast-qual]
/Users/hornenj/perl5/perlbrew/perls/perl-5.18.4/lib/5.18.4/darwin-thread-multi-2level/CORE/hv_func.h:109:37: note: expanded from macro 'U8TO32_LE'
  #define U8TO32_LE(ptr)   (*((U32*)(ptr)))
                                    ^
/Users/hornenj/perl5/perlbrew/perls/perl-5.18.4/lib/5.18.4/darwin-thread-multi-2level/CORE/hv_func.h:418:13: warning: use of GNU statement expression extension [-Wgnu-statement-expression]
            MURMUR_DOBLOCK(h1, k1);
            ^
/Users/hornenj/perl5/perlbrew/perls/perl-5.18.4/lib/5.18.4/darwin-thread-multi-2level/CORE/hv_func.h:335:43: note: expanded from macro 'MURMUR_DOBLOCK'
#define MURMUR_DOBLOCK(h1, k1) STMT_START { \
                                          ^
/Users/hornenj/perl5/perlbrew/perls/perl-5.18.4/lib/5.18.4/darwin-thread-multi-2level/CORE/hv_func.h:424:21: warning: cast from 'const unsigned char *' to 'U32 *' (aka 'unsigned int *') increases required alignment from 1 to 4 [-Wcast-align]
            carry = U8TO32_LE(ptr);
                    ^~~~~~~~~~~~~~
/Users/hornenj/perl5/perlbrew/perls/perl-5.18.4/lib/5.18.4/darwin-thread-multi-2level/CORE/hv_func.h:109:31: note: expanded from macro 'U8TO32_LE'
  #define U8TO32_LE(ptr)   (*((U32*)(ptr)))
                              ^~~~~~~~~~~
/Users/hornenj/perl5/perlbrew/perls/perl-5.18.4/lib/5.18.4/darwin-thread-multi-2level/CORE/hv_func.h:424:21: warning: cast from 'const unsigned char *' to 'unsigned int *' drops const qualifier [-Wcast-qual]
/Users/hornenj/perl5/perlbrew/perls/perl-5.18.4/lib/5.18.4/darwin-thread-multi-2level/CORE/hv_func.h:109:37: note: expanded from macro 'U8TO32_LE'
  #define U8TO32_LE(ptr)   (*((U32*)(ptr)))
                                    ^
/Users/hornenj/perl5/perlbrew/perls/perl-5.18.4/lib/5.18.4/darwin-thread-multi-2level/CORE/hv_func.h:426:13: warning: use of GNU statement expression extension [-Wgnu-statement-expression]
            MURMUR_DOBLOCK(h1, k1);
            ^
/Users/hornenj/perl5/perlbrew/perls/perl-5.18.4/lib/5.18.4/darwin-thread-multi-2level/CORE/hv_func.h:335:43: note: expanded from macro 'MURMUR_DOBLOCK'
#define MURMUR_DOBLOCK(h1, k1) STMT_START { \
                                          ^
/Users/hornenj/perl5/perlbrew/perls/perl-5.18.4/lib/5.18.4/darwin-thread-multi-2level/CORE/hv_func.h:434:5: warning: use of GNU statement expression extension [-Wgnu-statement-expression]
    MURMUR_DOBYTES(len, h1, carry, bytes_in_carry, ptr, len);
    ^
/Users/hornenj/perl5/perlbrew/perls/perl-5.18.4/lib/5.18.4/darwin-thread-multi-2level/CORE/hv_func.h:348:60: note: expanded from macro 'MURMUR_DOBYTES'
#define MURMUR_DOBYTES(cnt, h1, c, n, ptr, len) STMT_START { \
                                                           ^
/Users/hornenj/perl5/perlbrew/perls/perl-5.18.4/lib/5.18.4/darwin-thread-multi-2level/CORE/hv_func.h:434:5: warning: use of GNU statement expression extension [-Wgnu-statement-expression]
/Users/hornenj/perl5/perlbrew/perls/perl-5.18.4/lib/5.18.4/darwin-thread-multi-2level/CORE/hv_func.h:354:13: note: expanded from macro 'MURMUR_DOBYTES'
            MURMUR_DOBLOCK(h1, c); \
            ^
/Users/hornenj/perl5/perlbrew/perls/perl-5.18.4/lib/5.18.4/darwin-thread-multi-2level/CORE/hv_func.h:335:43: note: expanded from macro 'MURMUR_DOBLOCK'
#define MURMUR_DOBLOCK(h1, k1) STMT_START { \
                                          ^
/Users/hornenj/perl5/perlbrew/perls/perl-5.18.4/lib/5.18.4/darwin-thread-multi-2level/CORE/hv_func.h:458:18: warning: cast from 'const unsigned char *' to 'U32 *' (aka 'unsigned int *') increases required alignment from 1 to 4 [-Wcast-align]
    U32 hash = *((U32*)seed + len);
                 ^~~~~~~~~~
/Users/hornenj/perl5/perlbrew/perls/perl-5.18.4/lib/5.18.4/darwin-thread-multi-2level/CORE/hv_func.h:458:24: warning: cast from 'const unsigned char *' to 'unsigned int *' drops const qualifier [-Wcast-qual]
    U32 hash = *((U32*)seed + len);
                       ^
/Users/hornenj/perl5/perlbrew/perls/perl-5.18.4/lib/5.18.4/darwin-thread-multi-2level/CORE/hv_func.h:468:18: warning: cast from 'const unsigned char *' to 'U32 *' (aka 'unsigned int *') increases required alignment from 1 to 4 [-Wcast-align]
    U32 hash = *((U32*)seed + len);
                 ^~~~~~~~~~
/Users/hornenj/perl5/perlbrew/perls/perl-5.18.4/lib/5.18.4/darwin-thread-multi-2level/CORE/hv_func.h:468:24: warning: cast from 'const unsigned char *' to 'unsigned int *' drops const qualifier [-Wcast-qual]
    U32 hash = *((U32*)seed + len);
                       ^
/Users/hornenj/perl5/perlbrew/perls/perl-5.18.4/lib/5.18.4/darwin-thread-multi-2level/CORE/hv_func.h:484:18: warning: cast from 'const unsigned char *' to 'U32 *' (aka 'unsigned int *') increases required alignment from 1 to 4 [-Wcast-align]
    U32 hash = *((U32*)seed) + len;
                 ^~~~~~~~~~
/Users/hornenj/perl5/perlbrew/perls/perl-5.18.4/lib/5.18.4/darwin-thread-multi-2level/CORE/hv_func.h:484:24: warning: cast from 'const unsigned char *' to 'unsigned int *' drops const qualifier [-Wcast-qual]
    U32 hash = *((U32*)seed) + len;
                       ^
/Users/hornenj/perl5/perlbrew/perls/perl-5.18.4/lib/5.18.4/darwin-thread-multi-2level/CORE/hv_func.h:499:18: warning: cast from 'const unsigned char *' to 'U32 *' (aka 'unsigned int *') increases required alignment from 1 to 4 [-Wcast-align]
    U32 hash = *((U32*)seed) + len;
                 ^~~~~~~~~~
/Users/hornenj/perl5/perlbrew/perls/perl-5.18.4/lib/5.18.4/darwin-thread-multi-2level/CORE/hv_func.h:499:24: warning: cast from 'const unsigned char *' to 'unsigned int *' drops const qualifier [-Wcast-qual]
    U32 hash = *((U32*)seed) + len;
                       ^
/Users/hornenj/perl5/perlbrew/perls/perl-5.18.4/lib/5.18.4/darwin-thread-multi-2level/CORE/hv_func.h:534:18: warning: cast from 'const unsigned char *' to 'U32 *' (aka 'unsigned int *') increases required alignment from 1 to 4 [-Wcast-align]
    U32 hash = *((U32*)seed);
                 ^~~~~~~~~~
/Users/hornenj/perl5/perlbrew/perls/perl-5.18.4/lib/5.18.4/darwin-thread-multi-2level/CORE/hv_func.h:534:24: warning: cast from 'const unsigned char *' to 'unsigned int *' drops const qualifier [-Wcast-qual]
    U32 hash = *((U32*)seed);
                       ^
In file included from t/dyna_low.c:3:
In file included from /Users/hornenj/perl5/perlbrew/perls/perl-5.18.4/lib/5.18.4/darwin-thread-multi-2level/CORE/perl.h:5255:
/Users/hornenj/perl5/perlbrew/perls/perl-5.18.4/lib/5.18.4/darwin-thread-multi-2level/CORE/inline.h:23:12: warning: use of GNU statement expression extension [-Wgnu-statement-expression]
    return AvFILL(av);
           ^
/Users/hornenj/perl5/perlbrew/perls/perl-5.18.4/lib/5.18.4/darwin-thread-multi-2level/CORE/av.h:80:15: note: expanded from macro 'AvFILL'
                         ? mg_size(MUTABLE_SV(av)) : AvFILLp(av))
                                   ^
/Users/hornenj/perl5/perlbrew/perls/perl-5.18.4/lib/5.18.4/darwin-thread-multi-2level/CORE/handy.h:70:30: note: expanded from macro 'MUTABLE_SV'
#define MUTABLE_SV(p)   ((SV *)MUTABLE_PTR(p))
                               ^
/Users/hornenj/perl5/perlbrew/perls/perl-5.18.4/lib/5.18.4/darwin-thread-multi-2level/CORE/handy.h:60:27: note: expanded from macro 'MUTABLE_PTR'
#  define MUTABLE_PTR(p) ({ void *_p = (p); _p; })
                          ^
t/dyna_low.c:20:24: warning: no previous prototype for function 'dynalow_foo' [-Wmissing-prototypes]
MY_EXPORT_CALLCONV int dynalow_foo(void)
                       ^
t/dyna_low.c:25:24: warning: no previous prototype for function 'dynalow_bar' [-Wmissing-prototypes]
MY_EXPORT_CALLCONV int dynalow_bar(void)
                       ^
t/dyna_low.c:31:24: warning: no previous prototype for function 'boot_t__dyna_low' [-Wmissing-prototypes]
MY_EXPORT_CALLCONV int boot_t__dyna_low(void)
                       ^
46 warnings generated.
ld: warning: object file (t/dyna_low.o) was built for newer OSX version (10.11) than being linked (10.4)
t/dyna_low.t .. ok
t/pod_cvg.t ... ok
t/pod_syn.t ... ok
All tests successful.
Files=3, Tests=8,  0 wallclock secs ( 0.02 usr  0.01 sys +  0.24 cusr  0.20 csys =  0.47 CPU)
Result: PASS

------------------------------
PREREQUISITES
------------------------------

Prerequisite modules loaded:

requires:

    Module        Need  Have    
    ------------- ----- --------
    Carp          0     1.36    
    DynaLoader    0     1.18    
    Exporter      0     5.70    
    parent        0     0.233   
    perl          5.006 5.018004
    strict        0     1.07    
    warnings      0     1.18    

build_requires:

    Module        Need  Have    
    ------------- ----- --------
    Module::Build 0     0.4212  
    perl          5.006 5.018004
    strict        0     1.07    
    Test::More    0     1.302086
    warnings      0     1.18    

configure_requires:

    Module        Need  Have    
    ------------- ----- --------
    Module::Build 0     0.4212  
    perl          5.006 5.018004
    strict        0     1.07    
    warnings      0     1.18    


------------------------------
ENVIRONMENT AND OTHER CONTEXT
------------------------------

Environment variables:

    AUTOMATED_TESTING = 1
    LANG = en_US.UTF-8
    LC_ALL = POSIX
    LDFLAGS = 
    PATH = /Users/hornenj/perl5/perlbrew/bin:/Users/hornenj/perl5/perlbrew/perls/perl-5.18.4/bin:/Users/hornenj/perl5/perlbrew/bin:/Users/hornenj/bin:/sw/lib/perl5/ExtUtils:/sw/bin:/usr/bin:/bin:/usr/X11R6/bin
    PERL5LIB = 
    PERL5OPT = 
    PERL5_CPANPLUS_IS_RUNNING = 12524
    PERL5_CPAN_IS_RUNNING = 12524
    PERL5_MINISMOKEBOX = 0.68
    PERLBREW_BASHRC_VERSION = 0.77
    PERLBREW_HOME = /Users/hornenj/.perlbrew
    PERLBREW_LIB = 
    PERLBREW_MANPATH = /Users/hornenj/perl5/perlbrew/perls/perl-5.18.4/man
    PERLBREW_PATH = /Users/hornenj/perl5/perlbrew/bin:/Users/hornenj/perl5/perlbrew/perls/perl-5.18.4/bin
    PERLBREW_PERL = perl-5.18.4
    PERLBREW_ROOT = /Users/hornenj/perl5/perlbrew
    PERLBREW_VERSION = 0.77
    PERL_EXTUTILS_AUTOINSTALL = --defaultdeps
    PERL_LOCAL_LIB_ROOT = 
    PERL_MM_USE_DEFAULT = 1
    SHELL = /bin/bash
    TERM = xterm-256color
    TMPDIR = /var/folders/pz/pd7y1qjs6s3cbk170cw50fjc000c61/T/
    ac_cv_path_INTLTOOL_PERL = /usr/bin/perl

Perl special variables (and OS-specific diagnostics, for MSWin32):

    $^X = /Users/hornenj/perl5/perlbrew/perls/perl-5.18.4/bin/perl5.18.4
    $UID/$EUID = 12481 / 12481
    $GID = 14 14 5344 37191 527 37223 241
    $EGID = 14 14 5344 37191 527 37223 241

Perl module toolchain versions installed:

    Module              Have    
    ------------------- --------
    CPAN                2.16    
    CPAN::Meta          2.150001
    Cwd                 3.47    
    ExtUtils::CBuilder  0.280223
    ExtUtils::Command   7.22    
    ExtUtils::Install   2.04    
    ExtUtils::MakeMaker 7.22    
    ExtUtils::Manifest  1.70    
    ExtUtils::ParseXS   3.30    
    File::Spec          3.47    
    JSON                2.93    
    JSON::PP            2.27400 
    Module::Build       0.4212  
    Module::Signature   n/a     
    Parse::CPAN::Meta   1.4422  
    Test::Harness       3.36    
    Test::More          1.302086
    YAML                1.23    
    YAML::Syck          1.30    
    version             0.9912  


--

Summary of my perl5 (revision 5 version 18 subversion 4) configuration:
   
  Platform:
    osname=darwin, osvers=13.4.0, archname=darwin-thread-multi-2level
    uname='darwin ncbimac2008.ncbi.nlm.nih.gov 13.4.0 darwin kernel version 13.4.0: sun aug 17 19:50:11 pdt 2014; root:xnu-2422.115.4~1release_x86_64 x86_64 '
    config_args='-de -Dprefix=/Users/hornenj/perl5/perlbrew/perls/perl-5.18.4 -Duseithreads -Dusemultiplicity -Dusedevel -Accflags=-O2 -W -Wformat=2 -Wswitch -Wshadow -Wwrite-strings -Wuninitialized -Wall -pipe -mtune=native -march=native -fomit-frame-pointer -msse2 -msse -mmmx -pedantic -D_FORTIFY_SOURCE=2 -Wpointer-arith -Wstrict-prototypes -fstack-protector -Wstack-protector -Wextra -Wbad-function-cast -Wcast-align -Wcast-qual -Wdisabled-optimization -Wendif-labels -Wfloat-equal -Wformat-nonliteral -Winline -Wmissing-declarations -Wmissing-prototypes -Wnested-externs -Wpointer-arith -Wundef -Wformat-security -fassociative-math -Acc=cc -Aeval:scriptdir=/Users/hornenj/perl5/perlbrew/perls/perl-5.18.4/bin'
    hint=recommended, useposix=true, d_sigaction=define
    useithreads=define, usemultiplicity=define
    useperlio=define, d_sfio=undef, uselargefiles=define, usesocks=undef
    use64bitint=define, use64bitall=define, uselongdouble=undef
    usemymalloc=n, bincompat5005=undef
  Compiler:
    cc=' cc', ccflags ='-fno-common -DPERL_DARWIN -O2 -W -Wformat=2 -Wswitch -Wshadow -Wwrite-strings -Wuninitialized -Wall -pipe -mtune=native -march=native -fomit-frame-pointer -msse2 -msse -mmmx -pedantic -D_FORTIFY_SOURCE=2 -Wpointer-arith -Wstrict-prototypes -fstack-protector -Wstack-protector -Wextra -Wbad-function-cast -Wcast-align -Wcast-qual -Wdisabled-optimization -Wendif-labels -Wfloat-equal -Wformat-nonliteral -Winline -Wmissing-declarations -Wmissing-prototypes -Wnested-externs -Wpointer-arith -Wundef -Wformat-security -fassociative-math -fno-strict-aliasing -I/usr/local/include',
    optimize='-O3',
    cppflags='-fno-common -DPERL_DARWIN -O2 -W -Wformat=2 -Wswitch -Wshadow -Wwrite-strings -Wuninitialized -Wall -pipe -mtune=native -march=native -fomit-frame-pointer -msse2 -msse -mmmx -pedantic -D_FORTIFY_SOURCE=2 -Wpointer-arith -Wstrict-prototypes -fstack-protector -Wstack-protector -Wextra -Wbad-function-cast -Wcast-align -Wcast-qual -Wdisabled-optimization -Wendif-labels -Wfloat-equal -Wformat-nonliteral -Winline -Wmissing-declarations -Wmissing-prototypes -Wnested-externs -Wpointer-arith -Wundef -Wformat-security -fassociative-math -fno-strict-aliasing -I/usr/local/include'
    ccversion='', gccversion='4.2.1 Compatible Apple LLVM 6.0 (clang-600.0.51)', gccosandvers=''
    intsize=4, longsize=8, ptrsize=8, doublesize=8, byteorder=12345678
    d_longlong=define, longlongsize=8, d_longdbl=define, longdblsize=16
    ivtype='long', ivsize=8, nvtype='double', nvsize=8, Off_t='off_t', lseeksize=8
    alignbytes=8, prototype=define
  Linker and Libraries:
    ld='env MACOSX_DEPLOYMENT_TARGET=10.3 cc', ldflags =' -fstack-protector -L/usr/local/lib'
    libpth=/usr/local/lib /usr/lib
    libs=-ldbm -ldl -lm -lutil -lc
    perllibs=-ldl -lm -lutil -lc
    libc=, so=dylib, useshrplib=false, libperl=libperl.a
    gnulibc_version=''
  Dynamic Linking:
    dlsrc=dl_dlopen.xs, dlext=bundle, d_dlsymun=undef, ccdlflags=' '
    cccdlflags=' ', lddlflags=' -bundle -undefined dynamic_lookup -L/usr/local/lib -fstack-protector'


Characteristics of this binary (from libperl): 
  Compile-time options: HAS_TIMES MULTIPLICITY PERLIO_LAYERS
                        PERL_DONT_CREATE_GVSV
                        PERL_HASH_FUNC_ONE_AT_A_TIME_HARD
                        PERL_IMPLICIT_CONTEXT PERL_MALLOC_WRAP
                        PERL_PRESERVE_IVUV PERL_SAWAMPERSAND PERL_USE_DEVEL
                        USE_64_BIT_ALL USE_64_BIT_INT USE_ITHREADS
                        USE_LARGE_FILES USE_LOCALE USE_LOCALE_COLLATE
                        USE_LOCALE_CTYPE USE_LOCALE_NUMERIC USE_PERLIO
                        USE_PERL_ATOF USE_REENTRANT_API
  Built under darwin
  Compiled at Nov 12 2014 08:22:09
  %ENV:
    PERL5LIB=""
    PERL5OPT=""
    PERL5_CPANPLUS_IS_RUNNING="12524"
    PERL5_CPAN_IS_RUNNING="12524"
    PERL5_MINISMOKEBOX="0.68"
    PERLBREW_BASHRC_VERSION="0.77"
    PERLBREW_HOME="/Users/hornenj/.perlbrew"
    PERLBREW_LIB=""
    PERLBREW_MANPATH="/Users/hornenj/perl5/perlbrew/perls/perl-5.18.4/man"
    PERLBREW_PATH="/Users/hornenj/perl5/perlbrew/bin:/Users/hornenj/perl5/perlbrew/perls/perl-5.18.4/bin"
    PERLBREW_PERL="perl-5.18.4"
    PERLBREW_ROOT="/Users/hornenj/perl5/perlbrew"
    PERLBREW_VERSION="0.77"
    PERL_EXTUTILS_AUTOINSTALL="--defaultdeps"
    PERL_LOCAL_LIB_ROOT=""
    PERL_MM_USE_DEFAULT="1"
  @INC:
    /Users/hornenj/perl5/perlbrew/perls/perl-5.18.4/lib/site_perl/5.18.4/darwin-thread-multi-2level
    /Users/hornenj/perl5/perlbrew/perls/perl-5.18.4/lib/site_perl/5.18.4
    /Users/hornenj/perl5/perlbrew/perls/perl-5.18.4/lib/5.18.4/darwin-thread-multi-2level
    /Users/hornenj/perl5/perlbrew/perls/perl-5.18.4/lib/5.18.4
    .