Bio-EUtilities v1.77 Perl 5 v5.30.2 x86_64-linux

Status
Pass
From
Slaven Rezić (SREZIC)
Dist
Bio-EUtilities v1.77
Platform
Perl 5 v5.30.2 x86_64-linux
Date
2020-03-15 10:04:04
ID
4d4f5670-66a4-11ea-afab-36341f24ea8f
This distribution has been tested as part of the CPAN Testers
project, supporting the Perl programming language.  See
http://wiki.cpantesters.org/ for more information or email
questions to cpan-testers-discuss@perl.org


--
Dear Christopher Fields,

This is a computer-generated report for Bio-EUtilities-1.77
on perl 5.30.2, created by CPAN-Reporter-1.2018.

Thank you for uploading your work to CPAN.  Congratulations!
All tests were successful.

Sections of this report:

    * Tester comments
    * Program output
    * Prerequisites
    * Environment and other context

------------------------------
TESTER COMMENTS
------------------------------

Additional comments from tester:

none provided

------------------------------
PROGRAM OUTPUT
------------------------------

Output from '/usr/bin/make test':

PERL_DL_NONLAZY=1 "/opt/perl-5.30.2/bin/perl" "-MExtUtils::Command::MM" "-MTest::Harness" "-e" "undef *Test::Harness::Switches; test_harness(0, 'blib/lib', 'blib/arch')" t/*.t
t/00-compile.t .............. ok
t/author-eol.t .............. skipped: these tests are for testing by the author
t/author-mojibake.t ......... skipped: these tests are for testing by the author
t/author-no-tabs.t .......... skipped: these tests are for testing by the author
t/author-pod-syntax.t ....... skipped: these tests are for testing by the author
t/egquery.t ................. ok
t/einfo.t ................... ok
t/elink_acheck.t ............ ok
t/elink_lcheck.t ............ ok
t/elink_llinks.t ............ ok
t/elink_ncheck.t ............ ok
t/elink_neighbor.t .......... ok
t/elink_neighbor_history.t .. ok
t/elink_scores.t ............ ok
t/epost.t ................... ok
t/esearch.t ................. ok
t/espell.t .................. ok
t/esummary.t ................ ok
t/EUtilParameters.t ......... ok
t/release-EUtilities.t ...... skipped: these tests are for release candidate testing
All tests successful.
Files=20, Tests=759,  4 wallclock secs ( 0.10 usr  0.02 sys +  3.39 cusr  0.54 csys =  4.05 CPU)
Result: PASS

------------------------------
PREREQUISITES
------------------------------

Prerequisite modules loaded:

requires:

    Module                   Need  Have     
    ------------------------ ----- ---------
    base                     0     2.27     
    Bio::ASN1::EntrezGene    0     1.73     
    Bio::DB::GenericWebAgent 0     1.7.7    
    Bio::ParameterBaseI      0     1.7.7    
    Bio::Root::IO            0     1.7.7    
    Bio::Root::Root          0     1.7.7    
    Bio::Root::RootI         0     1.7.7    
    Bio::Root::Version       0     1.7.7    
    Bio::SeqIO               0     1.7.7    
    Cwd                      0     3.78     
    Data::Dumper             0     2.174    
    File::Spec               0     3.78     
    Getopt::Long             0     2.51     
    HTTP::Request            0     6.22     
    LWP::UserAgent           0     6.43     
    perl                     5.010 5.030002 
    strict                   0     1.11     
    Text::CSV                0     2.00     
    Text::Wrap               0     2013.0523
    URI                      0     1.76     
    utf8                     0     1.22     
    warnings                 0     1.44     
    XML::Simple              0     2.25     

build_requires:

    Module                   Need  Have     
    ------------------------ ----- ---------
    ExtUtils::MakeMaker      0     7.44     
    File::Spec               0     3.78     
    IO::Handle               0     1.40     
    IPC::Open3               0     1.20     
    Test::More               0     1.302172 

configure_requires:

    Module                   Need  Have     
    ------------------------ ----- ---------
    ExtUtils::MakeMaker      0     7.44     


------------------------------
ENVIRONMENT AND OTHER CONTEXT
------------------------------

Environment variables:

    LANG = en_US.UTF-8
    PATH = /usr/local/bin:/usr/bin:/bin:/usr/local/sbin:/usr/sbin:/sbin:/home/cpansand/bin/linux-gnu:/home/cpansand/bin/sh:/home/cpansand/bin:/usr/games:/home/cpansand/devel:/home/eserte/src/srezic-misc/scripts
    PERL5LIB = 
    PERL5OPT = 
    PERL5_CPANPLUS_IS_RUNNING = 6513
    PERL5_CPAN_IS_RUNNING = 6513
    PERL5_CPAN_IS_RUNNING_IN_RECURSION = 22452,6513
    PERLDOC = -MPod::Perldoc::ToTextOverstrike
    PERL_BATCH = yes
    PERL_CANARY_STABILITY_NOPROMPT = 1
    PERL_CPAN_REPORTER_CONFIG = /var/tmp/cpansmoker-1023/2020031508/cpanreporter_000_config.ini
    PERL_EXTUTILS_AUTOINSTALL = --defaultdeps
    PERL_USE_UNSAFE_INC = 1
    SHELL = /usr/bin/zsh
    TERM = screen
    TMPDIR = /var/tmp/cpansmoker-1023/2020031508

Perl special variables (and OS-specific diagnostics, for MSWin32):

    $^X = /opt/perl-5.30.2/bin/perl
    $UID/$EUID = 1023 / 1023
    $GID = 1023 1023
    $EGID = 1023 1023

Perl module toolchain versions installed:

    Module              Have    
    ------------------- --------
    CPAN                2.22    
    CPAN::Meta          2.150010
    Cwd                 3.78    
    ExtUtils::CBuilder  0.280231
    ExtUtils::Command   7.44    
    ExtUtils::Install   2.14    
    ExtUtils::MakeMaker 7.44    
    ExtUtils::Manifest  1.72    
    ExtUtils::ParseXS   3.40    
    File::Spec          3.78    
    JSON                4.02    
    JSON::PP            4.02    
    Module::Build       0.4231  
    Module::Signature   n/a     
    Parse::CPAN::Meta   2.150010
    Test::Harness       3.42    
    Test::More          1.302172
    YAML                1.30    
    YAML::Syck          1.32    
    version             0.9924  


--

Summary of my perl5 (revision 5 version 30 subversion 2) configuration:
   
  Platform:
    osname=linux
    osvers=4.18.0-147.5.1.el8_1.x86_64
    archname=x86_64-linux
    uname='linux centos8-2gb-nbg1 4.18.0-147.5.1.el8_1.x86_64 #1 smp wed feb 5 02:00:39 utc 2020 x86_64 x86_64 x86_64 gnulinux '
    config_args='-ds -e -Dprefix=/opt/perl-5.30.2 -Dcf_email=srezic@cpan.org'
    hint=recommended
    useposix=true
    d_sigaction=define
    useithreads=undef
    usemultiplicity=undef
    use64bitint=define
    use64bitall=define
    uselongdouble=undef
    usemymalloc=n
    default_inc_excludes_dot=define
    bincompat5005=undef
  Compiler:
    cc='cc'
    ccflags ='-fwrapv -fno-strict-aliasing -pipe -fstack-protector-strong -I/usr/local/include -D_LARGEFILE_SOURCE -D_FILE_OFFSET_BITS=64 -D_FORTIFY_SOURCE=2'
    optimize='-O2'
    cppflags='-fwrapv -fno-strict-aliasing -pipe -fstack-protector-strong -I/usr/local/include'
    ccversion=''
    gccversion='8.3.1 20190507 (Red Hat 8.3.1-4)'
    gccosandvers=''
    intsize=4
    longsize=8
    ptrsize=8
    doublesize=8
    byteorder=12345678
    doublekind=3
    d_longlong=define
    longlongsize=8
    d_longdbl=define
    longdblsize=16
    longdblkind=3
    ivtype='long'
    ivsize=8
    nvtype='double'
    nvsize=8
    Off_t='off_t'
    lseeksize=8
    alignbytes=8
    prototype=define
  Linker and Libraries:
    ld='cc'
    ldflags =' -fstack-protector-strong -L/usr/local/lib'
    libpth=/usr/local/lib /usr/lib /lib/../lib64 /usr/lib/../lib64 /lib /lib64 /usr/lib64 /usr/local/lib64
    libs=-lpthread -ldb -ldl -lm -lcrypt -lutil -lc
    perllibs=-lpthread -ldl -lm -lcrypt -lutil -lc
    libc=libc-2.28.so
    so=so
    useshrplib=false
    libperl=libperl.a
    gnulibc_version='2.28'
  Dynamic Linking:
    dlsrc=dl_dlopen.xs
    dlext=so
    d_dlsymun=undef
    ccdlflags='-Wl,-E'
    cccdlflags='-fPIC'
    lddlflags='-shared -O2 -L/usr/local/lib -fstack-protector-strong'


Characteristics of this binary (from libperl): 
  Compile-time options:
    HAS_TIMES
    PERLIO_LAYERS
    PERL_COPY_ON_WRITE
    PERL_DONT_CREATE_GVSV
    PERL_MALLOC_WRAP
    PERL_OP_PARENT
    PERL_PRESERVE_IVUV
    USE_64_BIT_ALL
    USE_64_BIT_INT
    USE_LARGE_FILES
    USE_LOCALE
    USE_LOCALE_COLLATE
    USE_LOCALE_CTYPE
    USE_LOCALE_NUMERIC
    USE_LOCALE_TIME
    USE_PERLIO
    USE_PERL_ATOF
  Built under linux
  Compiled at Mar 14 2020 22:36:05
  %ENV:
    PERL5LIB=""
    PERL5OPT=""
    PERL5_CPANPLUS_IS_RUNNING="6513"
    PERL5_CPAN_IS_RUNNING="6513"
    PERL5_CPAN_IS_RUNNING_IN_RECURSION="22452,6513"
    PERLDOC="-MPod::Perldoc::ToTextOverstrike"
    PERL_BATCH="yes"
    PERL_CANARY_STABILITY_NOPROMPT="1"
    PERL_CPAN_REPORTER_CONFIG="/var/tmp/cpansmoker-1023/2020031508/cpanreporter_000_config.ini"
    PERL_EXTUTILS_AUTOINSTALL="--defaultdeps"
    PERL_USE_UNSAFE_INC="1"
  @INC:
    /opt/perl-5.30.2/lib/site_perl/5.30.2/x86_64-linux
    /opt/perl-5.30.2/lib/site_perl/5.30.2
    /opt/perl-5.30.2/lib/5.30.2/x86_64-linux
    /opt/perl-5.30.2/lib/5.30.2
    .