PerlIO-via-QuotedPrint v0.10 Perl 5 v5.34.1 x86_64-linux-thread-multi
- Status
- Pass
- From
- Daniel Èuteu
- Dist
-
PerlIO-via-QuotedPrint v0.10
- Platform
- Perl 5 v5.34.1 x86_64-linux-thread-multi
- Date
- 2022-05-22 12:47:13
- ID
- 4d666ca4-d9cd-11ec-9e8e-ace3b9b7749a
This distribution has been tested as part of the CPAN Testers
project, supporting the Perl programming language. See
https://wiki.cpantesters.org/ for more information or email
questions to cpan-testers-discuss@perl.org
--
Dear Steve Hay,
This is a computer-generated report for PerlIO-via-QuotedPrint-0.10
on perl 5.34.1, created by CPAN-Reporter-1.2018.
Thank you for uploading your work to CPAN. Congratulations!
All tests were successful.
Sections of this report:
* Tester comments
* Program output
* Prerequisites
* Environment and other context
------------------------------
TESTER COMMENTS
------------------------------
Additional comments from tester:
none provided
------------------------------
PROGRAM OUTPUT
------------------------------
Output from '/usr/bin/make test':
PERL_DL_NONLAZY=1 "/usr/bin/perl" "-MExtUtils::Command::MM" "-MTest::Harness" "-e" "undef *Test::Harness::Switches; test_harness(0, 'blib/lib', 'blib/arch')" t/*.t
t/changes.t ....... skipped: Author testing only
t/critic.t ........ skipped: Author testing only
t/pod.t ........... skipped: Author testing only
t/pod_coverage.t .. skipped: Author testing only
t/QuotedPrint.t ... ok
All tests successful.
Files=5, Tests=11, 1 wallclock secs ( 0.03 usr 0.01 sys + 0.28 cusr 0.07 csys = 0.39 CPU)
Result: PASS
------------------------------
PREREQUISITES
------------------------------
Prerequisite modules loaded:
requires:
Module Need Have
------------------- -------- --------
MIME::QuotedPrint 0 3.16
perl 5.008001 5.034001
strict 0 1.12
build_requires:
Module Need Have
------------------- -------- --------
ExtUtils::MakeMaker 0 7.64
Test::More 0 1.302190
configure_requires:
Module Need Have
------------------- -------- --------
Config 0 5.034001
ExtUtils::MakeMaker 6.64 7.64
perl 5.008001 5.034001
strict 0 1.12
warnings 0 1.51
------------------------------
ENVIRONMENT AND OTHER CONTEXT
------------------------------
Environment variables:
LANG = en_US.UTF-8
LANGUAGE =
LC_ADDRESS =
LC_COLLATE =
LC_CTYPE =
LC_IDENTIFICATION =
LC_MEASUREMENT =
LC_MESSAGES =
LC_MONETARY =
LC_NAME =
LC_NUMERIC =
LC_PAPER =
LC_TELEPHONE =
LC_TIME =
PATH = /usr/lib/ccache/bin:/usr/local/sbin:/usr/local/bin:/usr/bin:/opt/android-sdk/platform-tools:/usr/lib/jvm/default/bin:/usr/bin/site_perl:/usr/bin/vendor_perl:/usr/bin/core_perl:/usr/share/perl6/vendor/bin:/home/swampyx/.raku/bin:/opt/android-ndk/toolchains/llvm/prebuilt/linux-x86_64/bin
PERL5LIB =
PERL5OPT =
PERL5_CPANPLUS_IS_RUNNING = 393001
PERL5_CPAN_IS_RUNNING = 393001
PERL_USE_UNSAFE_INC = 1
SHELL = /usr/bin/zsh
TERM = xterm
Perl special variables (and OS-specific diagnostics, for MSWin32):
$^X = /usr/bin/perl
$UID/$EUID = 0 / 0
$GID = 0 0 1 2 3 4 6 10 19
$EGID = 0 0 1 2 3 4 6 10 19
Perl module toolchain versions installed:
Module Have
------------------- --------
CPAN 2.34
CPAN::Meta 2.150010
Cwd 3.80
ExtUtils::CBuilder 0.280236
ExtUtils::Command 7.64
ExtUtils::Install 2.20
ExtUtils::MakeMaker 7.64
ExtUtils::Manifest 1.73
ExtUtils::ParseXS 3.44
File::Spec 3.80
JSON 4.06
JSON::PP 4.09
Module::Build 0.4231
Module::Signature 0.88
Parse::CPAN::Meta 2.150010
Test::Harness 3.44
Test::More 1.302190
YAML 1.30
YAML::Syck n/a
version 0.9929
--
Summary of my perl5 (revision 5 version 34 subversion 1) configuration:
Platform:
osname=linux
osvers=5.12.15-arch1-1
archname=x86_64-linux-thread-multi
uname='archlinux'
config_args='-des -Dusethreads -Duseshrplib -Doptimize=-march=x86-64 -mtune=generic -O2 -pipe -fno-plt -fexceptions -Wp,-D_FORTIFY_SOURCE=2 -Wformat -Werror=format-security -fstack-clash-protection -fcf-protection -flto -Dprefix=/usr -Dvendorprefix=/usr -Dprivlib=/usr/share/perl5/core_perl -Darchlib=/usr/lib/perl5/5.34/core_perl -Dsitelib=/usr/share/perl5/site_perl -Dsitearch=/usr/lib/perl5/5.34/site_perl -Dvendorlib=/usr/share/perl5/vendor_perl -Dvendorarch=/usr/lib/perl5/5.34/vendor_perl -Dscriptdir=/usr/bin/core_perl -Dsitescript=/usr/bin/site_perl -Dvendorscript=/usr/bin/vendor_perl -Dinc_version_list=none -Dman1ext=1perl -Dman3ext=3perl -Dcccdlflags='-fPIC' -Dlddlflags=-shared -Wl,-O1,--sort-common,--as-needed,-z,relro,-z,now -flto -Dldflags=-Wl,-O1,--sort-common,--as-needed,-z,relro,-z,now -flto'
hint=recommended
useposix=true
d_sigaction=define
useithreads=define
usemultiplicity=define
use64bitint=define
use64bitall=define
uselongdouble=undef
usemymalloc=n
default_inc_excludes_dot=define
Compiler:
cc='cc'
ccflags ='-D_REENTRANT -D_GNU_SOURCE -fwrapv -fno-strict-aliasing -pipe -fstack-protector-strong -I/usr/local/include -D_LARGEFILE_SOURCE -D_FILE_OFFSET_BITS=64'
optimize='-march=x86-64 -mtune=generic -O2 -pipe -fno-plt -fexceptions -Wp,-D_FORTIFY_SOURCE=2 -Wformat -Werror=format-security -fstack-clash-protection -fcf-protection -flto'
cppflags='-D_REENTRANT -D_GNU_SOURCE -fwrapv -fno-strict-aliasing -pipe -fstack-protector-strong -I/usr/local/include'
ccversion=''
gccversion='11.2.0'
gccosandvers=''
intsize=4
longsize=8
ptrsize=8
doublesize=8
byteorder=12345678
doublekind=3
d_longlong=define
longlongsize=8
d_longdbl=define
longdblsize=16
longdblkind=3
ivtype='long'
ivsize=8
nvtype='double'
nvsize=8
Off_t='off_t'
lseeksize=8
alignbytes=8
prototype=define
Linker and Libraries:
ld='cc'
ldflags ='-Wl,-O1,--sort-common,--as-needed,-z,relro,-z,now -flto -fstack-protector-strong -L/usr/local/lib'
libpth=/usr/local/lib /usr/lib
libs=-lpthread -lgdbm -ldb -ldl -lm -lcrypt -lutil -lc -lgdbm_compat
perllibs=-lpthread -ldl -lm -lcrypt -lutil -lc
libc=/lib/../lib/libc.so.6
so=so
useshrplib=true
libperl=libperl.so
gnulibc_version='2.35'
Dynamic Linking:
dlsrc=dl_dlopen.xs
dlext=so
d_dlsymun=undef
ccdlflags='-Wl,-E -Wl,-rpath,/usr/lib/perl5/5.34/core_perl/CORE'
cccdlflags='-fPIC'
lddlflags='-shared -Wl,-O1,--sort-common,--as-needed,-z,relro,-z,now -flto -L/usr/local/lib -fstack-protector-strong'
Characteristics of this binary (from libperl):
Compile-time options:
HAS_TIMES
MULTIPLICITY
PERLIO_LAYERS
PERL_COPY_ON_WRITE
PERL_DONT_CREATE_GVSV
PERL_IMPLICIT_CONTEXT
PERL_MALLOC_WRAP
PERL_OP_PARENT
PERL_PRESERVE_IVUV
USE_64_BIT_ALL
USE_64_BIT_INT
USE_ITHREADS
USE_LARGE_FILES
USE_LOCALE
USE_LOCALE_COLLATE
USE_LOCALE_CTYPE
USE_LOCALE_NUMERIC
USE_LOCALE_TIME
USE_PERLIO
USE_PERL_ATOF
USE_REENTRANT_API
USE_THREAD_SAFE_LOCALE
Built under linux
Compiled at Mar 27 2022 09:11:01
%ENV:
PERL5LIB=""
PERL5OPT=""
PERL5_CPANPLUS_IS_RUNNING="393001"
PERL5_CPAN_IS_RUNNING="393001"
PERL_USE_UNSAFE_INC="1"
@INC:
/usr/lib/perl5/5.34/site_perl
/usr/share/perl5/site_perl
/usr/lib/perl5/5.34/vendor_perl
/usr/share/perl5/vendor_perl
/usr/lib/perl5/5.34/core_perl
/usr/share/perl5/core_perl
.