Report for IO-Async-Resolver-StupidCache-0.03

Back
From: metabase:user:cd035d39-6d5b-1014-ab3a-39c0c09612a1
Subject: PASS IO-Async-Resolver-StupidCache-0.03 v5.20.2 GNU/Linux
Date: 2015-05-06T22:07:36Z

This distribution has been tested as part of the CPAN Testers
project, supporting the Perl programming language.  See
http://wiki.cpantesters.org/ for more information or email
questions to cpan-testers-discuss@perl.org


--
Dear Paul Evans,

This is a computer-generated report for IO-Async-Resolver-StupidCache-0.03
on perl 5.20.2, created by CPAN-Reporter-1.2014.

Thank you for uploading your work to CPAN.  Congratulations!
All tests were successful.

Sections of this report:

    * Tester comments
    * Program output
    * Prerequisites
    * Environment and other context

------------------------------
TESTER COMMENTS
------------------------------

Additional comments from tester:

this report is from an automated smoke testing program
and was not reviewed by a human for accuracy

------------------------------
PROGRAM OUTPUT
------------------------------

Output from './Build test':

t/00use.t ..... ok
t/01cache.t ... ok
t/02cancel.t .. ok
t/99pod.t ..... ok
All tests successful.
Files=4, Tests=13, 10 wallclock secs ( 0.54 usr  0.11 sys +  8.67 cusr  0.64 csys =  9.96 CPU)
Result: PASS

------------------------------
PREREQUISITES
------------------------------

Prerequisite modules loaded:

requires:

    Module              Need   Have    
    ------------------- ------ --------
    Future              0.30   0.32    
    IO::Async::Notifier 0      0.66    
    IO::Async::Resolver 0      0.66    
    Struct::Dumb        0      0.03    

build_requires:

    Module              Need   Have    
    ------------------- ------ --------
    IO::Async::Loop     0      0.66    
    IO::Async::Test     0      0.66    
    Test::More          0.88   1.001014

configure_requires:

    Module              Need   Have    
    ------------------- ------ --------
    Module::Build       0.4004 0.4211  


------------------------------
ENVIRONMENT AND OTHER CONTEXT
------------------------------

Environment variables:

    AUTOMATED_TESTING = 1
    LC_CTYPE = de_AT.utf8
    LD_LIBRARY_PATH = /usr/lib/libeatmydata
    NONINTERACTIVE_TESTING = 1
    PATH = /srv/smoker/bin:/usr/lib/ccache:/srv/smoker/perl5/perlbrew/bin:/srv/smoker/perl5/perlbrew/perls/perl-5.20.2/bin:/usr/local/bin:/usr/bin:/bin:/usr/local/games:/usr/games
    PERL5LIB = /srv/smoker/cpan/build/IO-Async-0.66-JOGtrl/blib/arch:/srv/smoker/cpan/build/IO-Async-0.66-JOGtrl/blib/lib:/srv/smoker/cpan/build/Future-0.32-F55ANN/blib/arch:/srv/smoker/cpan/build/Future-0.32-F55ANN/blib/lib:/srv/smoker/cpan/build/Devel-MAT-0.20-JJC9fH/blib/arch:/srv/smoker/cpan/build/Devel-MAT-0.20-JJC9fH/blib/lib:/srv/smoker/cpan/build/List-UtilsBy-0.09-HGdZRd/blib/arch:/srv/smoker/cpan/build/List-UtilsBy-0.09-HGdZRd/blib/lib:/srv/smoker/cpan/build/Struct-Dumb-0.03-hL98n1/blib/arch:/srv/smoker/cpan/build/Struct-Dumb-0.03-hL98n1/blib/lib:/srv/smoker/cpan/build/Test-Refcount-0.08-s8fezh/blib/arch:/srv/smoker/cpan/build/Test-Refcount-0.08-s8fezh/blib/lib:/srv/smoker/cpan/build/Test-Identity-0.01-GfG1Y_/blib/arch:/srv/smoker/cpan/build/Test-Identity-0.01-GfG1Y_/blib/lib
    PERL5OPT = 
    PERL5_CPANPLUS_IS_RUNNING = 23782
    PERL5_CPAN_IS_RUNNING = 23782
    PERL5_CPAN_IS_RUNNING_IN_RECURSION = 20729,23782
    PERLBREW_BASHRC_VERSION = 0.73
    PERLBREW_HOME = /srv/smoker/.perlbrew
    PERLBREW_MANPATH = /srv/smoker/perl5/perlbrew/perls/perl-5.20.2/man
    PERLBREW_PATH = /srv/smoker/perl5/perlbrew/bin:/srv/smoker/perl5/perlbrew/perls/perl-5.20.2/bin
    PERLBREW_PERL = perl-5.20.2
    PERLBREW_ROOT = /srv/smoker/perl5/perlbrew
    PERLBREW_VERSION = 0.73
    PERL_CR_SMOKER_CURRENT = IO-Async-Resolver-StupidCache-0.03
    PERL_EXTUTILS_AUTOINSTALL = --defaultdeps
    PERL_MM_USE_DEFAULT = 1
    SHELL = /bin/bash
    TERM = screen-256color
    TMPDIR = /srv/smoker/tmp

Perl special variables (and OS-specific diagnostics, for MSWin32):

    $^X = /srv/smoker/perl5/perlbrew/perls/perl-5.20.2/bin/perl
    $UID/$EUID = 1111 / 1111
    $GID = 65534 65534
    $EGID = 65534 65534

Perl module toolchain versions installed:

    Module              Have    
    ------------------- --------
    CPAN                2.10    
    CPAN::Meta          2.150001
    Cwd                 3.48_01 
    ExtUtils::CBuilder  0.280220
    ExtUtils::Command   1.20    
    ExtUtils::Install   2.04    
    ExtUtils::MakeMaker 7.04    
    ExtUtils::Manifest  1.70    
    ExtUtils::ParseXS   3.24    
    File::Spec          3.48_01 
    JSON                2.90    
    JSON::PP            2.27300 
    Module::Build       0.4211  
    Module::Signature   n/a     
    Parse::CPAN::Meta   1.4414  
    Test::Harness       3.35    
    Test::More          1.001014
    YAML                1.15    
    YAML::Syck          n/a     
    version             0.9912  


--

Summary of my perl5 (revision 5 version 20 subversion 2) configuration:
   
  Platform:
    osname=linux, osvers=3.12.18+, archname=armv6l-linux
    uname='linux smoker 3.12.18+ #13 preempt sat may 3 02:09:01 cest 2014 armv6l gnulinux '
    config_args='-de -Dprefix=/srv/smoker/perl5/perlbrew/perls/perl-5.20.2 -Aeval:scriptdir=/srv/smoker/perl5/perlbrew/perls/perl-5.20.2/bin'
    hint=recommended, useposix=true, d_sigaction=define
    useithreads=undef, usemultiplicity=undef
    use64bitint=undef, use64bitall=undef, uselongdouble=undef
    usemymalloc=n, bincompat5005=undef
  Compiler:
    cc='cc', ccflags ='-fwrapv -fno-strict-aliasing -pipe -fstack-protector -I/usr/local/include -D_LARGEFILE_SOURCE -D_FILE_OFFSET_BITS=64',
    optimize='-O2',
    cppflags='-fwrapv -fno-strict-aliasing -pipe -fstack-protector -I/usr/local/include'
    ccversion='', gccversion='4.9.1', gccosandvers=''
    intsize=4, longsize=4, ptrsize=4, doublesize=8, byteorder=1234
    d_longlong=define, longlongsize=8, d_longdbl=define, longdblsize=8
    ivtype='long', ivsize=4, nvtype='double', nvsize=8, Off_t='off_t', lseeksize=8
    alignbytes=8, prototype=define
  Linker and Libraries:
    ld='cc', ldflags =' -fstack-protector -L/usr/local/lib'
    libpth=/usr/local/lib /usr/lib/gcc/arm-linux-gnueabihf/4.9/include-fixed /usr/include/arm-linux-gnueabihf /usr/lib /lib/arm-linux-gnueabihf /lib /usr/lib/arm-linux-gnueabihf
    libs=-lnsl -ldl -lm -lcrypt -lutil -lc
    perllibs=-lnsl -ldl -lm -lcrypt -lutil -lc
    libc=, so=so, useshrplib=false, libperl=libperl.a
    gnulibc_version='2.19'
  Dynamic Linking:
    dlsrc=dl_dlopen.xs, dlext=so, d_dlsymun=undef, ccdlflags='-Wl,-E'
    cccdlflags='-fPIC', lddlflags='-shared -O2 -L/usr/local/lib -fstack-protector'


Characteristics of this binary (from libperl): 
  Compile-time options: HAS_TIMES PERLIO_LAYERS PERL_DONT_CREATE_GVSV
                        PERL_HASH_FUNC_ONE_AT_A_TIME_HARD PERL_MALLOC_WRAP
                        PERL_NEW_COPY_ON_WRITE PERL_PRESERVE_IVUV
                        USE_LARGE_FILES USE_LOCALE USE_LOCALE_COLLATE
                        USE_LOCALE_CTYPE USE_LOCALE_NUMERIC USE_PERLIO
                        USE_PERL_ATOF
  Built under linux
  Compiled at Feb 15 2015 03:42:32
  %ENV:
    PERL5LIB="/srv/smoker/cpan/build/IO-Async-0.66-JOGtrl/blib/arch:/srv/smoker/cpan/build/IO-Async-0.66-JOGtrl/blib/lib:/srv/smoker/cpan/build/Future-0.32-F55ANN/blib/arch:/srv/smoker/cpan/build/Future-0.32-F55ANN/blib/lib:/srv/smoker/cpan/build/Devel-MAT-0.20-JJC9fH/blib/arch:/srv/smoker/cpan/build/Devel-MAT-0.20-JJC9fH/blib/lib:/srv/smoker/cpan/build/List-UtilsBy-0.09-HGdZRd/blib/arch:/srv/smoker/cpan/build/List-UtilsBy-0.09-HGdZRd/blib/lib:/srv/smoker/cpan/build/Struct-Dumb-0.03-hL98n1/blib/arch:/srv/smoker/cpan/build/Struct-Dumb-0.03-hL98n1/blib/lib:/srv/smoker/cpan/build/Test-Refcount-0.08-s8fezh/blib/arch:/srv/smoker/cpan/build/Test-Refcount-0.08-s8fezh/blib/lib:/srv/smoker/cpan/build/Test-Identity-0.01-GfG1Y_/blib/arch:/srv/smoker/cpan/build/Test-Identity-0.01-GfG1Y_/blib/lib"
    PERL5OPT=""
    PERL5_CPANPLUS_IS_RUNNING="23782"
    PERL5_CPAN_IS_RUNNING="23782"
    PERL5_CPAN_IS_RUNNING_IN_RECURSION="20729,23782"
    PERLBREW_BASHRC_VERSION="0.73"
    PERLBREW_HOME="/srv/smoker/.perlbrew"
    PERLBREW_MANPATH="/srv/smoker/perl5/perlbrew/perls/perl-5.20.2/man"
    PERLBREW_PATH="/srv/smoker/perl5/perlbrew/bin:/srv/smoker/perl5/perlbrew/perls/perl-5.20.2/bin"
    PERLBREW_PERL="perl-5.20.2"
    PERLBREW_ROOT="/srv/smoker/perl5/perlbrew"
    PERLBREW_VERSION="0.73"
    PERL_CR_SMOKER_CURRENT="IO-Async-Resolver-StupidCache-0.03"
    PERL_EXTUTILS_AUTOINSTALL="--defaultdeps"
    PERL_MM_USE_DEFAULT="1"
  @INC:
    /srv/smoker/cpan/build/IO-Async-0.66-JOGtrl/blib/arch
    /srv/smoker/cpan/build/IO-Async-0.66-JOGtrl/blib/lib
    /srv/smoker/cpan/build/Future-0.32-F55ANN/blib/arch
    /srv/smoker/cpan/build/Future-0.32-F55ANN/blib/lib
    /srv/smoker/cpan/build/Devel-MAT-0.20-JJC9fH/blib/arch
    /srv/smoker/cpan/build/Devel-MAT-0.20-JJC9fH/blib/lib
    /srv/smoker/cpan/build/List-UtilsBy-0.09-HGdZRd/blib/arch
    /srv/smoker/cpan/build/List-UtilsBy-0.09-HGdZRd/blib/lib
    /srv/smoker/cpan/build/Struct-Dumb-0.03-hL98n1/blib/arch
    /srv/smoker/cpan/build/Struct-Dumb-0.03-hL98n1/blib/lib
    /srv/smoker/cpan/build/Test-Refcount-0.08-s8fezh/blib/arch
    /srv/smoker/cpan/build/Test-Refcount-0.08-s8fezh/blib/lib
    /srv/smoker/cpan/build/Test-Identity-0.01-GfG1Y_/blib/arch
    /srv/smoker/cpan/build/Test-Identity-0.01-GfG1Y_/blib/lib
    /srv/smoker/perl5/perlbrew/perls/perl-5.20.2/lib/site_perl/5.20.2/armv6l-linux
    /srv/smoker/perl5/perlbrew/perls/perl-5.20.2/lib/site_perl/5.20.2
    /srv/smoker/perl5/perlbrew/perls/perl-5.20.2/lib/5.20.2/armv6l-linux
    /srv/smoker/perl5/perlbrew/perls/perl-5.20.2/lib/5.20.2
    .