Report for Data-FormValidator-4.80

Back
From: metabase:user:d2c9f356-b46f-11df-9a90-20a83c0b7757
Subject: PASS Data-FormValidator-4.80 v5.16.1 SunOS/Solaris
Date: 2012-11-13T22:56:04Z

This distribution has been tested as part of the CPAN Testers
project, supporting the Perl programming language.  See
http://wiki.cpantesters.org/ for more information or email
questions to cpan-testers-discuss@perl.org


--
Dear Mark Stosberg,

This is a computer-generated report for Data-FormValidator-4.80
on perl 5.16.1, created by CPAN-Reporter-1.2006.

Thank you for uploading your work to CPAN.  Congratulations!
All tests were successful.

Sections of this report:

    * Tester comments
    * Program output
    * Prerequisites
    * Environment and other context

------------------------------
TESTER COMMENTS
------------------------------

Additional comments from tester:

this report is from an automated smoke testing program
and was not reviewed by a human for accuracy

------------------------------
PROGRAM OUTPUT
------------------------------

Output from './Build test':

t/00_base.t .............................. ok
t/02_code_ref.t .......................... ok
t/03_dependency.t ........................ ok
t/04_arrayify_undef.t .................... ok
t/05_valid_ip_address.t .................. ok
t/06_regexp_map.t ........................ ok
t/09_require_some.t ...................... ok
t/11_procedural_match.t .................. ok
t/13_validator_packages.t ................ ok
t/15_literal_param_constraints.t ......... ok
t/16_cgi_object.t ........................ ok
t/17_multi_valued_keys.t ................. ok
t/18_constraint_refs.t ................... ok
t/19_refs_as_values.t .................... ok
t/20_careful_exception_handling.t ........ ok
t/21_multiple_fields.t ................... ok
t/25_results.t ........................... ok
t/26_qr.t ................................ ok
t/27_qualify_ref_happy_death.t ........... ok
t/28_defaults_for_new.t .................. ok
t/30_filter_definedness.t ................ ok
t/FV_length.t ............................ ok
t/any_errors.t ........................... ok
t/check_profile_syntax.t ................. ok
t/closure_msgs.t ......................... ok
t/constraint_method.t .................... ok
t/constraint_method_string.t ............. ok
t/constraint_method_zero.t ............... ok
t/constraint_regexp_map_profile_reuse.t .. ok
t/constraints_builtin.t .................. ok
t/constraints_builtin_closure.t .......... ok
t/constraints_factory.t .................. ok
t/constraints_invalid_once_only.t ........ ok
t/constraints_num_values.t ............... ok
t/constraints_regexp_map_interaction.t ... ok
t/constraints_reuse.t .................... ok
t/credit_card.t .......................... ok
t/dates.t ................................ ok
t/dates_closure.t ........................ ok
t/dependency_coderef.t ................... ok
t/dependency_groups.t .................... ok
t/filter_constraints.t ................... ok
t/filters_builtin.t ...................... ok
t/filters_shouldnt_modify.t .............. ok
t/get_filtered_data.t .................... ok
t/get_input_data.t ....................... ok
t/missing_optional.t ..................... ok
t/msgs.t ................................. ok
t/multiple_constraints.t ................. ok
t/params_not_mentioned.t ................. ok
t/pod.t .................................. ok
t/procedural_valid.t ..................... ok
t/profile_checking.t ..................... ok
t/regexp_common.t ........................ ok
t/regexp_common_closure.t ................ ok
t/rename_builtin_constraints.t ........... ok
t/results_success.t ...................... ok
t/simple.t ............................... ok
t/tt_and_overload.t ...................... ok
t/undefined_arrayref.t ................... ok
t/unknown.t .............................. ok
t/untaint.t .............................. ok
# Adding CGI::Simple tests
# testing with CGI.pm version: 3.60
# testing with CGI::Simple version: 1.113
# Running tests with CGI
# Running tests with CGI::Simple
t/upload.t ............................... ok
# testing with CGI.pm version: 3.60
t/upload_closure.t ....................... ok
t/upload_mime_types.t .................... ok
All tests successful.
Files=65, Tests=631, 14 wallclock secs ( 0.66 usr  0.46 sys +  6.70 cusr  1.87 csys =  9.69 CPU)
Result: PASS

------------------------------
PREREQUISITES
------------------------------

Prerequisite modules loaded:

requires:

    Module          Need  Have      
    --------------- ----- ----------
    Date::Calc      5     6.3       
    Email::Valid    0     0.190     
    File::MMagic    1.17  1.29      
    Image::Size     0     3.232     
    MIME::Types     1.005 1.35      
    overload        0     1.18      
    perl            5.008 5.016001  
    Perl6::Junction 1.1   1.50000   
    Regexp::Common  0     2011121001
    Scalar::Util    0     1.25      
    Test::More      0     0.98      

build_requires:

    Module          Need  Have      
    --------------- ----- ----------
    CGI             3.48  3.60      

configure_requires:

    Module          Need  Have      
    --------------- ----- ----------
    Module::Build   0.38  0.4003    


------------------------------
ENVIRONMENT AND OTHER CONTEXT
------------------------------

Environment variables:

    AUTOMATED_TESTING = 1
    LANG = C
    LD_LIBRARY_PATH = /usr/local/lib:
    MANPATH_WITHOUT_PERLBREW = 
    PATH = /export/home/cpant4/perl5/perlbrew/bin:/export/home/cpant4/perl5/perlbrew/perls/perl-5.16.1/bin:/export/home/cpant4/perl5/bin:/usr/local/bin:/usr/bin
    PATH_WITHOUT_PERLBREW = /export/home/cpant4/perl5/bin:/usr/local/bin:/usr/bin
    PERL5LIB = /export/home/cpant4/.cpan/build/Regexp-Common-2011121001-GuxPoh/blib/arch:/export/home/cpant4/.cpan/build/Regexp-Common-2011121001-GuxPoh/blib/lib:/export/home/cpant4/.cpan/build/Date-Calc-6.3-I1amgu/blib/arch:/export/home/cpant4/.cpan/build/Date-Calc-6.3-I1amgu/blib/lib:/export/home/cpant4/.cpan/build/Bit-Vector-7.2-WG0wov/blib/arch:/export/home/cpant4/.cpan/build/Bit-Vector-7.2-WG0wov/blib/lib:/export/home/cpant4/.cpan/build/Perl6-Junction-1.50000-CU4EOE/blib/arch:/export/home/cpant4/.cpan/build/Perl6-Junction-1.50000-CU4EOE/blib/lib:/export/home/cpant4/.cpan/build/Email-Valid-0.190-MkMJM7/blib/arch:/export/home/cpant4/.cpan/build/Email-Valid-0.190-MkMJM7/blib/lib
    PERL5OPT = 
    PERL5_CPANPLUS_IS_RUNNING = 3161
    PERL5_CPAN_IS_RUNNING = 3161
    PERL5_CPAN_IS_RUNNING_IN_RECURSION = 20408,3161
    PERLBREW_BASHRC_VERSION = 0.46
    PERLBREW_HOME = /export/home/cpant4/.perlbrew
    PERLBREW_MANPATH = /export/home/cpant4/perl5/perlbrew/perls/perl-5.16.1/man
    PERLBREW_PATH = /export/home/cpant4/perl5/perlbrew/bin:/export/home/cpant4/perl5/perlbrew/perls/perl-5.16.1/bin
    PERLBREW_PERL = perl-5.16.1
    PERLBREW_ROOT = /export/home/cpant4/perl5/perlbrew
    PERLBREW_VERSION = 0.46
    PERL_CR_SMOKER_CURRENT = Data-FormValidator-4.80
    PERL_EXTUTILS_AUTOINSTALL = --defaultdeps
    PERL_MM_USE_DEFAULT = 1
    SHELL = /bin/bash
    TERM = xterm

Perl special variables (and OS-specific diagnostics, for MSWin32):

    $^X = /export/home/cpant4/perl5/perlbrew/perls/perl-5.16.1/bin/perl5.16.1
    $UID/$EUID = 104 / 104
    $GID = 1 1
    $EGID = 1 1

Perl module toolchain versions installed:

    Module              Have    
    ------------------- --------
    CPAN                1.9800  
    CPAN::Meta          2.120921
    Cwd                 3.39_02 
    ExtUtils::CBuilder  0.280206
    ExtUtils::Command   1.17    
    ExtUtils::Install   1.58    
    ExtUtils::MakeMaker 6.63_02 
    ExtUtils::Manifest  1.61    
    ExtUtils::ParseXS   3.16    
    File::Spec          3.39_02 
    JSON                2.53    
    JSON::PP            2.27200 
    Module::Build       0.4003  
    Module::Signature   n/a     
    Parse::CPAN::Meta   1.4404  
    Test::Harness       3.25    
    Test::More          0.98    
    YAML                0.84    
    YAML::Syck          1.21    
    version             0.9901  


--

Summary of my perl5 (revision 5 version 16 subversion 1) configuration:
   
  Platform:
    osname=solaris, osvers=2.10, archname=i86pc-solaris-64int
    uname='sunos vmrz0046 5.10 generic_141445-09 i86pc i386 i86pc solaris '
    config_args='-de -Dprefix=/export/home/cpant4/perl5/perlbrew/perls/perl-5.16.1 -Dcc=gcc -Duse64bitint -Dusedevel -Aeval:scriptdir=/export/home/cpant4/perl5/perlbrew/perls/perl-5.16.1/bin'
    hint=recommended, useposix=true, d_sigaction=define
    useithreads=undef, usemultiplicity=undef
    useperlio=define, d_sfio=undef, uselargefiles=define, usesocks=undef
    use64bitint=define, use64bitall=undef, uselongdouble=undef
    usemymalloc=n, bincompat5005=undef
  Compiler:
    cc='gcc', ccflags ='-DPTR_IS_LONG -fno-strict-aliasing -pipe -I/usr/local/include -D_LARGEFILE_SOURCE -D_FILE_OFFSET_BITS=64 -DPERL_USE_SAFE_PUTENV',
    optimize='-O',
    cppflags='-DPTR_IS_LONG -fno-strict-aliasing -pipe -I/usr/local/include'
    ccversion='', gccversion='3.4.6', gccosandvers='solaris2.10'
    intsize=4, longsize=4, ptrsize=4, doublesize=8, byteorder=12345678
    d_longlong=define, longlongsize=8, d_longdbl=define, longdblsize=12
    ivtype='long long', ivsize=8, nvtype='double', nvsize=8, Off_t='off_t', lseeksize=8
    alignbytes=4, prototype=define
  Linker and Libraries:
    ld='gcc', ldflags =' -L/usr/local/lib '
    libpth=/usr/local/lib /usr/lib /usr/ccs/lib
    libs=-lsocket -lnsl -lgdbm -ldl -lm -lc
    perllibs=-lsocket -lnsl -ldl -lm -lc
    libc=/lib/libc.so, so=so, useshrplib=false, libperl=libperl.a
    gnulibc_version=''
  Dynamic Linking:
    dlsrc=dl_dlopen.xs, dlext=so, d_dlsymun=undef, ccdlflags=' '
    cccdlflags='-fPIC', lddlflags='-G -L/usr/local/lib'


Characteristics of this binary (from libperl): 
  Compile-time options: HAS_TIMES PERLIO_LAYERS PERL_DONT_CREATE_GVSV
                        PERL_MALLOC_WRAP PERL_PRESERVE_IVUV PERL_USE_DEVEL
                        PERL_USE_SAFE_PUTENV USE_64_BIT_INT USE_LARGE_FILES
                        USE_LOCALE USE_LOCALE_COLLATE USE_LOCALE_CTYPE
                        USE_LOCALE_NUMERIC USE_PERLIO USE_PERL_ATOF
  Built under solaris
  Compiled at Aug 15 2012 12:27:50
  %ENV:
    PERL5LIB="/export/home/cpant4/.cpan/build/Regexp-Common-2011121001-GuxPoh/blib/arch:/export/home/cpant4/.cpan/build/Regexp-Common-2011121001-GuxPoh/blib/lib:/export/home/cpant4/.cpan/build/Date-Calc-6.3-I1amgu/blib/arch:/export/home/cpant4/.cpan/build/Date-Calc-6.3-I1amgu/blib/lib:/export/home/cpant4/.cpan/build/Bit-Vector-7.2-WG0wov/blib/arch:/export/home/cpant4/.cpan/build/Bit-Vector-7.2-WG0wov/blib/lib:/export/home/cpant4/.cpan/build/Perl6-Junction-1.50000-CU4EOE/blib/arch:/export/home/cpant4/.cpan/build/Perl6-Junction-1.50000-CU4EOE/blib/lib:/export/home/cpant4/.cpan/build/Email-Valid-0.190-MkMJM7/blib/arch:/export/home/cpant4/.cpan/build/Email-Valid-0.190-MkMJM7/blib/lib"
    PERL5OPT=""
    PERL5_CPANPLUS_IS_RUNNING="3161"
    PERL5_CPAN_IS_RUNNING="3161"
    PERL5_CPAN_IS_RUNNING_IN_RECURSION="20408,3161"
    PERLBREW_BASHRC_VERSION="0.46"
    PERLBREW_HOME="/export/home/cpant4/.perlbrew"
    PERLBREW_MANPATH="/export/home/cpant4/perl5/perlbrew/perls/perl-5.16.1/man"
    PERLBREW_PATH="/export/home/cpant4/perl5/perlbrew/bin:/export/home/cpant4/perl5/perlbrew/perls/perl-5.16.1/bin"
    PERLBREW_PERL="perl-5.16.1"
    PERLBREW_ROOT="/export/home/cpant4/perl5/perlbrew"
    PERLBREW_VERSION="0.46"
    PERL_CR_SMOKER_CURRENT="Data-FormValidator-4.80"
    PERL_EXTUTILS_AUTOINSTALL="--defaultdeps"
    PERL_MM_USE_DEFAULT="1"
  @INC:
    /export/home/cpant4/.cpan/build/Regexp-Common-2011121001-GuxPoh/blib/arch
    /export/home/cpant4/.cpan/build/Regexp-Common-2011121001-GuxPoh/blib/lib
    /export/home/cpant4/.cpan/build/Date-Calc-6.3-I1amgu/blib/arch
    /export/home/cpant4/.cpan/build/Date-Calc-6.3-I1amgu/blib/lib
    /export/home/cpant4/.cpan/build/Bit-Vector-7.2-WG0wov/blib/arch
    /export/home/cpant4/.cpan/build/Bit-Vector-7.2-WG0wov/blib/lib
    /export/home/cpant4/.cpan/build/Perl6-Junction-1.50000-CU4EOE/blib/arch
    /export/home/cpant4/.cpan/build/Perl6-Junction-1.50000-CU4EOE/blib/lib
    /export/home/cpant4/.cpan/build/Email-Valid-0.190-MkMJM7/blib/arch
    /export/home/cpant4/.cpan/build/Email-Valid-0.190-MkMJM7/blib/lib
    /export/home/cpant4/perl5/perlbrew/perls/perl-5.16.1/lib/site_perl/5.16.1/i86pc-solaris-64int
    /export/home/cpant4/perl5/perlbrew/perls/perl-5.16.1/lib/site_perl/5.16.1
    /export/home/cpant4/perl5/perlbrew/perls/perl-5.16.1/lib/5.16.1/i86pc-solaris-64int
    /export/home/cpant4/perl5/perlbrew/perls/perl-5.16.1/lib/5.16.1
    .