HTML-Gumbo v0.18 Perl 5 v5.14.3 x86_64-linux-thread-multi
- Status
- Pass
- From
- Nigel Horne
- Dist
-
HTML-Gumbo v0.18
- Platform
- Perl 5 v5.14.3 x86_64-linux-thread-multi
- Date
- 2018-06-23 10:58:04
- ID
- 4db91c84-76d4-11e8-b18d-822462266ff8
This distribution has been tested as part of the CPAN Testers
project, supporting the Perl programming language. See
http://wiki.cpantesters.org/ for more information or email
questions to cpan-testers-discuss@perl.org
--
Dear Ruslan U. Zakirov,
This is a computer-generated report for HTML-Gumbo-0.18
on perl 5.14.3, created by CPAN-Reporter-1.2018.
Thank you for uploading your work to CPAN. Congratulations!
All tests were successful.
Sections of this report:
* Tester comments
* Program output
* Prerequisites
* Environment and other context
------------------------------
TESTER COMMENTS
------------------------------
Additional comments from tester:
this report is from an automated smoke testing program
and was not reviewed by a human for accuracy
------------------------------
PROGRAM OUTPUT
------------------------------
Output from './Build test':
t/callback.t .. ok
t/string.t .... ok
t/tree.t ...... ok
All tests successful.
Files=3, Tests=12, 0 wallclock secs ( 0.02 usr 0.00 sys + 0.25 cusr 0.03 csys = 0.30 CPU)
Result: PASS
------------------------------
PREREQUISITES
------------------------------
Prerequisite modules loaded:
requires:
Module Need Have
------------------ ---- --------
Alien::LibGumbo 0.03 0.05
XSLoader 0 0.22
build_requires:
Module Need Have
------------------ ---- --------
ExtUtils::CBuilder 0 0.280230
configure_requires:
Module Need Have
------------------ ---- --------
Alien::LibGumbo 0 0.05
Module::Build 0.42 0.4206
------------------------------
ENVIRONMENT AND OTHER CONTEXT
------------------------------
Environment variables:
AUTOMATED_TESTING = 1
HARNESS_OPTIONS = j4
LANG = en_GB.UTF-8
LANGUAGE = en_GB:en
PATH = /home/njh/perl5/perlbrew/bin:/home/njh/perl5/perlbrew/perls/perl-5.14.3/bin:/usr/bin:/bin:/home/njh/src/njh/smoker/bin
PERL5LIB = /home/njh/.cpan/build/Alien-LibGumbo-0.05-16/blib/arch:/home/njh/.cpan/build/Alien-LibGumbo-0.05-16/blib/lib:/home/njh/.cpan/build/Alien-Base-ModuleBuild-1.04-16/blib/arch:/home/njh/.cpan/build/Alien-Base-ModuleBuild-1.04-16/blib/lib:/home/njh/.cpan/build/Shell-Config-Generate-0.31-8/blib/arch:/home/njh/.cpan/build/Shell-Config-Generate-0.31-8/blib/lib:/home/njh/.cpan/build/Shell-Guess-0.08-8/blib/arch:/home/njh/.cpan/build/Shell-Guess-0.08-8/blib/lib:/home/njh/.cpan/build/Alien-Build-1.43-16/blib/arch:/home/njh/.cpan/build/Alien-Build-1.43-16/blib/lib:/home/njh/.cpan/build/FFI-CheckLib-0.20-16/blib/arch:/home/njh/.cpan/build/FFI-CheckLib-0.20-16/blib/lib:/home/njh/.cpan/build/DateTime-Format-Duration-ISO8601-0.007-23/blib/arch:/home/njh/.cpan/build/DateTime-Format-Duration-ISO8601-0.007-23/blib/lib:/home/njh/.cpan/build/Test-Warn-0.36-23/blib/arch:/home/njh/.cpan/build/Test-Warn-0.36-23/blib/lib
PERL5OPT =
PERL5_CPANPLUS_IS_RUNNING = 3931
PERL5_CPAN_IS_RUNNING = 3931
PERLBREW_HOME = /home/njh/.perlbrew
PERLBREW_MANPATH = /home/njh/perl5/perlbrew/perls/perl-5.14.3/man
PERLBREW_PATH = /home/njh/perl5/perlbrew/bin:/home/njh/perl5/perlbrew/perls/perl-5.14.3/bin
PERLBREW_PERL = perl-5.14.3
PERLBREW_ROOT = /home/njh/perl5/perlbrew
PERLBREW_SHELLRC_VERSION = 0.82
PERLBREW_VERSION = 0.82
SHELL = /bin/sh
TEMP = /tmp/user/1000
TMPDIR = /tmp/user/1000/testwrapper.3919
Perl special variables (and OS-specific diagnostics, for MSWin32):
$^X = /home/njh/perl5/perlbrew/perls/perl-5.14.3/bin/perl
$UID/$EUID = 1000 / 1000
$GID = 1000 4 24 25 29 30 44 46 108 112 1000
$EGID = 1000 4 24 25 29 30 44 46 108 112 1000
Perl module toolchain versions installed:
Module Have
------------------- --------
CPAN 2.16
CPAN::Meta 2.150010
Cwd 3.40
ExtUtils::CBuilder 0.280230
ExtUtils::Command 7.34
ExtUtils::Install 2.14
ExtUtils::MakeMaker 7.34
ExtUtils::Manifest 1.71
ExtUtils::ParseXS 3.35
File::Spec 3.40
JSON 2.97001
JSON::PP 2.27400
Module::Build 0.4206
Module::Signature 0.73
Parse::CPAN::Meta 2.150010
Test::Harness 3.36
Test::More 1.302136
YAML 1.26
YAML::Syck 1.30
version 0.9902
--
Summary of my perl5 (revision 5 version 14 subversion 3) configuration:
Platform:
osname=linux, osvers=3.2.0-4-amd64, archname=x86_64-linux-thread-multi
uname='linux nigelhorne.force9.co.uk 3.2.0-4-amd64 #1 smp debian 3.2.32-1 x86_64 gnulinux '
config_args='-de -Dprefix=/home/njh/perl5/perlbrew/perls/perl-5.14.3 -Duseithreads -Dusemultiplicity -Accflags=-O2 -W -Wformat=2 -Wswitch -Wshadow -Wwrite-strings -Wuninitialized -Wall -pipe -mtune=native -march=native -fomit-frame-pointer -mfpmath=sse -pedantic -D_FORTIFY_SOURCE=2 -Wpointer-arith -Wstrict-prototypes -fstack-protector -Wstack-protector -Wextra -Wbad-function-cast -Wcast-align -Wcast-qual -Wdisabled-optimization -Wendif-labels -Wfloat-equal -Wformat-nonliteral -Winline -Wmissing-declarations -Wmissing-prototypes -Wnested-externs -Wpointer-arith -Wundef -Wformat-security -Aeval:scriptdir=/home/njh/perl5/perlbrew/perls/perl-5.14.3/bin'
hint=recommended, useposix=true, d_sigaction=define
useithreads=define, usemultiplicity=define
useperlio=define, d_sfio=undef, uselargefiles=define, usesocks=undef
use64bitint=define, use64bitall=define, uselongdouble=undef
usemymalloc=n, bincompat5005=undef
Compiler:
cc='cc', ccflags ='-D_REENTRANT -D_GNU_SOURCE -O2 -W -Wformat=2 -Wswitch -Wshadow -Wwrite-strings -Wuninitialized -Wall -pipe -mtune=native -march=native -fomit-frame-pointer -mfpmath=sse -pedantic -D_FORTIFY_SOURCE=2 -Wpointer-arith -Wstrict-prototypes -fstack-protector -Wstack-protector -Wextra -Wbad-function-cast -Wcast-align -Wcast-qual -Wdisabled-optimization -Wendif-labels -Wfloat-equal -Wformat-nonliteral -Winline -Wmissing-declarations -Wmissing-prototypes -Wnested-externs -Wpointer-arith -Wundef -Wformat-security -fno-strict-aliasing -I/usr/local/include -D_LARGEFILE_SOURCE -D_FILE_OFFSET_BITS=64',
optimize='-O2',
cppflags='-D_REENTRANT -D_GNU_SOURCE -O2 -W -Wformat=2 -Wswitch -Wshadow -Wwrite-strings -Wuninitialized -Wall -pipe -mtune=native -march=native -fomit-frame-pointer -mfpmath=sse -pedantic -D_FORTIFY_SOURCE=2 -Wpointer-arith -Wstrict-prototypes -fstack-protector -Wstack-protector -Wextra -Wbad-function-cast -Wcast-align -Wcast-qual -Wdisabled-optimization -Wendif-labels -Wfloat-equal -Wformat-nonliteral -Winline -Wmissing-declarations -Wmissing-prototypes -Wnested-externs -Wpointer-arith -Wundef -Wformat-security -fno-strict-aliasing -I/usr/local/include'
ccversion='', gccversion='4.7.2', gccosandvers=''
intsize=4, longsize=8, ptrsize=8, doublesize=8, byteorder=12345678
d_longlong=define, longlongsize=8, d_longdbl=define, longdblsize=16
ivtype='long', ivsize=8, nvtype='double', nvsize=8, Off_t='off_t', lseeksize=8
alignbytes=8, prototype=define
Linker and Libraries:
ld='cc', ldflags =' -fstack-protector -L/usr/local/lib'
libpth=/usr/local/lib /lib/x86_64-linux-gnu /lib/../lib /usr/lib/x86_64-linux-gnu /usr/lib/../lib /lib /usr/lib
libs=-lnsl -lgdbm -ldb -ldl -lm -lcrypt -lutil -lpthread -lc -lgdbm_compat
perllibs=-lnsl -ldl -lm -lcrypt -lutil -lpthread -lc
libc=, so=so, useshrplib=false, libperl=libperl.a
gnulibc_version='2.13'
Dynamic Linking:
dlsrc=dl_dlopen.xs, dlext=so, d_dlsymun=undef, ccdlflags='-Wl,-E'
cccdlflags='-fPIC', lddlflags='-shared -O2 -L/usr/local/lib -fstack-protector'
Characteristics of this binary (from libperl):
Compile-time options: MULTIPLICITY PERL_DONT_CREATE_GVSV
PERL_IMPLICIT_CONTEXT PERL_MALLOC_WRAP
PERL_PRESERVE_IVUV USE_64_BIT_ALL USE_64_BIT_INT
USE_ITHREADS USE_LARGE_FILES USE_PERLIO USE_PERL_ATOF
USE_REENTRANT_API
Built under linux
Compiled at Mar 5 2013 02:01:19
%ENV:
PERL5LIB="/home/njh/.cpan/build/Alien-LibGumbo-0.05-16/blib/arch:/home/njh/.cpan/build/Alien-LibGumbo-0.05-16/blib/lib:/home/njh/.cpan/build/Alien-Base-ModuleBuild-1.04-16/blib/arch:/home/njh/.cpan/build/Alien-Base-ModuleBuild-1.04-16/blib/lib:/home/njh/.cpan/build/Shell-Config-Generate-0.31-8/blib/arch:/home/njh/.cpan/build/Shell-Config-Generate-0.31-8/blib/lib:/home/njh/.cpan/build/Shell-Guess-0.08-8/blib/arch:/home/njh/.cpan/build/Shell-Guess-0.08-8/blib/lib:/home/njh/.cpan/build/Alien-Build-1.43-16/blib/arch:/home/njh/.cpan/build/Alien-Build-1.43-16/blib/lib:/home/njh/.cpan/build/FFI-CheckLib-0.20-16/blib/arch:/home/njh/.cpan/build/FFI-CheckLib-0.20-16/blib/lib:/home/njh/.cpan/build/DateTime-Format-Duration-ISO8601-0.007-23/blib/arch:/home/njh/.cpan/build/DateTime-Format-Duration-ISO8601-0.007-23/blib/lib:/home/njh/.cpan/build/Test-Warn-0.36-23/blib/arch:/home/njh/.cpan/build/Test-Warn-0.36-23/blib/lib"
PERL5OPT=""
PERL5_CPANPLUS_IS_RUNNING="3931"
PERL5_CPAN_IS_RUNNING="3931"
PERLBREW_HOME="/home/njh/.perlbrew"
PERLBREW_MANPATH="/home/njh/perl5/perlbrew/perls/perl-5.14.3/man"
PERLBREW_PATH="/home/njh/perl5/perlbrew/bin:/home/njh/perl5/perlbrew/perls/perl-5.14.3/bin"
PERLBREW_PERL="perl-5.14.3"
PERLBREW_ROOT="/home/njh/perl5/perlbrew"
PERLBREW_SHELLRC_VERSION="0.82"
PERLBREW_VERSION="0.82"
@INC:
/home/njh/.cpan/build/Alien-LibGumbo-0.05-16/blib/arch
/home/njh/.cpan/build/Alien-LibGumbo-0.05-16/blib/lib
/home/njh/.cpan/build/Alien-Base-ModuleBuild-1.04-16/blib/arch
/home/njh/.cpan/build/Alien-Base-ModuleBuild-1.04-16/blib/lib
/home/njh/.cpan/build/Shell-Config-Generate-0.31-8/blib/arch
/home/njh/.cpan/build/Shell-Config-Generate-0.31-8/blib/lib
/home/njh/.cpan/build/Shell-Guess-0.08-8/blib/arch
/home/njh/.cpan/build/Shell-Guess-0.08-8/blib/lib
/home/njh/.cpan/build/Alien-Build-1.43-16/blib/arch
/home/njh/.cpan/build/Alien-Build-1.43-16/blib/lib
/home/njh/.cpan/build/FFI-CheckLib-0.20-16/blib/arch
/home/njh/.cpan/build/FFI-CheckLib-0.20-16/blib/lib
/home/njh/.cpan/build/DateTime-Format-Duration-ISO8601-0.007-23/blib/arch
/home/njh/.cpan/build/DateTime-Format-Duration-ISO8601-0.007-23/blib/lib
/home/njh/.cpan/build/Test-Warn-0.36-23/blib/arch
/home/njh/.cpan/build/Test-Warn-0.36-23/blib/lib
/home/njh/perl5/perlbrew/perls/perl-5.14.3/lib/site_perl/5.14.3/x86_64-linux-thread-multi
/home/njh/perl5/perlbrew/perls/perl-5.14.3/lib/site_perl/5.14.3
/home/njh/perl5/perlbrew/perls/perl-5.14.3/lib/5.14.3/x86_64-linux-thread-multi
/home/njh/perl5/perlbrew/perls/perl-5.14.3/lib/5.14.3
.