Twitter-API v1.0004 Perl 5 v5.29.3 x86_64-linux
- Status
- Pass
- From
- Andreas J. König (ANDK)
- Dist
-
Twitter-API v1.0004
- Platform
- Perl 5 v5.29.3 x86_64-linux
- Date
- 2018-10-01 15:04:32
- ID
- 4db93902-c58b-11e8-bc0c-e3b35c07e2d0
This distribution has been tested as part of the CPAN Testers
project, supporting the Perl programming language. See
http://wiki.cpantesters.org/ for more information or email
questions to cpan-testers-discuss@perl.org
--
Dear Marc Mims,
This is a computer-generated report for Twitter-API-1.0004
on perl 5.29.3, created by CPAN-Reporter-1.2018.
Thank you for uploading your work to CPAN. Congratulations!
All tests were successful.
Sections of this report:
* Tester comments
* Program output
* Prerequisites
* Environment and other context
------------------------------
TESTER COMMENTS
------------------------------
Additional comments from tester:
this report is from an automated smoke testing program
and was not reviewed by a human for accuracy
------------------------------
PROGRAM OUTPUT
------------------------------
Output from './Build test':
t/000_load.t ..................................... ok
t/author-pod-syntax.t ............................ skipped: these tests are for testing by the author
t/base.t ......................................... ok
t/error.t ........................................ ok
t/oauth.t ........................................ ok
t/role/request-args.t ............................ ok
t/trait/api-methods/direct-messages.t ............ ok
t/trait/api-methods/invalidate-access-token.t .... ok
t/trait/api-methods/net-twitter-compatibility.t .. skipped: Net::Twitter >= 4.01041 not installed
t/trait/api-methods/update.t ..................... ok
t/trait/api-methods/upload-media.t ............... ok
t/trait/app-auth.t ............................... ok
t/trait/decode-html-entities.t ................... ok
t/trait/migration.t .............................. ok
t/trait/normalize-booleans.t ..................... ok
t/trait/rate-limiting.t .......................... ok
t/trait/retry-on-error.t ......................... ok
t/url-for.t ...................................... ok
t/util.t ......................................... ok
All tests successful.
Files=19, Tests=170, 16 wallclock secs ( 0.06 usr 0.16 sys + 3.19 cusr 0.82 csys = 4.23 CPU)
Result: PASS
------------------------------
PREREQUISITES
------------------------------
Prerequisite modules loaded:
requires:
Module Need Have
-------------------------- ------- --------
Carp 0 1.50
Digest::SHA 0 6.02
Encode 0 2.97
HTML::Entities 0 3.69
HTTP::Request::Common 0 6.18
HTTP::Thin 0 0.006
IO::Socket::SSL 0 2.060
JSON::MaybeXS 0 1.004000
Module::Runtime 0 0.016
Moo 0 2.003004
Moo::Role 0 2.003004
MooX::Aliases 0 0.001006
MooX::Traits 0 0.005
namespace::clean 0 0.27
perl v5.14.1 5.029003
Ref::Util 0 0.204
Scalar::Util 0 1.50
StackTrace::Auto 0 0.200013
Sub::Exporter::Progressive 0 0.001013
Throwable 0 0.200013
Time::HiRes 0 1.9760
Time::Local 0 1.28
Try::Tiny 0 0.30
URI 0 1.74
URL::Encode 0 0.03
WWW::OAuth 0.006 1.000
build_requires:
Module Need Have
-------------------------- ------- --------
HTTP::Response 0 6.18
HTTP::Status 0 6.18
List::Util 1.35 1.50
Test::Fatal 0 0.014
Test::More 0 1.302140
Test::Pod 0 1.52
Test::Spec 0 0.54
Test::Warnings 0 0.026
configure_requires:
Module Need Have
-------------------------- ------- --------
Module::Build::Tiny 0.034 0.039
------------------------------
ENVIRONMENT AND OTHER CONTEXT
------------------------------
Environment variables:
AUTOMATED_TESTING = 1
LANG = en_US.UTF-8
PATH = /home/sand/bin:/usr/local/bin:/usr/bin:/bin:/usr/games:/usr/local/perl/bin:/usr/X11/bin:/sbin:/usr/sbin
PERL5LIB =
PERL5OPT =
PERL5_CPANPLUS_IS_RUNNING = 31800
PERL5_CPAN_IS_RUNNING = 31800
PERL_CANARY_STABILITY_NOPROMPT = 1
PERL_MM_USE_DEFAULT = 1
PERL_USE_UNSAFE_INC = 1
SHELL = /usr/bin/zsh
TERM = screen
Perl special variables (and OS-specific diagnostics, for MSWin32):
$^X = /home/sand/src/perl/repoperls/installed-perls/host/k93msid/v5.29.3/da1c/bin/perl
$UID/$EUID = 1005 / 1005
$GID = 1005 1005
$EGID = 1005 1005
Perl module toolchain versions installed:
Module Have
------------------- --------
CPAN 2.21
CPAN::Meta 2.150010
Cwd 3.75
ExtUtils::CBuilder 0.280230
ExtUtils::Command 7.34
ExtUtils::Install 2.14
ExtUtils::MakeMaker 7.34
ExtUtils::Manifest 1.71
ExtUtils::ParseXS 3.39
File::Spec 3.75
JSON 2.97001
JSON::PP 2.97001
Module::Build 0.4224
Module::Signature 0.83
Parse::CPAN::Meta 2.150010
Test::Harness 3.42
Test::More 1.302140
YAML 1.26
YAML::Syck 1.30
version 0.9924
--
Summary of my perl5 (revision 5 version 29 subversion 3) configuration:
Commit id: dfabf1f580c99fbfb8a30341a60bf4a86f5b06ee
Platform:
osname=linux
osvers=4.14.0-3-amd64
archname=x86_64-linux
uname='linux k93msid 4.14.0-3-amd64 #1 smp debian 4.14.12-2 (2018-01-06) x86_64 gnulinux '
config_args='-Dprefix=/home/sand/src/perl/repoperls/installed-perls/host/k93msid/v5.29.3/da1c -Dmyhostname=k93msid -Dinstallusrbinperl=n -Uversiononly -Dusedevel -des -Ui_db -Dlibswanted=cl pthread socket inet nsl gdbm dbm malloc dl ld sun m crypt sec util c cposix posix ucb BSD gdbm_compat -Uuseithreads -Uuselongdouble -DEBUGGING=-g'
hint=recommended
useposix=true
d_sigaction=define
useithreads=undef
usemultiplicity=undef
use64bitint=define
use64bitall=define
uselongdouble=undef
usemymalloc=n
default_inc_excludes_dot=define
bincompat5005=undef
Compiler:
cc='cc'
ccflags ='-fwrapv -fno-strict-aliasing -pipe -fstack-protector-strong -I/usr/local/include -D_LARGEFILE_SOURCE -D_FILE_OFFSET_BITS=64 -D_FORTIFY_SOURCE=2'
optimize='-O2 -g'
cppflags='-fwrapv -fno-strict-aliasing -pipe -fstack-protector-strong -I/usr/local/include'
ccversion=''
gccversion='7.2.0'
gccosandvers=''
intsize=4
longsize=8
ptrsize=8
doublesize=8
byteorder=12345678
doublekind=3
d_longlong=define
longlongsize=8
d_longdbl=define
longdblsize=16
longdblkind=3
ivtype='long'
ivsize=8
nvtype='double'
nvsize=8
Off_t='off_t'
lseeksize=8
alignbytes=8
prototype=define
Linker and Libraries:
ld='cc'
ldflags =' -fstack-protector-strong -L/usr/local/lib'
libpth=/usr/local/lib /usr/lib/gcc/x86_64-linux-gnu/7/include-fixed /usr/include/x86_64-linux-gnu /usr/lib /lib/x86_64-linux-gnu /lib/../lib /usr/lib/x86_64-linux-gnu /usr/lib/../lib /lib
libs=-lpthread -lnsl -ldl -lm -lcrypt -lutil -lc
perllibs=-lpthread -lnsl -ldl -lm -lcrypt -lutil -lc
libc=libc-2.26.so
so=so
useshrplib=false
libperl=libperl.a
gnulibc_version='2.26'
Dynamic Linking:
dlsrc=dl_dlopen.xs
dlext=so
d_dlsymun=undef
ccdlflags='-Wl,-E'
cccdlflags='-fPIC'
lddlflags='-shared -O2 -g -L/usr/local/lib -fstack-protector-strong'
Characteristics of this binary (from libperl):
Compile-time options:
HAS_TIMES
PERLIO_LAYERS
PERL_COPY_ON_WRITE
PERL_DONT_CREATE_GVSV
PERL_MALLOC_WRAP
PERL_OP_PARENT
PERL_PRESERVE_IVUV
PERL_USE_DEVEL
USE_64_BIT_ALL
USE_64_BIT_INT
USE_LARGE_FILES
USE_LOCALE
USE_LOCALE_COLLATE
USE_LOCALE_CTYPE
USE_LOCALE_NUMERIC
USE_LOCALE_TIME
USE_PERLIO
USE_PERL_ATOF
Built under linux
Compiled at Sep 23 2018 06:29:04
%ENV:
PERL5LIB=""
PERL5OPT=""
PERL5_CPANPLUS_IS_RUNNING="31800"
PERL5_CPAN_IS_RUNNING="31800"
PERL_CANARY_STABILITY_NOPROMPT="1"
PERL_MM_USE_DEFAULT="1"
PERL_USE_UNSAFE_INC="1"
@INC:
/home/sand/src/perl/repoperls/installed-perls/host/k93msid/v5.29.3/da1c/lib/site_perl/5.29.3/x86_64-linux
/home/sand/src/perl/repoperls/installed-perls/host/k93msid/v5.29.3/da1c/lib/site_perl/5.29.3
/home/sand/src/perl/repoperls/installed-perls/host/k93msid/v5.29.3/da1c/lib/5.29.3/x86_64-linux
/home/sand/src/perl/repoperls/installed-perls/host/k93msid/v5.29.3/da1c/lib/5.29.3
.