Transport-AU-PTV v0.03 Perl 5 v5.18.0 x86_64-linux-thread-multi
- Status
- Unknown
- From
- Nigel Horne
- Dist
-
Transport-AU-PTV v0.03
- Platform
- Perl 5 v5.18.0 x86_64-linux-thread-multi
- Date
- 2018-08-06 08:18:31
- ID
- 4ddaa8aa-9951-11e8-ac4b-91e1574f9e0a
This distribution has been tested as part of the CPAN Testers
project, supporting the Perl programming language. See
http://wiki.cpantesters.org/ for more information or email
questions to cpan-testers-discuss@perl.org
--
Dear Greg Foletta,
This is a computer-generated report for Transport-AU-PTV-0.03
on perl 5.18.0, created by CPAN-Reporter-1.2018.
Thank you for uploading your work to CPAN. However, attempting to
test your distribution gave an inconclusive result.
This could be because your distribution had an error during the make/build
stage, did not define tests, tests could not be found, because your tests were
interrupted before they finished, or because the results of the tests could not
be parsed. You may wish to consult the CPAN Testers Wiki:
http://wiki.cpantesters.org/wiki/CPANAuthorNotes
Sections of this report:
* Tester comments
* Program output
* Prerequisites
* Environment and other context
------------------------------
TESTER COMMENTS
------------------------------
Additional comments from tester:
this report is from an automated smoke testing program
and was not reviewed by a human for accuracy
------------------------------
PROGRAM OUTPUT
------------------------------
Output from '/usr/bin/make test':
PERL_DL_NONLAZY=1 "/home/njh/perl5/perlbrew/perls/perl-5.18.0/bin/perl" "-MExtUtils::Command::MM" "-MTest::Harness" "-e" "undef *Test::Harness::Switches; test_harness(0, 'blib/lib', 'blib/arch')" t/*.t
t/author-00-PTV.t ........ skipped: these tests are for testing by the author
t/author-01-Routes.t ..... skipped: these tests are for testing by the author
t/author-02-Route.t ...... skipped: these tests are for testing by the author
t/author-03-Stop.t ....... skipped: these tests are for testing by the author
t/author-04-Departure.t .. skipped: these tests are for testing by the author
Files=5, Tests=0, 0 wallclock secs ( 0.02 usr + 0.00 sys = 0.02 CPU)
Result: NOTESTS
------------------------------
PREREQUISITES
------------------------------
Prerequisite modules loaded:
requires:
Module Need Have
------------------------- ----- --------
Carp 0 1.29
constant 0 1.27
DateTime::Format::ISO8601 0 0.08
Digest::SHA 0 5.85
JSON 0 2.97001
LWP::UserAgent 0 6.35
parent 0 0.225
perl 5.010 5.018000
strict 0 1.07
URI 0 1.60
warnings 0 1.18
build_requires:
Module Need Have
------------------------- ----- --------
ExtUtils::MakeMaker 0 7.34
configure_requires:
Module Need Have
------------------------- ----- --------
ExtUtils::MakeMaker 0 7.34
------------------------------
ENVIRONMENT AND OTHER CONTEXT
------------------------------
Environment variables:
AUTOMATED_TESTING = 1
LANG = en_GB.UTF-8
LANGUAGE = en_GB:en
PATH = /home/njh/perl5/perlbrew/bin:/home/njh/perl5/perlbrew/perls/perl-5.18.0/bin:/home/njh/perl5/perlbrew/bin:/usr/bin:/bin
PERL5LIB = /home/njh/.cpan/build/DateTime-Format-ISO8601-0.08-1/blib/arch:/home/njh/.cpan/build/DateTime-Format-ISO8601-0.08-1/blib/lib:/home/njh/.cpan/build/DateTime-Format-Builder-0.81-1/blib/arch:/home/njh/.cpan/build/DateTime-Format-Builder-0.81-1/blib/lib:/home/njh/.cpan/build/Class-Factory-Util-1.7-1/blib/arch:/home/njh/.cpan/build/Class-Factory-Util-1.7-1/blib/lib
PERL5OPT =
PERL5_CPANPLUS_IS_RUNNING = 22581
PERL5_CPAN_IS_RUNNING = 22581
PERL5_MINISMOKEBOX = 0.58
PERLBREW_LIB =
PERLBREW_MANPATH = /home/njh/perl5/perlbrew/perls/perl-5.18.0/man
PERLBREW_PATH = /home/njh/perl5/perlbrew/bin:/home/njh/perl5/perlbrew/perls/perl-5.18.0/bin
PERLBREW_PERL = perl-5.18.0
PERLBREW_ROOT = /home/njh/perl5/perlbrew
PERLBREW_SHELLRC_VERSION = 0.82
PERLBREW_VERSION = 0.82
PERL_EXTUTILS_AUTOINSTALL = --defaultdeps
PERL_LOCAL_LIB_ROOT =
PERL_MM_USE_DEFAULT = 1
SHELL = /bin/sh
TEMP = /tmp/user/1000
TMPDIR = /tmp/user/1000
Perl special variables (and OS-specific diagnostics, for MSWin32):
$^X = /home/njh/perl5/perlbrew/perls/perl-5.18.0/bin/perl
$UID/$EUID = 1000 / 1000
$GID = 1000 4 24 25 29 30 44 46 108 112 1000
$EGID = 1000 4 24 25 29 30 44 46 108 112 1000
Perl module toolchain versions installed:
Module Have
------------------- --------
CPAN 2.16
CPAN::Meta 2.150005
Cwd 3.74
ExtUtils::CBuilder 0.280216
ExtUtils::Command 7.34
ExtUtils::Install 2.06
ExtUtils::MakeMaker 7.34
ExtUtils::Manifest 1.70
ExtUtils::ParseXS 3.30
File::Spec 3.74
JSON 2.97001
JSON::PP 2.27400
Module::Build 0.4206
Module::Signature 0.73
Parse::CPAN::Meta 1.4422
Test::Harness 3.36
Test::More 1.302136
YAML 1.26
YAML::Syck 1.30
version 0.9902
--
Summary of my perl5 (revision 5 version 18 subversion 0) configuration:
Platform:
osname=linux, osvers=3.2.0-4-amd64, archname=x86_64-linux-thread-multi
uname='linux nigelhorne.force9.co.uk 3.2.0-4-amd64 #1 smp debian 3.2.32-1 x86_64 gnulinux '
config_args='-de -Dprefix=/home/njh/perl5/perlbrew/perls/perl-5.18.0 -Duseithreads -Dusemultiplicity -Accflags=-O2 -W -Wformat=2 -Wswitch -Wshadow -Wwrite-strings -Wuninitialized -Wall -pipe -mtune=native -march=native -fomit-frame-pointer -msse2 -msse -mmmx -mfpmath=sse -pedantic -D_FORTIFY_SOURCE=2 -Wpointer-arith -Wstrict-prototypes -fstack-protector -Wstack-protector -Wextra -Wbad-function-cast -Wcast-align -Wcast-qual -Wdisabled-optimization -Wendif-labels -Wfloat-equal -Wformat-nonliteral -Winline -Wmissing-declarations -Wmissing-prototypes -Wnested-externs -Wpointer-arith -Wundef -Wformat-security -ftree-vectorize -fassociative-math -ftree-vectorizer-verbose=2 -Aeval:scriptdir=/home/njh/perl5/perlbrew/perls/perl-5.18.0/bin'
hint=recommended, useposix=true, d_sigaction=define
useithreads=define, usemultiplicity=define
useperlio=define, d_sfio=undef, uselargefiles=define, usesocks=undef
use64bitint=define, use64bitall=define, uselongdouble=undef
usemymalloc=n, bincompat5005=undef
Compiler:
cc='cc', ccflags ='-D_REENTRANT -D_GNU_SOURCE -O2 -W -Wformat=2 -Wswitch -Wshadow -Wwrite-strings -Wuninitialized -Wall -pipe -mtune=native -march=native -fomit-frame-pointer -msse2 -msse -mmmx -mfpmath=sse -pedantic -D_FORTIFY_SOURCE=2 -Wpointer-arith -Wstrict-prototypes -fstack-protector -Wstack-protector -Wextra -Wbad-function-cast -Wcast-align -Wcast-qual -Wdisabled-optimization -Wendif-labels -Wfloat-equal -Wformat-nonliteral -Winline -Wmissing-declarations -Wmissing-prototypes -Wnested-externs -Wpointer-arith -Wundef -Wformat-security -ftree-vectorize -fassociative-math -ftree-vectorizer-verbose=2 -fno-strict-aliasing -I/usr/local/include -D_LARGEFILE_SOURCE -D_FILE_OFFSET_BITS=64',
optimize='-O2',
cppflags='-D_REENTRANT -D_GNU_SOURCE -O2 -W -Wformat=2 -Wswitch -Wshadow -Wwrite-strings -Wuninitialized -Wall -pipe -mtune=native -march=native -fomit-frame-pointer -msse2 -msse -mmmx -mfpmath=sse -pedantic -D_FORTIFY_SOURCE=2 -Wpointer-arith -Wstrict-prototypes -fstack-protector -Wstack-protector -Wextra -Wbad-function-cast -Wcast-align -Wcast-qual -Wdisabled-optimization -Wendif-labels -Wfloat-equal -Wformat-nonliteral -Winline -Wmissing-declarations -Wmissing-prototypes -Wnested-externs -Wpointer-arith -Wundef -Wformat-security -ftree-vectorize -fassociative-math -ftree-vectorizer-verbose=2 -fno-strict-aliasing -I/usr/local/include'
ccversion='', gccversion='4.7.3', gccosandvers=''
intsize=4, longsize=8, ptrsize=8, doublesize=8, byteorder=12345678
d_longlong=define, longlongsize=8, d_longdbl=define, longdblsize=16
ivtype='long', ivsize=8, nvtype='double', nvsize=8, Off_t='off_t', lseeksize=8
alignbytes=8, prototype=define
Linker and Libraries:
ld='cc', ldflags =' -fstack-protector -L/usr/local/lib'
libpth=/usr/local/lib /lib/x86_64-linux-gnu /lib/../lib /usr/lib/x86_64-linux-gnu /usr/lib/../lib /lib /usr/lib
libs=-lnsl -lgdbm -ldb -ldl -lm -lcrypt -lutil -lpthread -lc -lgdbm_compat
perllibs=-lnsl -ldl -lm -lcrypt -lutil -lpthread -lc
libc=, so=so, useshrplib=false, libperl=libperl.a
gnulibc_version='2.17'
Dynamic Linking:
dlsrc=dl_dlopen.xs, dlext=so, d_dlsymun=undef, ccdlflags='-Wl,-E'
cccdlflags='-fPIC', lddlflags='-shared -O2 -L/usr/local/lib -fstack-protector'
Characteristics of this binary (from libperl):
Compile-time options: HAS_TIMES MULTIPLICITY PERLIO_LAYERS
PERL_DONT_CREATE_GVSV
PERL_HASH_FUNC_ONE_AT_A_TIME_HARD
PERL_IMPLICIT_CONTEXT PERL_MALLOC_WRAP
PERL_PRESERVE_IVUV PERL_SAWAMPERSAND USE_64_BIT_ALL
USE_64_BIT_INT USE_ITHREADS USE_LARGE_FILES
USE_LOCALE USE_LOCALE_COLLATE USE_LOCALE_CTYPE
USE_LOCALE_NUMERIC USE_PERLIO USE_PERL_ATOF
USE_REENTRANT_API
Built under linux
Compiled at May 20 2013 00:08:47
%ENV:
PERL5LIB="/home/njh/.cpan/build/DateTime-Format-ISO8601-0.08-1/blib/arch:/home/njh/.cpan/build/DateTime-Format-ISO8601-0.08-1/blib/lib:/home/njh/.cpan/build/DateTime-Format-Builder-0.81-1/blib/arch:/home/njh/.cpan/build/DateTime-Format-Builder-0.81-1/blib/lib:/home/njh/.cpan/build/Class-Factory-Util-1.7-1/blib/arch:/home/njh/.cpan/build/Class-Factory-Util-1.7-1/blib/lib"
PERL5OPT=""
PERL5_CPANPLUS_IS_RUNNING="22581"
PERL5_CPAN_IS_RUNNING="22581"
PERL5_MINISMOKEBOX="0.58"
PERLBREW_LIB=""
PERLBREW_MANPATH="/home/njh/perl5/perlbrew/perls/perl-5.18.0/man"
PERLBREW_PATH="/home/njh/perl5/perlbrew/bin:/home/njh/perl5/perlbrew/perls/perl-5.18.0/bin"
PERLBREW_PERL="perl-5.18.0"
PERLBREW_ROOT="/home/njh/perl5/perlbrew"
PERLBREW_SHELLRC_VERSION="0.82"
PERLBREW_VERSION="0.82"
PERL_EXTUTILS_AUTOINSTALL="--defaultdeps"
PERL_LOCAL_LIB_ROOT=""
PERL_MM_USE_DEFAULT="1"
@INC:
/home/njh/.cpan/build/DateTime-Format-ISO8601-0.08-1/blib/arch
/home/njh/.cpan/build/DateTime-Format-ISO8601-0.08-1/blib/lib
/home/njh/.cpan/build/DateTime-Format-Builder-0.81-1/blib/arch
/home/njh/.cpan/build/DateTime-Format-Builder-0.81-1/blib/lib
/home/njh/.cpan/build/Class-Factory-Util-1.7-1/blib/arch
/home/njh/.cpan/build/Class-Factory-Util-1.7-1/blib/lib
/home/njh/perl5/perlbrew/perls/perl-5.18.0/lib/site_perl/5.18.0/x86_64-linux-thread-multi
/home/njh/perl5/perlbrew/perls/perl-5.18.0/lib/site_perl/5.18.0
/home/njh/perl5/perlbrew/perls/perl-5.18.0/lib/5.18.0/x86_64-linux-thread-multi
/home/njh/perl5/perlbrew/perls/perl-5.18.0/lib/5.18.0
.